Workbook
Name Adj_modifier: tüdruk!#REF!
Name Adj_modifier: 'tüdruk (2)'!#REF!
Name subject_of: tüdruk!#REF!
Name subject_of: 'tüdruk (2)'!#REF!

Sheet mees (2)
A1: Adj_modifier | B1: erinevus paarikust | C1: normaliseeritud koosesinemissagedus | D1: absoluutne koosesinemissagedus | E1: subject_of | F1: erinevus paarikust | H1: normaliseeritud koosesinemissagedus | I1: absoluutne koosesinemissagedus | J1: object_of | K1: normaliseeritud koosesinemissagedus | L1: absoluutne koosesinemissagedus
D2: 43922 | I2: 52914 | L2: 5823
A3: noor | B3: =IF(ISERROR(MATCH(A3,naine!$A:$A,0)),"*",C3/LOOKUP(A3,naine!$A:$A,naine!$B:$B)) -> 0.66419028 | C3: =D3/$D$2*10000 -> 1009.9722 | D3: 4436 | E3: saama | F3: =IF(ISERROR(MATCH(E3,naine!$D:$D,0)),"*",H3/LOOKUP(E3,naine!$D:$D,naine!$E:$E)) -> 0.81609003 | G3: =IF(ISERROR(MATCH(E3,poiss!$D:$D,0)),"*",H3/LOOKUP(E3,poiss!$D:$D,poiss!$E:$E)) -> 0.67243503 | H3: =I3/$I$2*10000 -> 417.09188 | I3: 2207 | J3: viima | K3: =L3/$L$2*10000 -> 650.86725 | L3: 379
A4: vana | B4: =IF(ISERROR(MATCH(A4,naine!$A:$A,0)),"*",C4/LOOKUP(A4,naine!$A:$A,naine!$B:$B)) -> 1.0080633 | C4: =D4/$D$2*10000 -> 328.0816 | D4: 1441 | E4: pidama | F4: =IF(ISERROR(MATCH(E4,naine!$D:$D,0)),"*",H4/LOOKUP(E4,naine!$D:$D,naine!$E:$E)) -> 0.83465136 | G4: =IF(ISERROR(MATCH(E4,poiss!$D:$D,0)),"*",H4/LOOKUP(E4,poiss!$D:$D,poiss!$E:$E)) -> 1.1232919 | H4: =I4/$I$2*10000 -> 290.66032 | I4: 1538 | J4: süüdistama | K4: =L4/$L$2*10000 -> 477.41714 | L4: 278
A5: uus | B5: =IF(ISERROR(MATCH(A5,naine!$A:$A,0)),"*",C5/LOOKUP(A5,naine!$A:$A,naine!$B:$B)) -> 1.984026 | C5: =D5/$D$2*10000 -> 226.53795 | D5: 995 | E5: ütlema | F5: =IF(ISERROR(MATCH(E5,naine!$D:$D,0)),"*",H5/LOOKUP(E5,naine!$D:$D,naine!$E:$E)) -> 0.75182274 | G5: =IF(ISERROR(MATCH(E5,poiss!$D:$D,0)),"*",H5/LOOKUP(E5,poiss!$D:$D,poiss!$E:$E)) -> 0.86395024 | H5: =I5/$I$2*10000 -> 256.64285 | I5: 1358 | J5: vahistama | K5: =L5/$L$2*10000 -> 353.76953 | L5: 206
A6: õige | B6: =IF(ISERROR(MATCH(A6,naine!$A:$A,0)),"*",C6/LOOKUP(A6,naine!$A:$A,naine!$B:$B)) -> 7.2793756 | C6: =D6/$D$2*10000 -> 206.27476 | D6: 906 | E6: tulema | F6: =IF(ISERROR(MATCH(E6,naine!$D:$D,0)),"*",H6/LOOKUP(E6,naine!$D:$D,naine!$E:$E)) -> 1.3915673 | G6: =IF(ISERROR(MATCH(E6,poiss!$D:$D,0)),"*",H6/LOOKUP(E6,poiss!$D:$D,poiss!$E:$E)) -> 0.94485986 | H6: =I6/$I$2*10000 -> 238.31122 | I6: 1261 | J6: pidama | K6: =L6/$L$2*10000 -> 336.59626 | L6: 196
A7: tundmatu | B7: =IF(ISERROR(MATCH(A7,naine!$A:$A,0)),"*",C7/LOOKUP(A7,naine!$A:$A,naine!$B:$B)) -> 4.0528786 | C7: =D7/$D$2*10000 -> 206.04708 | D7: 905 | E7: tegema | F7: =IF(ISERROR(MATCH(E7,naine!$D:$D,0)),"*",H7/LOOKUP(E7,naine!$D:$D,naine!$E:$E)) -> 1.2102185 | G7: =IF(ISERROR(MATCH(E7,poiss!$D:$D,0)),"*",H7/LOOKUP(E7,poiss!$D:$D,poiss!$E:$E)) -> 0.82539428 | H7: =I7/$I$2*10000 -> 222.05843 | I7: 1175 | J7: võtma | K7: =L7/$L$2*10000 -> 324.57496 | L7: 189
A8: keskealine | B8: =IF(ISERROR(MATCH(A8,naine!$A:$A,0)),"*",C8/LOOKUP(A8,naine!$A:$A,naine!$B:$B)) -> 1.0238777 | C8: =D8/$D$2*10000 -> 162.5609 | D8: 714 | E8: minema | F8: =IF(ISERROR(MATCH(E8,naine!$D:$D,0)),"*",H8/LOOKUP(E8,naine!$D:$D,naine!$E:$E)) -> 1.2198195 | G8: =IF(ISERROR(MATCH(E8,poiss!$D:$D,0)),"*",H8/LOOKUP(E8,poiss!$D:$D,poiss!$E:$E)) -> 0.83473882 | H8: =I8/$I$2*10000 -> 185.58416 | I8: 982 | J8: toimetama | K8: =L8/$L$2*10000 -> 315.98832 | L8: 184
A9: kõva | B9: =IF(ISERROR(MATCH(A9,naine!$A:$A,0)),"*",C9/LOOKUP(A9,naine!$A:$A,naine!$B:$B)) -> 88.372905 | C9: =D9/$D$2*10000 -> 147.30659 | D9: 647 | E9: rääkima | F9: =IF(ISERROR(MATCH(E9,naine!$D:$D,0)),"*",H9/LOOKUP(E9,naine!$D:$D,naine!$E:$E)) -> 0.71207075 | G9: =IF(ISERROR(MATCH(E9,poiss!$D:$D,0)),"*",H9/LOOKUP(E9,poiss!$D:$D,poiss!$E:$E)) -> 0.91680702 | H9: =I9/$I$2*10000 -> 175.5679 | I9: 929 | J9: tabama | K9: =L9/$L$2*10000 -> 286.79375 | L9: 167
A10: suur | B10: =IF(ISERROR(MATCH(A10,naine!$A:$A,0)),"*",C10/LOOKUP(A10,naine!$A:$A,naine!$B:$B)) -> 5.7367265 | C10: =D10/$D$2*10000 -> 143.43609 | D10: 630 | E10: võtma | F10: =IF(ISERROR(MATCH(E10,naine!$D:$D,0)),"*",H10/LOOKUP(E10,naine!$D:$D,naine!$E:$E)) -> 1.2418534 | G10: =IF(ISERROR(MATCH(E10,poiss!$D:$D,0)),"*",H10/LOOKUP(E10,poiss!$D:$D,poiss!$E:$E)) -> 1.1537104 | H10: =I10/$I$2*10000 -> 159.5041 | I10: 844 | J10: kahtlustama | K10: =L10/$L$2*10000 -> 279.92444 | L10: 163
A11: hea | B11: =IF(ISERROR(MATCH(A11,naine!$A:$A,0)),"*",C11/LOOKUP(A11,naine!$A:$A,naine!$B:$B)) -> 2.5844962 | C11: =D11/$D$2*10000 -> 123.85593 | D11: 544 | E11: jääma | F11: =IF(ISERROR(MATCH(E11,naine!$D:$D,0)),"*",H11/LOOKUP(E11,naine!$D:$D,naine!$E:$E)) -> 1.0185118 | G11: =IF(ISERROR(MATCH(E11,poiss!$D:$D,0)),"*",H11/LOOKUP(E11,poiss!$D:$D,poiss!$E:$E)) -> 0.82735489 | H11: =I11/$I$2*10000 -> 155.34641 | I11: 822 | J11: leidma | K11: =L11/$L$2*10000 -> 230.12193 | L11: 134
A12: võõras | B12: =IF(ISERROR(MATCH(A12,naine!$A:$A,0)),"*",C12/LOOKUP(A12,naine!$A:$A,naine!$B:$B)) -> 1.241494 | C12: =D12/$D$2*10000 -> 115.88725 | D12: 509 | E12: võima | F12: =IF(ISERROR(MATCH(E12,naine!$D:$D,0)),"*",H12/LOOKUP(E12,naine!$D:$D,naine!$E:$E)) -> 0.79424365 | G12: =IF(ISERROR(MATCH(E12,poiss!$D:$D,0)),"*",H12/LOOKUP(E12,poiss!$D:$D,poiss!$E:$E)) -> 1.4104401 | H12: =I12/$I$2*10000 -> 139.66058 | I12: 739 | J12: mõistma | K12: =L12/$L$2*10000 -> 211.23132 | L12: 123
A13: vaba | B13: =IF(ISERROR(MATCH(A13,naine!$A:$A,0)),"*",C13/LOOKUP(A13,naine!$A:$A,naine!$B:$B)) -> 6.1191749 | C13: =D13/$D$2*10000 -> 114.74887 | D13: 504 | E13: tahtma | F13: =IF(ISERROR(MATCH(E13,naine!$D:$D,0)),"*",H13/LOOKUP(E13,naine!$D:$D,naine!$E:$E)) -> 0.73941231 | G13: =IF(ISERROR(MATCH(E13,poiss!$D:$D,0)),"*",H13/LOOKUP(E13,poiss!$D:$D,poiss!$E:$E)) -> 0.7458109 | H13: =I13/$I$2*10000 -> 128.88838 | I13: 682 | J13: nägema | K13: =L13/$L$2*10000 -> 195.77537 | L13: 114
A14: valge | B14: =IF(ISERROR(MATCH(A14,naine!$A:$A,0)),"*",C14/LOOKUP(A14,naine!$A:$A,naine!$B:$B)) -> 2.4911779 | C14: =D14/$D$2*10000 -> 113.15514 | D14: 497 | E14: tunnistama | F14: =IF(ISERROR(MATCH(E14,naine!$D:$D,0)),"*",H14/LOOKUP(E14,naine!$D:$D,naine!$E:$E)) -> 1.2751068 | G14: =IF(ISERROR(MATCH(E14,poiss!$D:$D,0)),"*",H14/LOOKUP(E14,poiss!$D:$D,poiss!$E:$E)) -> 1.5271893 | H14: =I14/$I$2*10000 -> 116.98227 | I14: 619 | J14: saatma | K14: =L14/$L$2*10000 -> 180.31942 | L14: 105
... A383: 20-25aastane | B383: =IF(ISERROR(MATCH(A383,naine!$A:$A,0)),"*",C383/LOOKUP(A383,naine!$A:$A,naine!$B:$B)) -> 1.1707605 | C383: =D383/$D$2*10000 -> 3.415145 | D383: 15 | E383: piirduma | F383: =IF(ISERROR(MATCH(E383,naine!$D:$D,0)),"*",H383/LOOKUP(E383,naine!$D:$D,naine!$E:$E)) -> 1.2006544 | G383: =IF(ISERROR(MATCH(E383,poiss!$D:$D,0)),"*",H383/LOOKUP(E383,poiss!$D:$D,poiss!$E:$E)) -> * | H383: =I383/$I$2*10000 -> 3.2127603 | I383: 17 | J383: hakkima | K383: =L383/$L$2*10000 -> 1.7173278 | L383: 1
A384: 79aastane | B384: =IF(ISERROR(MATCH(A384,naine!$A:$A,0)),"*",C384/LOOKUP(A384,naine!$A:$A,naine!$B:$B)) -> 0.6304095 | C384: =D384/$D$2*10000 -> 3.415145 | D384: 15 | E384: valitsema | F384: =IF(ISERROR(MATCH(E384,naine!$D:$D,0)),"*",H384/LOOKUP(E384,naine!$D:$D,naine!$E:$E)) -> 1.2006544 | G384: =IF(ISERROR(MATCH(E384,poiss!$D:$D,0)),"*",H384/LOOKUP(E384,poiss!$D:$D,poiss!$E:$E)) -> * | H384: =I384/$I$2*10000 -> 3.2127603 | I384: 17 | J384: muserdama | K384: ignoreerima | L384: 1
A385: 85aastane | B385: =IF(ISERROR(MATCH(A385,naine!$A:$A,0)),"*",C385/LOOKUP(A385,naine!$A:$A,naine!$B:$B)) -> 0.68294363 | C385: =D385/$D$2*10000 -> 3.415145 | D385: 15 | E385: sõlmima | F385: =IF(ISERROR(MATCH(E385,naine!$D:$D,0)),"*",H385/LOOKUP(E385,naine!$D:$D,naine!$E:$E)) -> 2.801527 | G385: =IF(ISERROR(MATCH(E385,poiss!$D:$D,0)),"*",H385/LOOKUP(E385,poiss!$D:$D,poiss!$E:$E)) -> * | H385: =I385/$I$2*10000 -> 3.2127603 | I385: 17 | J385: naeruvääristama | K385: =L385/$L$2*10000 -> 1.7173278 | L385: 1
A386: elurõõmus | B386: =IF(ISERROR(MATCH(A386,naine!$A:$A,0)),"*",C386/LOOKUP(A386,naine!$A:$A,naine!$B:$B)) -> 0.51220772 | C386: =D386/$D$2*10000 -> 3.415145 | D386: 15 | E386: rüüpama | F386: =IF(ISERROR(MATCH(E386,naine!$D:$D,0)),"*",H386/LOOKUP(E386,naine!$D:$D,naine!$E:$E)) -> 4.2022905 | G386: =IF(ISERROR(MATCH(E386,poiss!$D:$D,0)),"*",H386/LOOKUP(E386,poiss!$D:$D,poiss!$E:$E)) -> 3.4392599 | H386: =I386/$I$2*10000 -> 3.2127603 | I386: 17 | J386: kõnetama | K386: =L386/$L$2*10000 -> 1.7173278 | L386: 1
A387: hall | B387: =IF(ISERROR(MATCH(A387,naine!$A:$A,0)),"*",C387/LOOKUP(A387,naine!$A:$A,naine!$B:$B)) -> 1.1707605 | C387: =D387/$D$2*10000 -> 3.415145 | D387: 15 | E387: liituma | F387: =IF(ISERROR(MATCH(E387,naine!$D:$D,0)),"*",H387/LOOKUP(E387,naine!$D:$D,naine!$E:$E)) -> 4.2022905 | G387: =IF(ISERROR(MATCH(E387,poiss!$D:$D,0)),"*",H387/LOOKUP(E387,poiss!$D:$D,poiss!$E:$E)) -> 3.4392599 | H387: =I387/$I$2*10000 -> 3.2127603 | I387: 17 | J387: mõjustama | K387: =L387/$L$2*10000 -> 1.7173278 | L387: 1
A388: kihvt | B388: =IF(ISERROR(MATCH(A388,naine!$A:$A,0)),"*",C388/LOOKUP(A388,naine!$A:$A,naine!$B:$B)) -> 2.0488309 | C388: =D388/$D$2*10000 -> 3.415145 | D388: 15 | E388: suusatama | F388: =IF(ISERROR(MATCH(E388,naine!$D:$D,0)),"*",H388/LOOKUP(E388,naine!$D:$D,naine!$E:$E)) -> 0.32325312 | G388: =IF(ISERROR(MATCH(E388,poiss!$D:$D,0)),"*",H388/LOOKUP(E388,poiss!$D:$D,poiss!$E:$E)) -> 3.4392599 | H388: =I388/$I$2*10000 -> 3.2127603 | I388: 17 | J388: shokeerima | K388: =L388/$L$2*10000 -> 1.7173278 | L388: 1
A389: käituv | B389: =IF(ISERROR(MATCH(A389,naine!$A:$A,0)),"*",C389/LOOKUP(A389,naine!$A:$A,naine!$B:$B)) -> 2.0488309 | C389: =D389/$D$2*10000 -> 3.415145 | D389: 15 | E389: tunnetama | F389: =IF(ISERROR(MATCH(E389,naine!$D:$D,0)),"*",H389/LOOKUP(E389,naine!$D:$D,naine!$E:$E)) -> 0.35019088 | G389: =IF(ISERROR(MATCH(E389,poiss!$D:$D,0)),"*",H389/LOOKUP(E389,poiss!$D:$D,poiss!$E:$E)) -> 1.71963 | H389: =I389/$I$2*10000 -> 3.2127603 | I389: 17 | J389: seljatama | K389: =L389/$L$2*10000 -> 1.7173278 | L389: 1
A390: murelik | B390: =IF(ISERROR(MATCH(A390,naine!$A:$A,0)),"*",C390/LOOKUP(A390,naine!$A:$A,naine!$B:$B)) -> 0.81953235 | C390: =D390/$D$2*10000 -> 3.415145 | D390: 15 | E390: sõimama | F390: =IF(ISERROR(MATCH(E390,naine!$D:$D,0)),"*",H390/LOOKUP(E390,naine!$D:$D,naine!$E:$E)) -> 0.70038175 | G390: =IF(ISERROR(MATCH(E390,poiss!$D:$D,0)),"*",H390/LOOKUP(E390,poiss!$D:$D,poiss!$E:$E)) -> 1.14642 | H390: =I390/$I$2*10000 -> 3.2127603 | I390: 17 | J390: surmama | K390: =L390/$L$2*10000 -> 1.7173278 | L390: 1
A391: pensioniealine | B391: =IF(ISERROR(MATCH(A391,naine!$A:$A,0)),"*",C391/LOOKUP(A391,naine!$A:$A,naine!$B:$B)) -> 0.68294363 | C391: =D391/$D$2*10000 -> 3.415145 | D391: 15 | E391: taluma | F391: =IF(ISERROR(MATCH(E391,naine!$D:$D,0)),"*",H391/LOOKUP(E391,naine!$D:$D,naine!$E:$E)) -> 0.44234637 | G391: =IF(ISERROR(MATCH(E391,poiss!$D:$D,0)),"*",H391/LOOKUP(E391,poiss!$D:$D,poiss!$E:$E)) -> 1.14642 | H391: =I391/$I$2*10000 -> 3.2127603 | I391: 17 | J391: oigama | K391: =L391/$L$2*10000 -> 1.7173278 | L391: 1
A392: samaealine | B392: =IF(ISERROR(MATCH(A392,naine!$A:$A,0)),"*",C392/LOOKUP(A392,naine!$A:$A,naine!$B:$B)) -> 0.43133282 | C392: =D392/$D$2*10000 -> 3.415145 | D392: 15 | E392: püstitama | F392: =IF(ISERROR(MATCH(E392,naine!$D:$D,0)),"*",H392/LOOKUP(E392,naine!$D:$D,naine!$E:$E)) -> 2.1011453 | G392: =IF(ISERROR(MATCH(E392,poiss!$D:$D,0)),"*",H392/LOOKUP(E392,poiss!$D:$D,poiss!$E:$E)) -> 1.14642 | H392: =I392/$I$2*10000 -> 3.2127603 | I392: 17 | J392: represseerima | K392: =L392/$L$2*10000 -> 1.7173278 | L392: 1
A393: täisealine | B393: =IF(ISERROR(MATCH(A393,naine!$A:$A,0)),"*",C393/LOOKUP(A393,naine!$A:$A,naine!$B:$B)) -> 0.9105915 | C393: =D393/$D$2*10000 -> 3.415145 | D393: 15 | E393: kiskuma | F393: =IF(ISERROR(MATCH(E393,naine!$D:$D,0)),"*",H393/LOOKUP(E393,naine!$D:$D,naine!$E:$E)) -> 1.4007635 | G393: =IF(ISERROR(MATCH(E393,poiss!$D:$D,0)),"*",H393/LOOKUP(E393,poiss!$D:$D,poiss!$E:$E)) -> 0.57320999 | H393: =I393/$I$2*10000 -> 3.2127603 | I393: 17 | J393: kohutama | K393: =L393/$L$2*10000 -> 1.7173278 | L393: 1
A394: venekeelne | B394: =IF(ISERROR(MATCH(A394,naine!$A:$A,0)),"*",C394/LOOKUP(A394,naine!$A:$A,naine!$B:$B)) -> 1.1707605 | C394: =D394/$D$2*10000 -> 3.415145 | D394: 15 | E394: mahtuma | F394: =IF(ISERROR(MATCH(E394,naine!$D:$D,0)),"*",H394/LOOKUP(E394,naine!$D:$D,naine!$E:$E)) -> 2.1011453 | G394: =IF(ISERROR(MATCH(E394,poiss!$D:$D,0)),"*",H394/LOOKUP(E394,poiss!$D:$D,poiss!$E:$E)) -> 0.57320999 | H394: =I394/$I$2*10000 -> 3.2127603 | I394: 17 | J394: küttima | K394: =L394/$L$2*10000 -> 1.7173278 | L394: 1
A395: viljatu | B395: =IF(ISERROR(MATCH(A395,naine!$A:$A,0)),"*",C395/LOOKUP(A395,naine!$A:$A,naine!$B:$B)) -> 0.29269013 | C395: =D395/$D$2*10000 -> 3.415145 | D395: 15 | E395: pajatama | F395: =IF(ISERROR(MATCH(E395,naine!$D:$D,0)),"*",H395/LOOKUP(E395,naine!$D:$D,naine!$E:$E)) -> 1.9775485 | G395: =IF(ISERROR(MATCH(E395,poiss!$D:$D,0)),"*",H395/LOOKUP(E395,poiss!$D:$D,poiss!$E:$E)) -> * | H395: =I395/$I$2*10000 -> 3.0237744 | I395: 16 | J395: atesteerima | K395: =L395/$L$2*10000 -> 1.7173278 | L395: 1
A396: arg | B396: =IF(ISERROR(MATCH(A396,naine!$A:$A,0)),"*",C396/LOOKUP(A396,naine!$A:$A,naine!$B:$B)) -> * | C396: =D396/$D$2*10000 -> 3.1874687 | D396: 14 | E396: hammustama | F396: =IF(ISERROR(MATCH(E396,naine!$D:$D,0)),"*",H396/LOOKUP(E396,naine!$D:$D,naine!$E:$E)) -> 1.5820388 | G396: =IF(ISERROR(MATCH(E396,poiss!$D:$D,0)),"*",H396/LOOKUP(E396,poiss!$D:$D,poiss!$E:$E)) -> * | H396: =I396/$I$2*10000 -> 3.0237744 | I396: 16 | J396: kruttima | K396: =L396/$L$2*10000 -> 1.7173278 | L396: 1
... A546: kükitav | B546: =IF(ISERROR(MATCH(A546,naine!$A:$A,0)),"*",C546/LOOKUP(A546,naine!$A:$A,naine!$B:$B)) -> 0.81953235 | C546: =D546/$D$2*10000 -> 2.049087 | D546: 9 | E546: kaklema | F546: =IF(ISERROR(MATCH(E546,naine!$D:$D,0)),"*",H546/LOOKUP(E546,naine!$D:$D,naine!$E:$E)) -> 0.98877424 | G546: =IF(ISERROR(MATCH(E546,poiss!$D:$D,0)),"*",H546/LOOKUP(E546,poiss!$D:$D,poiss!$E:$E)) -> 0.16859117 | H546: =I546/$I$2*10000 -> 1.889859 | I546: 10 | J546: kukkuma | K546: =L546/$L$2*10000 -> 1.7173278 | L546: 1
A547: mõistev | B547: =IF(ISERROR(MATCH(A547,naine!$A:$A,0)),"*",C547/LOOKUP(A547,naine!$A:$A,naine!$B:$B)) -> 0.49171941 | C547: =D547/$D$2*10000 -> 2.049087 | D547: 9 | E547: lõõpima | F547: =IF(ISERROR(MATCH(E547,naine!$D:$D,0)),"*",H547/LOOKUP(E547,naine!$D:$D,naine!$E:$E)) -> * | G547: =IF(ISERROR(MATCH(E547,poiss!$D:$D,0)),"*",H547/LOOKUP(E547,poiss!$D:$D,poiss!$E:$E)) -> * | H547: =I547/$I$2*10000 -> 1.7008731 | I547: 9
A548: nimetu | B548: =IF(ISERROR(MATCH(A548,naine!$A:$A,0)),"*",C548/LOOKUP(A548,naine!$A:$A,naine!$B:$B)) -> 1.6390647 | C548: =D548/$D$2*10000 -> 2.049087 | D548: 9 | E548: urisema | F548: =IF(ISERROR(MATCH(E548,naine!$D:$D,0)),"*",H548/LOOKUP(E548,naine!$D:$D,naine!$E:$E)) -> * | G548: =IF(ISERROR(MATCH(E548,poiss!$D:$D,0)),"*",H548/LOOKUP(E548,poiss!$D:$D,poiss!$E:$E)) -> * | H548: =I548/$I$2*10000 -> 1.7008731 | I548: 9
A549: nuttev | B549: =IF(ISERROR(MATCH(A549,naine!$A:$A,0)),"*",C549/LOOKUP(A549,naine!$A:$A,naine!$B:$B)) -> 0.14900588 | C549: =D549/$D$2*10000 -> 2.049087 | D549: 9 | E549: tammuma | F549: =IF(ISERROR(MATCH(E549,naine!$D:$D,0)),"*",H549/LOOKUP(E549,naine!$D:$D,naine!$E:$E)) -> * | G549: =IF(ISERROR(MATCH(E549,poiss!$D:$D,0)),"*",H549/LOOKUP(E549,poiss!$D:$D,poiss!$E:$E)) -> * | H549: =I549/$I$2*10000 -> 1.7008731 | I549: 9
A550: nõudlik | B550: =IF(ISERROR(MATCH(A550,naine!$A:$A,0)),"*",C550/LOOKUP(A550,naine!$A:$A,naine!$B:$B)) -> 0.5463549 | C550: =D550/$D$2*10000 -> 2.049087 | D550: 9 | E550: kuritarvitama | F550: =IF(ISERROR(MATCH(E550,naine!$D:$D,0)),"*",H550/LOOKUP(E550,naine!$D:$D,naine!$E:$E)) -> * | G550: =IF(ISERROR(MATCH(E550,poiss!$D:$D,0)),"*",H550/LOOKUP(E550,poiss!$D:$D,poiss!$E:$E)) -> * | H550: =I550/$I$2*10000 -> 1.7008731 | I550: 9
A551: puhkav | B551: =IF(ISERROR(MATCH(A551,naine!$A:$A,0)),"*",C551/LOOKUP(A551,naine!$A:$A,naine!$B:$B)) -> 0.98343882 | C551: =D551/$D$2*10000 -> 2.049087 | D551: 9 | E551: reetma | F551: =IF(ISERROR(MATCH(E551,naine!$D:$D,0)),"*",H551/LOOKUP(E551,naine!$D:$D,naine!$E:$E)) -> * | G551: =IF(ISERROR(MATCH(E551,poiss!$D:$D,0)),"*",H551/LOOKUP(E551,poiss!$D:$D,poiss!$E:$E)) -> * | H551: =I551/$I$2*10000 -> 1.7008731 | I551: 9
A552: rahulolev | B552: =IF(ISERROR(MATCH(A552,naine!$A:$A,0)),"*",C552/LOOKUP(A552,naine!$A:$A,naine!$B:$B)) -> 1.6390647 | C552: =D552/$D$2*10000 -> 2.049087 | D552: 9 | E552: võltsima | F552: =IF(ISERROR(MATCH(E552,naine!$D:$D,0)),"*",H552/LOOKUP(E552,naine!$D:$D,naine!$E:$E)) -> * | G552: =IF(ISERROR(MATCH(E552,poiss!$D:$D,0)),"*",H552/LOOKUP(E552,poiss!$D:$D,poiss!$E:$E)) -> * | H552: =I552/$I$2*10000 -> 1.7008731 | I552: 9
A553: rõõmsameelne | B553: =IF(ISERROR(MATCH(A553,naine!$A:$A,0)),"*",C553/LOOKUP(A553,naine!$A:$A,naine!$B:$B)) -> 0.35122815 | C553: =D553/$D$2*10000 -> 2.049087 | D553: 9 | E553: kurjustama | F553: =IF(ISERROR(MATCH(E553,naine!$D:$D,0)),"*",H553/LOOKUP(E553,naine!$D:$D,naine!$E:$E)) -> 0.49438712 | G553: =IF(ISERROR(MATCH(E553,poiss!$D:$D,0)),"*",H553/LOOKUP(E553,poiss!$D:$D,poiss!$E:$E)) -> * | H553: =I553/$I$2*10000 -> 1.7008731 | I553: 9
A554: rõõmus | B554: =IF(ISERROR(MATCH(A554,naine!$A:$A,0)),"*",C554/LOOKUP(A554,naine!$A:$A,naine!$B:$B)) -> 0.98343882 | C554: =D554/$D$2*10000 -> 2.049087 | D554: 9 | E554: sallima | F554: =IF(ISERROR(MATCH(E554,naine!$D:$D,0)),"*",H554/LOOKUP(E554,naine!$D:$D,naine!$E:$E)) -> 1.112371 | G554: =IF(ISERROR(MATCH(E554,poiss!$D:$D,0)),"*",H554/LOOKUP(E554,poiss!$D:$D,poiss!$E:$E)) -> * | H554: =I554/$I$2*10000 -> 1.7008731 | I554: 9
A555: taotlev | B555: =IF(ISERROR(MATCH(A555,naine!$A:$A,0)),"*",C555/LOOKUP(A555,naine!$A:$A,naine!$B:$B)) -> 0.81953235 | C555: =D555/$D$2*10000 -> 2.049087 | D555: 9 | E555: ravima | F555: =IF(ISERROR(MATCH(E555,naine!$D:$D,0)),"*",H555/LOOKUP(E555,naine!$D:$D,naine!$E:$E)) -> 0.88989681 | G555: =IF(ISERROR(MATCH(E555,poiss!$D:$D,0)),"*",H555/LOOKUP(E555,poiss!$D:$D,poiss!$E:$E)) -> * | H555: =I555/$I$2*10000 -> 1.7008731 | I555: 9
A556: truu | B556: =IF(ISERROR(MATCH(A556,naine!$A:$A,0)),"*",C556/LOOKUP(A556,naine!$A:$A,naine!$B:$B)) -> 0.35122815 | C556: =D556/$D$2*10000 -> 2.049087 | D556: 9 | E556: vormistama | F556: =IF(ISERROR(MATCH(E556,naine!$D:$D,0)),"*",H556/LOOKUP(E556,naine!$D:$D,naine!$E:$E)) -> 2.224742 | G556: =IF(ISERROR(MATCH(E556,poiss!$D:$D,0)),"*",H556/LOOKUP(E556,poiss!$D:$D,poiss!$E:$E)) -> * | H556: =I556/$I$2*10000 -> 1.7008731 | I556: 9
A557: vaatav | B557: =IF(ISERROR(MATCH(A557,naine!$A:$A,0)),"*",C557/LOOKUP(A557,naine!$A:$A,naine!$B:$B)) -> 0.98343882 | C557: =D557/$D$2*10000 -> 2.049087 | D557: 9 | E557: kindlustama | F557: =IF(ISERROR(MATCH(E557,naine!$D:$D,0)),"*",H557/LOOKUP(E557,naine!$D:$D,naine!$E:$E)) -> 1.4831614 | G557: =IF(ISERROR(MATCH(E557,poiss!$D:$D,0)),"*",H557/LOOKUP(E557,poiss!$D:$D,poiss!$E:$E)) -> * | H557: =I557/$I$2*10000 -> 1.7008731 | I557: 9
...

Sheet naine
B1: suhte | C1: 23997 | E1: suhte | F1: 26160 | G1: object_of | H1: suhe | I1: 3055
A2: 105aastane | B2: =C2/$C$1*10000 -> 0.83343751 | C2: 2 | D2: abielluma | E2: =F2/$F$1*10000 -> 17.966361 | F2: 47 | G2: abistama | H2: =I2/$I$1*10000 -> 13.09329 | I2: 4
A3: 106aastane | B3: =C3/$C$1*10000 -> 1.2501563 | C3: 3 | D3: aduma | E3: =F3/$F$1*10000 -> 0.76452599 | F3: 2 | G3: ahistama | H3: =I3/$I$1*10000 -> 42.553191 | I3: 13
A4: 108aastane | B4: =C4/$C$1*10000 -> 1.2501563 | C4: 3 | D4: ahastama | E4: =F4/$F$1*10000 -> 6.4984709 | F4: 17 | G4: ahvatlema | H4: =I4/$I$1*10000 -> 6.5466448 | I4: 2
A5: 125aastane | B5: =C5/$C$1*10000 -> 0.83343751 | C5: 2 | D5: ahhetama | E5: =F5/$F$1*10000 -> 0.76452599 | F5: 2 | G5: aitama | H5: =I5/$I$1*10000 -> 68.739771 | I5: 21
A6: 15-19aastane | B6: =C6/$C$1*10000 -> 2.0835938 | C6: 5 | D6: ahistama | E6: =F6/$F$1*10000 -> 0.76452599 | F6: 2 | G6: ajama | H6: =I6/$I$1*10000 -> 39.279869 | I6: 12
A7: 15-20aastane | B7: =C7/$C$1*10000 -> 1.2501563 | C7: 3 | D7: aimama | E7: =F7/$F$1*10000 -> 3.440367 | F7: 9 | G7: ajendama | H7: =I7/$I$1*10000 -> 6.5466448 | I7: 2
A8: 15-24aastane | B8: =C8/$C$1*10000 -> 2.0835938 | C8: 5 | D8: aitama | E8: =F8/$F$1*10000 -> 9.9388379 | F8: 26 | G8: aktsepteerima | H8: =I8/$I$1*10000 -> 6.5466448 | I8: 2
A9: 15-45aastane | B9: =C9/$C$1*10000 -> 1.2501563 | C9: 3 | D9: ajama | E9: =F9/$F$1*10000 -> 20.259939 | F9: 53 | G9: alahindama | H9: =I9/$I$1*10000 -> 3.2733224 | I9: 1
A10: 16-29aastane | B10: =C10/$C$1*10000 -> 2.0835938 | C10: 5 | D10: aktsepteerima | E10: =F10/$F$1*10000 -> 0.76452599 | F10: 2 | G10: alandama | H10: =I10/$I$1*10000 -> 29.459902 | I10: 9
A11: 16-34aastane | B11: =C11/$C$1*10000 -> 0.83343751 | C11: 2 | D11: alahindama | E11: =F11/$F$1*10000 -> 1.529052 | F11: 4 | G11: alavääristama | H11: =I11/$I$1*10000 -> 13.09329 | I11: 4
A12: 176sentimeetrine | B12: =C12/$C$1*10000 -> 0.83343751 | C12: 2 | D12: algatama | E12: =F12/$F$1*10000 -> 3.440367 | F12: 9 | G12: analüüsima | H12: =I12/$I$1*10000 -> 3.2733224 | I12: 1
A13: 17aastane | B13: =C13/$C$1*10000 -> 2.9170313 | C13: 7 | D13: alistama | E13: =F13/$F$1*10000 -> 1.146789 | F13: 3 | G13: andma | H13: =I13/$I$1*10000 -> 29.459902 | I13: 9
... A471: lodev | B471: =C471/$C$1*10000 -> 1.666875 | C471: 4 | D471: nukrutsema | E471: =F471/$F$1*10000 -> 1.146789 | F471: 3 | G471: üritama | H471: =I471/$I$1*10000 -> 13.09329 | I471: 4
A472: loll | B472: =C472/$C$1*10000 -> 7.5009376 | C472: 18 | D472: nurisema | E472: =F472/$F$1*10000 -> 3.058104 | F472: 8
A473: loomulik | B473: =C473/$C$1*10000 -> 1.2501563 | C473: 3 | D473: nurruma | E473: =F473/$F$1*10000 -> 0.76452599 | F473: 2
A474: loov | B474: =C474/$C$1*10000 -> 1.666875 | C474: 4 | D474: nutma | E474: =F474/$F$1*10000 -> 27.522936 | F474: 72
A475: lopsakas | B475: =C475/$C$1*10000 -> 3.3337501 | C475: 8 | D475: nuuksatama | E475: =F475/$F$1*10000 -> 1.146789 | F475: 3
A476: lugev | B476: =C476/$C$1*10000 -> 1.666875 | C476: 4 | D476: nuuksuma | E476: =F476/$F$1*10000 -> 4.204893 | F476: 11
A477: lugupidav | B477: =C477/$C$1*10000 -> 1.666875 | C477: 4 | D477: nuusutama | E477: =F477/$F$1*10000 -> 1.146789 | F477: 3
A478: luiderkõhn | B478: =C478/$C$1*10000 -> 0.83343751 | C478: 2 | D478: nõksatama | E478: =F478/$F$1*10000 -> 1.146789 | F478: 3
A479: lõbus | B479: =C479/$C$1*10000 -> 12.918281 | C479: 31 | D479: nõudlema | E479: =F479/$F$1*10000 -> 0.382263 | F479: 1
A480: lõdisev | B480: =C480/$C$1*10000 -> 1.2501563 | C480: 3 | D480: nõudma | E480: =F480/$F$1*10000 -> 45.107034 | F480: 118
A481: lõkerdav | B481: =C481/$C$1*10000 -> 0.83343751 | C481: 2 | D481: nõustuma | E481: =F481/$F$1*10000 -> 10.703364 | F481: 28
A482: läbinägelik | B482: =C482/$C$1*10000 -> 0.83343751 | C482: 2 | D482: nõutama | E482: =F482/$F$1*10000 -> 1.529052 | F482: 4
A483: lähenev | B483: =C483/$C$1*10000 -> 6.6675001 | C483: 16 | D483: nägema | E483: =F483/$F$1*10000 -> 69.189602 | F483: 181
... A1000: üritav | B1000: =C1000/$C$1*10000 -> 1.2501563 | C1000: 3 | D1000: üürima | E1000: =F1000/$F$1*10000 -> 1.911315 | F1000: 5

Sheet naine (2)
A1: Adj_modifier | B1: erinevus paarikust | C1: normaliseeritud koosesinemissagedus | D1: absoluutne koosesinemissagedus | E1: subject_of | F1: erinevus paarikust | H1: normaliseeritud koosesinemissagedus | I1: absoluutne koosesinemissagedus | J1: object_of | K1: normaliseeritud koosesinemissagedus | L1: absoluutne koosesinemissagedus
D2: 23997 | G2: võrdlus tüdruk | I2: 26160 | L2: 3055
A3: noor | B3: =IF(ISERROR(MATCH(A3,mees!$A:$A,0)),"*",C3/LOOKUP(A3,mees!$A:$A,mees!$B:$B)) -> 1.5055926 | C3: =D3/$D$2*10000 -> 1520.6067 | D3: 3649 | E3: saama | F3: =IF(ISERROR(MATCH(E3,mees!$D:$D,0)),"*",H3/LOOKUP(E3,mees!$D:$D,mees!$E:$E)) -> 1.225355 | G3: =IF(ISERROR(MATCH(E3,tüdruk!$D:$D,0)),"*",H3/LOOKUP(E3,tüdruk!$D:$D,tüdruk!$E:$E)) -> 0.95422835 | H3: =I3/$I$2*10000 -> 511.08563 | I3: 1337 | J3: viima | K3: =L3/$L$2*10000 -> 540.0982 | L3: 165
A4: vana | B4: =IF(ISERROR(MATCH(A4,mees!$A:$A,0)),"*",C4/LOOKUP(A4,mees!$A:$A,mees!$B:$B)) -> 0.99200123 | C4: =D4/$D$2*10000 -> 325.45735 | D4: 781 | E4: pidama | F4: =IF(ISERROR(MATCH(E4,mees!$D:$D,0)),"*",H4/LOOKUP(E4,mees!$D:$D,mees!$E:$E)) -> 1.198105 | G4: =IF(ISERROR(MATCH(E4,tüdruk!$D:$D,0)),"*",H4/LOOKUP(E4,tüdruk!$D:$D,tüdruk!$E:$E)) -> 1.5159091 | H4: =I4/$I$2*10000 -> 348.24159 | I4: 911 | J4: võtma | K4: =L4/$L$2*10000 -> 523.73159 | L4: 160
A5: ilus | B5: =IF(ISERROR(MATCH(A5,mees!$A:$A,0)),"*",C5/LOOKUP(A5,mees!$A:$A,mees!$B:$B)) -> 5.3138094 | C5: =D5/$D$2*10000 -> 262.53282 | D5: 630 | E5: ütlema | F5: =IF(ISERROR(MATCH(E5,mees!$D:$D,0)),"*",H5/LOOKUP(E5,mees!$D:$D,mees!$E:$E)) -> 1.3301008 | G5: =IF(ISERROR(MATCH(E5,tüdruk!$D:$D,0)),"*",H5/LOOKUP(E5,tüdruk!$D:$D,tüdruk!$E:$E)) -> 1.0888997 | H5: =I5/$I$2*10000 -> 341.36086 | I5: 893 | J5: otsima | K5: =L5/$L$2*10000 -> 320.7856 | L5: 98
A6: elav | B6: =IF(ISERROR(MATCH(A6,mees!$A:$A,0)),"*",C6/LOOKUP(A6,mees!$A:$A,mees!$B:$B)) -> 1.9452018 | C6: =D6/$D$2*10000 -> 204.60891 | D6: 491 | E6: rääkima | F6: =IF(ISERROR(MATCH(E6,mees!$D:$D,0)),"*",H6/LOOKUP(E6,mees!$D:$D,mees!$E:$E)) -> 1.4043548 | G6: =IF(ISERROR(MATCH(E6,tüdruk!$D:$D,0)),"*",H6/LOOKUP(E6,tüdruk!$D:$D,tüdruk!$E:$E)) -> 1.0792463 | H6: =I6/$I$2*10000 -> 246.55963 | I6: 645 | J6: leidma | K6: =L6/$L$2*10000 -> 252.04583 | L6: 77
A7: kaunis | B7: =IF(ISERROR(MATCH(A7,mees!$A:$A,0)),"*",C7/LOOKUP(A7,mees!$A:$A,mees!$B:$B)) -> 38.985648 | C7: =D7/$D$2*10000 -> 177.52219 | D7: 426 | E7: tegema | F7: =IF(ISERROR(MATCH(E7,mees!$D:$D,0)),"*",H7/LOOKUP(E7,mees!$D:$D,mees!$E:$E)) -> 0.82629709 | G7: =IF(ISERROR(MATCH(E7,tüdruk!$D:$D,0)),"*",H7/LOOKUP(E7,tüdruk!$D:$D,tüdruk!$E:$E)) -> 0.91499245 | H7: =I7/$I$2*10000 -> 183.48624 | I7: 480 | J7: pidama | K7: =L7/$L$2*10000 -> 232.40589 | L7: 71
A8: töötav | B8: =IF(ISERROR(MATCH(A8,mees!$A:$A,0)),"*",C8/LOOKUP(A8,mees!$A:$A,mees!$B:$B)) -> 3.6085775 | C8: =D8/$D$2*10000 -> 173.355 | D8: 416 | E8: võima | F8: =IF(ISERROR(MATCH(E8,mees!$D:$D,0)),"*",H8/LOOKUP(E8,mees!$D:$D,mees!$E:$E)) -> 1.2590595 | G8: =IF(ISERROR(MATCH(E8,tüdruk!$D:$D,0)),"*",H8/LOOKUP(E8,tüdruk!$D:$D,tüdruk!$E:$E)) -> 1.4738841 | H8: =I8/$I$2*10000 -> 175.84098 | I8: 460 | J8: peksma | K8: =L8/$L$2*10000 -> 219.3126 | L8: 67
A9: keskealine | B9: =IF(ISERROR(MATCH(A9,mees!$A:$A,0)),"*",C9/LOOKUP(A9,mees!$A:$A,mees!$B:$B)) -> 0.97667916 | C9: =D9/$D$2*10000 -> 158.76985 | D9: 381 | E9: tahtma | F9: =IF(ISERROR(MATCH(E9,mees!$D:$D,0)),"*",H9/LOOKUP(E9,mees!$D:$D,mees!$E:$E)) -> 1.3524254 | G9: =IF(ISERROR(MATCH(E9,tüdruk!$D:$D,0)),"*",H9/LOOKUP(E9,tüdruk!$D:$D,tüdruk!$E:$E)) -> 1.1445031 | H9: =I9/$I$2*10000 -> 174.31193 | I9: 456 | J9: looma | K9: =L9/$L$2*10000 -> 212.76596 | L9: 65
A10: rase | B10: =IF(ISERROR(MATCH(A10,mees!$A:$A,0)),"*",C10/LOOKUP(A10,mees!$A:$A,mees!$B:$B)) -> * | C10: =D10/$D$2*10000 -> 145.01813 | D10: 348 | E10: tulema | F10: =IF(ISERROR(MATCH(E10,mees!$D:$D,0)),"*",H10/LOOKUP(E10,mees!$D:$D,mees!$E:$E)) -> 0.71861418 | G10: =IF(ISERROR(MATCH(E10,tüdruk!$D:$D,0)),"*",H10/LOOKUP(E10,tüdruk!$D:$D,tüdruk!$E:$E)) -> 0.71016256 | H10: =I10/$I$2*10000 -> 171.25382 | I10: 448 | J10: toimetama | K10: =L10/$L$2*10000 -> 206.21931 | L10: 63
A11: uus | B11: =IF(ISERROR(MATCH(A11,mees!$A:$A,0)),"*",C11/LOOKUP(A11,mees!$A:$A,mees!$B:$B)) -> 0.50402565 | C11: =D11/$D$2*10000 -> 114.18094 | D11: 274 | E11: jääma | F11: =IF(ISERROR(MATCH(E11,mees!$D:$D,0)),"*",H11/LOOKUP(E11,mees!$D:$D,mees!$E:$E)) -> 0.98182465 | G11: =IF(ISERROR(MATCH(E11,tüdruk!$D:$D,0)),"*",H11/LOOKUP(E11,tüdruk!$D:$D,tüdruk!$E:$E)) -> 0.93885016 | H11: =I11/$I$2*10000 -> 152.52294 | I11: 399 | J11: tapma | K11: =L11/$L$2*10000 -> 196.39935 | L11: 60
A12: endine | B12: =IF(ISERROR(MATCH(A12,mees!$A:$A,0)),"*",C12/LOOKUP(A12,mees!$A:$A,mees!$B:$B)) -> 3.3991511 | C12: =D12/$D$2*10000 -> 102.92953 | D12: 247 | E12: minema | F12: =IF(ISERROR(MATCH(E12,mees!$D:$D,0)),"*",H12/LOOKUP(E12,mees!$D:$D,mees!$E:$E)) -> 0.81979344 | G12: =IF(ISERROR(MATCH(E12,tüdruk!$D:$D,0)),"*",H12/LOOKUP(E12,tüdruk!$D:$D,tüdruk!$E:$E)) -> 0.87497545 | H12: =I12/$I$2*10000 -> 152.14067 | I12: 398 | J12: armastama | K12: =L12/$L$2*10000 -> 186.57938 | L12: 57
A13: tark | B13: =IF(ISERROR(MATCH(A13,mees!$A:$A,0)),"*",C13/LOOKUP(A13,mees!$A:$A,mees!$B:$B)) -> 0.91314473 | C13: =D13/$D$2*10000 -> 94.595158 | D13: 227 | E13: küsima | F13: =IF(ISERROR(MATCH(E13,mees!$D:$D,0)),"*",H13/LOOKUP(E13,mees!$D:$D,mees!$E:$E)) -> 1.7556498 | G13: =IF(ISERROR(MATCH(E13,tüdruk!$D:$D,0)),"*",H13/LOOKUP(E13,tüdruk!$D:$D,tüdruk!$E:$E)) -> 1.5059251 | H13: =I13/$I$2*10000 -> 135.70336 | I13: 355 | J13: süüdistama | K13: =L13/$L$2*10000 -> 176.75941 | L13: 54
A14: võõras | B14: =IF(ISERROR(MATCH(A14,mees!$A:$A,0)),"*",C14/LOOKUP(A14,mees!$A:$A,mees!$B:$B)) -> 0.80548117 | C14: =D14/$D$2*10000 -> 93.345001 | D14: 224 | E14: võtma | F14: =IF(ISERROR(MATCH(E14,mees!$D:$D,0)),"*",H14/LOOKUP(E14,mees!$D:$D,mees!$E:$E)) -> 0.80524805 | G14: =IF(ISERROR(MATCH(E14,tüdruk!$D:$D,0)),"*",H14/LOOKUP(E14,tüdruk!$D:$D,tüdruk!$E:$E)) -> 1.2493601 | H14: =I14/$I$2*10000 -> 128.44037 | I14: 336 | J14: sundima | K14: =L14/$L$2*10000 -> 160.3928 | L14: 49
... A472: aidsihaige | B472: =IF(ISERROR(MATCH(A472,mees!$A:$A,0)),"*",C472/LOOKUP(A472,mees!$A:$A,mees!$B:$B)) -> 1.3727341 | C472: =D472/$D$2*10000 -> 2.5003125 | D472: 6 | E472: kummarduma | F472: =IF(ISERROR(MATCH(E472,mees!$D:$D,0)),"*",H472/LOOKUP(E472,mees!$D:$D,mees!$E:$E)) -> 1.5170298 | G472: =IF(ISERROR(MATCH(E472,tüdruk!$D:$D,0)),"*",H472/LOOKUP(E472,tüdruk!$D:$D,tüdruk!$E:$E)) -> 0.60237003 | H472: =I472/$I$2*10000 -> 2.293578 | I472: 6 | J472: valmistama | K472: =L472/$L$2*10000 -> 3.2733224 | L472: 1
A473: eilne | B473: =IF(ISERROR(MATCH(A473,mees!$A:$A,0)),"*",C473/LOOKUP(A473,mees!$A:$A,mees!$B:$B)) -> 0.5779933 | C473: =D473/$D$2*10000 -> 2.5003125 | D473: 6 | E473: minestama | F473: =IF(ISERROR(MATCH(E473,mees!$D:$D,0)),"*",H473/LOOKUP(E473,mees!$D:$D,mees!$E:$E)) -> 1.2136239 | G473: =IF(ISERROR(MATCH(E473,tüdruk!$D:$D,0)),"*",H473/LOOKUP(E473,tüdruk!$D:$D,tüdruk!$E:$E)) -> 0.60237003 | H473: =I473/$I$2*10000 -> 2.293578 | I473: 6
A474: higine | B474: =IF(ISERROR(MATCH(A474,mees!$A:$A,0)),"*",C474/LOOKUP(A474,mees!$A:$A,mees!$B:$B)) -> 0.91515606 | C474: =D474/$D$2*10000 -> 2.5003125 | D474: 6 | E474: sööstma | F474: =IF(ISERROR(MATCH(E474,mees!$D:$D,0)),"*",H474/LOOKUP(E474,mees!$D:$D,mees!$E:$E)) -> 1.1032944 | G474: =IF(ISERROR(MATCH(E474,tüdruk!$D:$D,0)),"*",H474/LOOKUP(E474,tüdruk!$D:$D,tüdruk!$E:$E)) -> 0.60237003 | H474: =I474/$I$2*10000 -> 2.293578 | I474: 6
A475: ihaldusväärne | B475: =IF(ISERROR(MATCH(A475,mees!$A:$A,0)),"*",C475/LOOKUP(A475,mees!$A:$A,mees!$B:$B)) -> 1.3727341 | C475: =D475/$D$2*10000 -> 2.5003125 | D475: 6 | E475: süütama | F475: =IF(ISERROR(MATCH(E475,mees!$D:$D,0)),"*",H475/LOOKUP(E475,mees!$D:$D,mees!$E:$E)) -> 0.48544954 | G475: =IF(ISERROR(MATCH(E475,tüdruk!$D:$D,0)),"*",H475/LOOKUP(E475,tüdruk!$D:$D,tüdruk!$E:$E)) -> 0.60237003 | H475: =I475/$I$2*10000 -> 2.293578 | I475: 6
A476: isiklik | B476: =IF(ISERROR(MATCH(A476,mees!$A:$A,0)),"*",C476/LOOKUP(A476,mees!$A:$A,mees!$B:$B)) -> 2.7454682 | C476: =D476/$D$2*10000 -> 2.5003125 | D476: 6 | E476: toibuma | F476: =IF(ISERROR(MATCH(E476,mees!$D:$D,0)),"*",H476/LOOKUP(E476,mees!$D:$D,mees!$E:$E)) -> 1.2136239 | G476: =IF(ISERROR(MATCH(E476,tüdruk!$D:$D,0)),"*",H476/LOOKUP(E476,tüdruk!$D:$D,tüdruk!$E:$E)) -> 0.60237003 | H476: =I476/$I$2*10000 -> 2.293578 | I476: 6
A477: kahtlane | B477: =IF(ISERROR(MATCH(A477,mees!$A:$A,0)),"*",C477/LOOKUP(A477,mees!$A:$A,mees!$B:$B)) -> 0.099835207 | C477: =D477/$D$2*10000 -> 2.5003125 | D477: 6 | E477: sädistama | F477: =IF(ISERROR(MATCH(E477,mees!$D:$D,0)),"*",H477/LOOKUP(E477,mees!$D:$D,mees!$E:$E)) -> * | G477: =IF(ISERROR(MATCH(E477,tüdruk!$D:$D,0)),"*",H477/LOOKUP(E477,tüdruk!$D:$D,tüdruk!$E:$E)) -> 0.36142202 | H477: =I477/$I$2*10000 -> 2.293578 | I477: 6
A478: kogukas | B478: =IF(ISERROR(MATCH(A478,mees!$A:$A,0)),"*",C478/LOOKUP(A478,mees!$A:$A,mees!$B:$B)) -> 0.32299626 | C478: =D478/$D$2*10000 -> 2.5003125 | D478: 6 | E478: iseloomustama | F478: =IF(ISERROR(MATCH(E478,mees!$D:$D,0)),"*",H478/LOOKUP(E478,mees!$D:$D,mees!$E:$E)) -> 1.1032944 | G478: =IF(ISERROR(MATCH(E478,tüdruk!$D:$D,0)),"*",H478/LOOKUP(E478,tüdruk!$D:$D,tüdruk!$E:$E)) -> 0.36142202 | H478: =I478/$I$2*10000 -> 2.293578 | I478: 6
A479: kükitav | B479: =IF(ISERROR(MATCH(A479,mees!$A:$A,0)),"*",C479/LOOKUP(A479,mees!$A:$A,mees!$B:$B)) -> 1.2202081 | C479: =D479/$D$2*10000 -> 2.5003125 | D479: 6 | E479: kommenteerima | F479: =IF(ISERROR(MATCH(E479,mees!$D:$D,0)),"*",H479/LOOKUP(E479,mees!$D:$D,mees!$E:$E)) -> 0.67423547 | G479: =IF(ISERROR(MATCH(E479,tüdruk!$D:$D,0)),"*",H479/LOOKUP(E479,tüdruk!$D:$D,tüdruk!$E:$E)) -> 0.36142202 | H479: =I479/$I$2*10000 -> 2.293578 | I479: 6
A480: liikumisvõimetu | B480: =IF(ISERROR(MATCH(A480,mees!$A:$A,0)),"*",C480/LOOKUP(A480,mees!$A:$A,mees!$B:$B)) -> 2.1963745 | C480: =D480/$D$2*10000 -> 2.5003125 | D480: 6 | E480: sättima | F480: =IF(ISERROR(MATCH(E480,mees!$D:$D,0)),"*",H480/LOOKUP(E480,mees!$D:$D,mees!$E:$E)) -> 0.67423547 | G480: =IF(ISERROR(MATCH(E480,tüdruk!$D:$D,0)),"*",H480/LOOKUP(E480,tüdruk!$D:$D,tüdruk!$E:$E)) -> 0.30118502 | H480: =I480/$I$2*10000 -> 2.293578 | I480: 6
A481: metsik | B481: =IF(ISERROR(MATCH(A481,mees!$A:$A,0)),"*",C481/LOOKUP(A481,mees!$A:$A,mees!$B:$B)) -> 0.47747273 | C481: =D481/$D$2*10000 -> 2.5003125 | D481: 6 | E481: tõrelema | F481: =IF(ISERROR(MATCH(E481,mees!$D:$D,0)),"*",H481/LOOKUP(E481,mees!$D:$D,mees!$E:$E)) -> * | G481: =IF(ISERROR(MATCH(E481,tüdruk!$D:$D,0)),"*",H481/LOOKUP(E481,tüdruk!$D:$D,tüdruk!$E:$E)) -> * | H481: =I481/$I$2*10000 -> 1.911315 | I481: 5
A482: mitmekülgne | B482: =IF(ISERROR(MATCH(A482,mees!$A:$A,0)),"*",C482/LOOKUP(A482,mees!$A:$A,mees!$B:$B)) -> 0.23873636 | C482: =D482/$D$2*10000 -> 2.5003125 | D482: 6 | E482: hõivama | F482: =IF(ISERROR(MATCH(E482,mees!$D:$D,0)),"*",H482/LOOKUP(E482,mees!$D:$D,mees!$E:$E)) -> 0.77796401 | G482: =IF(ISERROR(MATCH(E482,tüdruk!$D:$D,0)),"*",H482/LOOKUP(E482,tüdruk!$D:$D,tüdruk!$E:$E)) -> * | H482: =I482/$I$2*10000 -> 1.911315 | I482: 5
A483: mittesuitsetav | B483: =IF(ISERROR(MATCH(A483,mees!$A:$A,0)),"*",C483/LOOKUP(A483,mees!$A:$A,mees!$B:$B)) -> 2.7454682 | C483: =D483/$D$2*10000 -> 2.5003125 | D483: 6 | E483: hädaldama | F483: =IF(ISERROR(MATCH(E483,mees!$D:$D,0)),"*",H483/LOOKUP(E483,mees!$D:$D,mees!$E:$E)) -> 2.528383 | G483: =IF(ISERROR(MATCH(E483,tüdruk!$D:$D,0)),"*",H483/LOOKUP(E483,tüdruk!$D:$D,tüdruk!$E:$E)) -> * | H483: =I483/$I$2*10000 -> 1.911315 | I483: 5
A484: naasev | B484: =IF(ISERROR(MATCH(A484,mees!$A:$A,0)),"*",C484/LOOKUP(A484,mees!$A:$A,mees!$B:$B)) -> 2.7454682 | C484: =D484/$D$2*10000 -> 2.5003125 | D484: 6 | E484: imetlema | F484: =IF(ISERROR(MATCH(E484,mees!$D:$D,0)),"*",H484/LOOKUP(E484,mees!$D:$D,mees!$E:$E)) -> 2.528383 | G484: =IF(ISERROR(MATCH(E484,tüdruk!$D:$D,0)),"*",H484/LOOKUP(E484,tüdruk!$D:$D,tüdruk!$E:$E)) -> * | H484: =I484/$I$2*10000 -> 1.911315 | I484: 5
... A1001: surmahaige | B1001: =IF(ISERROR(MATCH(A1001,mees!$A:$A,0)),"*",C1001/LOOKUP(A1001,mees!$A:$A,mees!$B:$B)) -> 0.73212485 | C1001: =D1001/$D$2*10000 -> 0.83343751 | D1001: 2 | E1001: tihkuma | F1001: =IF(ISERROR(MATCH(E1001,mees!$D:$D,0)),"*",H1001/LOOKUP(E1001,mees!$D:$D,mees!$E:$E)) -> * | G1001: =IF(ISERROR(MATCH(E1001,tüdruk!$D:$D,0)),"*",H1001/LOOKUP(E1001,tüdruk!$D:$D,tüdruk!$E:$E)) -> 0.30118502 | H1001: =I1001/$I$2*10000 -> 0.382263 | I1001: 1

Sheet mees
A1: adjektiivatribuut | C1: 43922 | D1: subjekt | F1: 52914 | G1: objekt | I1: 5823
A2: 100aastane | B2: =C2/$C$1*10000 -> 0.91070534 | C2: 4 | D2: abielluma | E2: =F2/$F$1*10000 -> 7.9374079 | F2: 42 | G2: aheldama | H2: =I2/$I$1*10000 -> 5.1519835 | I2: 3
A3: 100kilone | B3: =C3/$C$1*10000 -> 5.9195847 | C3: 26 | D3: abistama | E3: =F3/$F$1*10000 -> 1.7008731 | F3: 9 | G3: ahistama | H3: =I3/$I$1*10000 -> 5.1519835 | I3: 3
A4: 10-60aastane | B4: =C4/$C$1*10000 -> 0.68302901 | C4: 3 | D4: adopteerima | E4: =F4/$F$1*10000 -> 0.5669577 | F4: 3 | G4: ahvatlema | H4: =I4/$I$1*10000 -> 5.1519835 | I4: 3
A5: 115kilone | B5: =C5/$C$1*10000 -> 0.68302901 | C5: 3 | D5: ahastama | E5: =F5/$F$1*10000 -> 1.1339154 | F5: 6 | G5: aimama | H5: =I5/$I$1*10000 -> 1.7173278 | I5: 1
A6: 120kilone | B6: =C6/$C$1*10000 -> 2.2767634 | C6: 10 | D6: ahistama | E6: =F6/$F$1*10000 -> 1.7008731 | F6: 9 | G6: aitama | H6: =I6/$I$1*10000 -> 29.194573 | I6: 17
A7: 130kilone | B7: =C7/$C$1*10000 -> 1.366058 | C7: 6 | D7: ahmima | E7: =F7/$F$1*10000 -> 0.5669577 | F7: 3 | G7: ajama | H7: =I7/$I$1*10000 -> 24.04259 | I7: 14
A8: 150kilone | B8: =C8/$C$1*10000 -> 1.5937343 | C8: 7 | D8: aimama | E8: =F8/$F$1*10000 -> 2.2678308 | F8: 12 | G8: ajendama | H8: =I8/$I$1*10000 -> 5.1519835 | I8: 3
A9: 15-29aastane | B9: =C9/$C$1*10000 -> 1.366058 | C9: 6 | D9: aitama | E9: =F9/$F$1*10000 -> 14.173943 | F9: 75 | G9: aktsepteerima | H9: =I9/$I$1*10000 -> 1.7173278 | I9: 1
A10: 17-20aastane | B10: =C10/$C$1*10000 -> 0.91070534 | C10: 4 | D10: ajama | E10: =F10/$F$1*10000 -> 34.58442 | F10: 183 | G10: alahindama | H10: =I10/$I$1*10000 -> 1.7173278 | I10: 1
A11: 17-50aastane | B11: =C11/$C$1*10000 -> 0.68302901 | C11: 3 | D11: aktsepteerima | E11: =F11/$F$1*10000 -> 1.1339154 | F11: 6 | G11: alandama | H11: =I11/$I$1*10000 -> 6.8693114 | I11: 4
A12: 18-20aastane | B12: =C12/$C$1*10000 -> 0.91070534 | C12: 4 | D12: alahindama | E12: =F12/$F$1*10000 -> 0.94492951 | F12: 5 | G12: alavääristama | H12: =I12/$I$1*10000 -> 1.7173278 | I12: 1
A13: 18-24aastane | B13: =C13/$C$1*10000 -> 1.1383817 | C13: 5 | D13: algatama | E13: =F13/$F$1*10000 -> 1.1339154 | F13: 6 | G13: allutama | H13: =I13/$I$1*10000 -> 3.4346557 | I13: 2
... A545: nupukas | B545: =C545/$C$1*10000 -> 1.1383817 | C545: 5 | D545: plaanima | E545: =F545/$F$1*10000 -> 3.5907321 | F545: 19 | G545: üritama | H545: =I545/$I$1*10000 -> 20.607934 | I545: 12
A546: nutikas | B546: =C546/$C$1*10000 -> 10.928464 | C546: 48 | D546: planeerima | E546: =F546/$F$1*10000 -> 1.1339154 | F546: 6
A547: nuttev | B547: =C547/$C$1*10000 -> 2.049087 | C547: 9 | D547: pobisema | E547: =F547/$F$1*10000 -> 1.5118872 | F547: 8
A548: nõgine | B548: =C548/$C$1*10000 -> 1.5937343 | C548: 7 | D548: poetama | E548: =F548/$F$1*10000 -> 2.8347885 | F548: 15
A549: nõrk | B549: =C549/$C$1*10000 -> 7.7409954 | C549: 34 | D549: pomisema | E549: =F549/$F$1*10000 -> 5.669577 | F549: 30
A550: nõudlik | B550: =C550/$C$1*10000 -> 2.049087 | C550: 9 | D550: pooldama | E550: =F550/$F$1*10000 -> 1.5118872 | F550: 8
A551: nägus | B551: =C551/$C$1*10000 -> 5.9195847 | C551: 26 | D551: pooma | E551: =F551/$F$1*10000 -> 5.2916052 | F551: 28
A552: nähtamatu | B552: =C552/$C$1*10000 -> 1.5937343 | C552: 7 | D552: porisema | E552: =F552/$F$1*10000 -> 0.94492951 | F552: 5
A553: näitav | B553: =C553/$C$1*10000 -> 1.1383817 | C553: 5 | D553: praadima | E553: =F553/$F$1*10000 -> 0.75594361 | F553: 4
A554: näiv | B554: =C554/$C$1*10000 -> 0.91070534 | C554: 4 | D554: prantsatama | E554: =F554/$F$1*10000 -> 0.94492951 | F554: 5
A555: näljane | B555: =C555/$C$1*10000 -> 4.098174 | C555: 18 | D555: pressima | E555: =F555/$F$1*10000 -> 2.2678308 | F555: 12
A556: närune | B556: =C556/$C$1*10000 -> 0.91070534 | C556: 4 | D556: produtseerima | E556: =F556/$F$1*10000 -> 0.75594361 | F556: 4
A557: närviline | B557: =C557/$C$1*10000 -> 2.5044397 | C557: 11 | D557: proovima | E557: =F557/$F$1*10000 -> 10.961182 | F557: 58
... A1000: üritav | B1000: =C1000/$C$1*10000 -> 0.91070534 | C1000: 4 | D1000: üürima | E1000: =F1000/$F$1*10000 -> 3.0237744 | F1000: 16

Sheet poiss (2)
A1: Adj_modifier | B1: erinevus paarikust | C1: normaliseeritud koosesinemissagedus | D1: absoluutne koosesinemissagedus | E1: subject_of | F1: erinevus paarikust | H1: normaliseeritud koosesinemissagedus | I1: absoluutne koosesinemissagedus | J1: object_of | K1: normaliseeritud koosesinemissagedus | L1: absoluutne koosesinemissagedus
D2: 10943 | G2: mehega | I2: 10705 | L2: 998
A3: väike | B3: =IF(ISERROR(MATCH(A3,tüdruk!$A:$A,0)),"*",C3/LOOKUP(A3,tüdruk!$A:$A,tüdruk!$B:$B)) -> 0.90212546 | C3: =D3/$D$2*10000 -> 1104.8159 | D3: 1209 | E3: saama | F3: =IF(ISERROR(MATCH(E3,tüdruk!$D:$D,0)),"*",H3/LOOKUP(E3,tüdruk!$D:$D,tüdruk!$E:$E)) -> 1.158084 | G3: =IF(ISERROR(MATCH(E3,mees!$D:$D,0)),"*",H3/LOOKUP(E3,mees!$D:$D,mees!$E:$E)) -> 1.4871325 | H3: =I3/$I$2*10000 -> 620.2709 | I3: 664 | J3: viima | K3: =L3/$L$2*10000 -> 941.88377 | L3: 94
A4: noor | B4: =IF(ISERROR(MATCH(A4,tüdruk!$A:$A,0)),"*",C4/LOOKUP(A4,tüdruk!$A:$A,tüdruk!$B:$B)) -> 0.76991591 | C4: =D4/$D$2*10000 -> 531.84684 | D4: 582 | E4: ütlema | F4: =IF(ISERROR(MATCH(E4,tüdruk!$D:$D,0)),"*",H4/LOOKUP(E4,tüdruk!$D:$D,tüdruk!$E:$E)) -> 0.94757718 | G4: =IF(ISERROR(MATCH(E4,mees!$D:$D,0)),"*",H4/LOOKUP(E4,mees!$D:$D,mees!$E:$E)) -> 1.1574741 | H4: =I4/$I$2*10000 -> 297.05745 | I4: 318 | J4: toimetama | K4: =L4/$L$2*10000 -> 470.94188 | L4: 47
A5: paha | B5: =IF(ISERROR(MATCH(A5,tüdruk!$A:$A,0)),"*",C5/LOOKUP(A5,tüdruk!$A:$A,tüdruk!$B:$B)) -> 5.4495552 | C5: =D5/$D$2*10000 -> 357.30604 | D5: 391 | E5: tegema | F5: =IF(ISERROR(MATCH(E5,tüdruk!$D:$D,0)),"*",H5/LOOKUP(E5,tüdruk!$D:$D,tüdruk!$E:$E)) -> 1.3415901 | G5: =IF(ISERROR(MATCH(E5,mees!$D:$D,0)),"*",H5/LOOKUP(E5,mees!$D:$D,mees!$E:$E)) -> 1.2115422 | H5: =I5/$I$2*10000 -> 269.03316 | I5: 288 | J5: saatma | K5: =L5/$L$2*10000 -> 320.64128 | L5: 32
A6: 14aastane | B6: =IF(ISERROR(MATCH(A6,tüdruk!$A:$A,0)),"*",C6/LOOKUP(A6,tüdruk!$A:$A,tüdruk!$B:$B)) -> 1.1127113 | C6: =D6/$D$2*10000 -> 254.04368 | D6: 278 | E6: pidama | F6: =IF(ISERROR(MATCH(E6,tüdruk!$D:$D,0)),"*",H6/LOOKUP(E6,tüdruk!$D:$D,tüdruk!$E:$E)) -> 1.1263818 | G6: =IF(ISERROR(MATCH(E6,mees!$D:$D,0)),"*",H6/LOOKUP(E6,mees!$D:$D,mees!$E:$E)) -> 0.89024051 | H6: =I6/$I$2*10000 -> 258.75759 | I6: 277 | J6: ootama | K6: =L6/$L$2*10000 -> 290.58116 | L6: 29
A7: 13aastane | B7: =IF(ISERROR(MATCH(A7,tüdruk!$A:$A,0)),"*",C7/LOOKUP(A7,tüdruk!$A:$A,tüdruk!$B:$B)) -> 1.33293 | C7: =D7/$D$2*10000 -> 240.33629 | D7: 263 | E7: tulema | F7: =IF(ISERROR(MATCH(E7,tüdruk!$D:$D,0)),"*",H7/LOOKUP(E7,tüdruk!$D:$D,tüdruk!$E:$E)) -> 1.0459107 | G7: =IF(ISERROR(MATCH(E7,mees!$D:$D,0)),"*",H7/LOOKUP(E7,mees!$D:$D,mees!$E:$E)) -> 1.058358 | H7: =I7/$I$2*10000 -> 252.21859 | I7: 270 | J7: võtma | K7: =L7/$L$2*10000 -> 270.54108 | L7: 27
A8: 12aastane | B8: =IF(ISERROR(MATCH(A8,tüdruk!$A:$A,0)),"*",C8/LOOKUP(A8,tüdruk!$A:$A,tüdruk!$B:$B)) -> 1.2826034 | C8: =D8/$D$2*10000 -> 235.76716 | D8: 258 | E8: minema | F8: =IF(ISERROR(MATCH(E8,tüdruk!$D:$D,0)),"*",H8/LOOKUP(E8,tüdruk!$D:$D,tüdruk!$E:$E)) -> 1.278618 | G8: =IF(ISERROR(MATCH(E8,mees!$D:$D,0)),"*",H8/LOOKUP(E8,mees!$D:$D,mees!$E:$E)) -> 1.1979795 | H8: =I8/$I$2*10000 -> 222.32602 | I8: 238 | J8: leidma | K8: =L8/$L$2*10000 -> 260.52104 | L8: 26
A9: 15aastane | B9: =IF(ISERROR(MATCH(A9,tüdruk!$A:$A,0)),"*",C9/LOOKUP(A9,tüdruk!$A:$A,tüdruk!$B:$B)) -> 1.1472394 | C9: =D9/$D$2*10000 -> 222.97359 | D9: 244 | E9: rääkima | F9: =IF(ISERROR(MATCH(E9,tüdruk!$D:$D,0)),"*",H9/LOOKUP(E9,tüdruk!$D:$D,tüdruk!$E:$E)) -> 0.83823499 | G9: =IF(ISERROR(MATCH(E9,mees!$D:$D,0)),"*",H9/LOOKUP(E9,mees!$D:$D,mees!$E:$E)) -> 1.0907421 | H9: =I9/$I$2*10000 -> 191.4993 | I9: 205 | J9: kutsuma | K9: =L9/$L$2*10000 -> 250.501 | L9: 25
A10: suur | B10: =IF(ISERROR(MATCH(A10,tüdruk!$A:$A,0)),"*",C10/LOOKUP(A10,tüdruk!$A:$A,tüdruk!$B:$B)) -> 2.3414968 | C10: =D10/$D$2*10000 -> 211.09385 | D10: 231 | E10: jääma | F10: =IF(ISERROR(MATCH(E10,tüdruk!$D:$D,0)),"*",H10/LOOKUP(E10,tüdruk!$D:$D,tüdruk!$E:$E)) -> 1.1557676 | G10: =IF(ISERROR(MATCH(E10,mees!$D:$D,0)),"*",H10/LOOKUP(E10,mees!$D:$D,mees!$E:$E)) -> 1.2086712 | H10: =I10/$I$2*10000 -> 187.76273 | I10: 201 | J10: panema | K10: =L10/$L$2*10000 -> 210.42084 | L10: 21
A11: tubli | B11: =IF(ISERROR(MATCH(A11,tüdruk!$A:$A,0)),"*",C11/LOOKUP(A11,tüdruk!$A:$A,tüdruk!$B:$B)) -> 1.7073415 | C11: =D11/$D$2*10000 -> 191.9035 | D11: 210 | E11: käima | F11: =IF(ISERROR(MATCH(E11,tüdruk!$D:$D,0)),"*",H11/LOOKUP(E11,tüdruk!$D:$D,tüdruk!$E:$E)) -> 1.0325337 | G11: =IF(ISERROR(MATCH(E11,mees!$D:$D,0)),"*",H11/LOOKUP(E11,mees!$D:$D,mees!$E:$E)) -> 1.9472124 | H11: =I11/$I$2*10000 -> 182.15787 | I11: 195 | J11: tahtma | K11: =L11/$L$2*10000 -> 200.4008 | L11: 20
A12: puhas | B12: =IF(ISERROR(MATCH(A12,tüdruk!$A:$A,0)),"*",C12/LOOKUP(A12,tüdruk!$A:$A,tüdruk!$B:$B)) -> 26.146715 | C12: =D12/$D$2*10000 -> 183.67906 | D12: 201 | E12: mängima | F12: =IF(ISERROR(MATCH(E12,tüdruk!$D:$D,0)),"*",H12/LOOKUP(E12,tüdruk!$D:$D,tüdruk!$E:$E)) -> 2.7034258 | G12: =IF(ISERROR(MATCH(E12,mees!$D:$D,0)),"*",H12/LOOKUP(E12,mees!$D:$D,mees!$E:$E)) -> 2.384087 | H12: =I12/$I$2*10000 -> 178.4213 | I12: 191 | J12: tooma | K12: =L12/$L$2*10000 -> 190.38076 | L12: 19
A13: hea | B13: =IF(ISERROR(MATCH(A13,tüdruk!$A:$A,0)),"*",C13/LOOKUP(A13,tüdruk!$A:$A,tüdruk!$B:$B)) -> 1.8731975 | C13: =D13/$D$2*10000 -> 175.45463 | D13: 192 | E13: tahtma | F13: =IF(ISERROR(MATCH(E13,tüdruk!$D:$D,0)),"*",H13/LOOKUP(E13,tüdruk!$D:$D,tüdruk!$E:$E)) -> 1.1346839 | G13: =IF(ISERROR(MATCH(E13,mees!$D:$D,0)),"*",H13/LOOKUP(E13,mees!$D:$D,mees!$E:$E)) -> 1.3408225 | H13: =I13/$I$2*10000 -> 172.81644 | I13: 185 | J13: pidama | K13: =L13/$L$2*10000 -> 170.34068 | L13: 17
A14: ilus | B14: =IF(ISERROR(MATCH(A14,tüdruk!$A:$A,0)),"*",C14/LOOKUP(A14,tüdruk!$A:$A,tüdruk!$B:$B)) -> 0.3397466 | C14: =D14/$D$2*10000 -> 169.05785 | D14: 185 | E14: hakkama | F14: =IF(ISERROR(MATCH(E14,tüdruk!$D:$D,0)),"*",H14/LOOKUP(E14,tüdruk!$D:$D,tüdruk!$E:$E)) -> 1.0251585 | G14: =IF(ISERROR(MATCH(E14,mees!$D:$D,0)),"*",H14/LOOKUP(E14,mees!$D:$D,mees!$E:$E)) -> 1.4943723 | H14: =I14/$I$2*10000 -> 145.7263 | I14: 156 | J14: süüdistama | K14: =L14/$L$2*10000 -> 160.32064 | L14: 16
... A227: lahe | B227: =IF(ISERROR(MATCH(A227,tüdruk!$A:$A,0)),"*",C227/LOOKUP(A227,tüdruk!$A:$A,tüdruk!$B:$B)) -> 0.78049895 | C227: =D227/$D$2*10000 -> 4.569131 | D227: 5 | E227: kiusama | F227: =IF(ISERROR(MATCH(E227,tüdruk!$D:$D,0)),"*",H227/LOOKUP(E227,tüdruk!$D:$D,tüdruk!$E:$E)) -> * | G227: =IF(ISERROR(MATCH(E227,mees!$D:$D,0)),"*",H227/LOOKUP(E227,mees!$D:$D,mees!$E:$E)) -> * | H227: =I227/$I$2*10000 -> 6.5390005 | I227: 7 | J227: langema | K227: =L227/$L$2*10000 -> 10.02004 | L227: 1
A228: kodutu | B228: =IF(ISERROR(MATCH(A228,tüdruk!$A:$A,0)),"*",C228/LOOKUP(A228,tüdruk!$A:$A,tüdruk!$B:$B)) -> 1.3008316 | C228: =D228/$D$2*10000 -> 4.569131 | D228: 5 | E228: harjuma | F228: =IF(ISERROR(MATCH(E228,tüdruk!$D:$D,0)),"*",H228/LOOKUP(E228,tüdruk!$D:$D,tüdruk!$E:$E)) -> 1.2880196 | G228: =IF(ISERROR(MATCH(E228,mees!$D:$D,0)),"*",H228/LOOKUP(E228,mees!$D:$D,mees!$E:$E)) -> 3.4600467 | H228: =I228/$I$2*10000 -> 6.5390005 | I228: 7
A229: kange | B229: =IF(ISERROR(MATCH(A229,tüdruk!$A:$A,0)),"*",C229/LOOKUP(A229,tüdruk!$A:$A,tüdruk!$B:$B)) -> 0.3252079 | C229: =D229/$D$2*10000 -> 4.569131 | D229: 5 | E229: üllatama | F229: =IF(ISERROR(MATCH(E229,tüdruk!$D:$D,0)),"*",H229/LOOKUP(E229,tüdruk!$D:$D,tüdruk!$E:$E)) -> * | G229: =IF(ISERROR(MATCH(E229,mees!$D:$D,0)),"*",H229/LOOKUP(E229,mees!$D:$D,mees!$E:$E)) -> 2.6615744 | H229: =I229/$I$2*10000 -> 6.5390005 | I229: 7
A230: nimeline | B230: =IF(ISERROR(MATCH(A230,tüdruk!$A:$A,0)),"*",C230/LOOKUP(A230,tüdruk!$A:$A,tüdruk!$B:$B)) -> 0.55749925 | C230: =D230/$D$2*10000 -> 4.569131 | D230: 5 | E230: igatsema | F230: =IF(ISERROR(MATCH(E230,tüdruk!$D:$D,0)),"*",H230/LOOKUP(E230,tüdruk!$D:$D,tüdruk!$E:$E)) -> 1.0304157 | G230: =IF(ISERROR(MATCH(E230,mees!$D:$D,0)),"*",H230/LOOKUP(E230,mees!$D:$D,mees!$E:$E)) -> 2.6615744 | H230: =I230/$I$2*10000 -> 6.5390005 | I230: 7
A231: suurepärane | B231: =IF(ISERROR(MATCH(A231,tüdruk!$A:$A,0)),"*",C231/LOOKUP(A231,tüdruk!$A:$A,tüdruk!$B:$B)) -> 0.65041579 | C231: =D231/$D$2*10000 -> 4.569131 | D231: 5 | E231: puuduma | F231: =IF(ISERROR(MATCH(E231,tüdruk!$D:$D,0)),"*",H231/LOOKUP(E231,tüdruk!$D:$D,tüdruk!$E:$E)) -> * | G231: =IF(ISERROR(MATCH(E231,mees!$D:$D,0)),"*",H231/LOOKUP(E231,mees!$D:$D,mees!$E:$E)) -> 2.4714619 | H231: =I231/$I$2*10000 -> 6.5390005 | I231: 7
A232: huvitav | B232: =IF(ISERROR(MATCH(A232,tüdruk!$A:$A,0)),"*",C232/LOOKUP(A232,tüdruk!$A:$A,tüdruk!$B:$B)) -> 0.97562369 | C232: =D232/$D$2*10000 -> 4.569131 | D232: 5 | E232: väsima | F232: =IF(ISERROR(MATCH(E232,tüdruk!$D:$D,0)),"*",H232/LOOKUP(E232,tüdruk!$D:$D,tüdruk!$E:$E)) -> 2.5760392 | G232: =IF(ISERROR(MATCH(E232,mees!$D:$D,0)),"*",H232/LOOKUP(E232,mees!$D:$D,mees!$E:$E)) -> 1.8210772 | H232: =I232/$I$2*10000 -> 6.5390005 | I232: 7
A233: keskmine | B233: =IF(ISERROR(MATCH(A233,tüdruk!$A:$A,0)),"*",C233/LOOKUP(A233,tüdruk!$A:$A,tüdruk!$B:$B)) -> 0.78049895 | C233: =D233/$D$2*10000 -> 4.569131 | D233: 5 | E233: valama | F233: =IF(ISERROR(MATCH(E233,tüdruk!$D:$D,0)),"*",H233/LOOKUP(E233,tüdruk!$D:$D,tüdruk!$E:$E)) -> 1.7173595 | G233: =IF(ISERROR(MATCH(E233,mees!$D:$D,0)),"*",H233/LOOKUP(E233,mees!$D:$D,mees!$E:$E)) -> 1.5727485 | H233: =I233/$I$2*10000 -> 6.5390005 | I233: 7
A234: endine | B234: =IF(ISERROR(MATCH(A234,tüdruk!$A:$A,0)),"*",C234/LOOKUP(A234,tüdruk!$A:$A,tüdruk!$B:$B)) -> 0.43361053 | C234: =D234/$D$2*10000 -> 4.569131 | D234: 5 | E234: süütama | F234: =IF(ISERROR(MATCH(E234,tüdruk!$D:$D,0)),"*",H234/LOOKUP(E234,tüdruk!$D:$D,tüdruk!$E:$E)) -> 1.7173595 | G234: =IF(ISERROR(MATCH(E234,mees!$D:$D,0)),"*",H234/LOOKUP(E234,mees!$D:$D,mees!$E:$E)) -> 1.3840187 | H234: =I234/$I$2*10000 -> 6.5390005 | I234: 7
A235: 0115.02kolmeaastane | B235: =IF(ISERROR(MATCH(A235,tüdruk!$A:$A,0)),"*",C235/LOOKUP(A235,tüdruk!$A:$A,tüdruk!$B:$B)) -> * | C235: =D235/$D$2*10000 -> 3.6553048 | D235: 4 | E235: kolima | F235: =IF(ISERROR(MATCH(E235,tüdruk!$D:$D,0)),"*",H235/LOOKUP(E235,tüdruk!$D:$D,tüdruk!$E:$E)) -> 0.46837077 | G235: =IF(ISERROR(MATCH(E235,mees!$D:$D,0)),"*",H235/LOOKUP(E235,mees!$D:$D,mees!$E:$E)) -> 1.3307872 | H235: =I235/$I$2*10000 -> 6.5390005 | I235: 7
A236: kõhelik | B236: =IF(ISERROR(MATCH(A236,tüdruk!$A:$A,0)),"*",C236/LOOKUP(A236,tüdruk!$A:$A,tüdruk!$B:$B)) -> * | C236: =D236/$D$2*10000 -> 3.6553048 | D236: 4 | E236: kahetsema | F236: =IF(ISERROR(MATCH(E236,tüdruk!$D:$D,0)),"*",H236/LOOKUP(E236,tüdruk!$D:$D,tüdruk!$E:$E)) -> 1.2880196 | G236: =IF(ISERROR(MATCH(E236,mees!$D:$D,0)),"*",H236/LOOKUP(E236,mees!$D:$D,mees!$E:$E)) -> 1.235731 | H236: =I236/$I$2*10000 -> 6.5390005 | I236: 7
A237: 9-11aastane | B237: =IF(ISERROR(MATCH(A237,tüdruk!$A:$A,0)),"*",C237/LOOKUP(A237,tüdruk!$A:$A,tüdruk!$B:$B)) -> * | C237: =D237/$D$2*10000 -> 3.6553048 | D237: 4 | E237: kõnelema | F237: =IF(ISERROR(MATCH(E237,tüdruk!$D:$D,0)),"*",H237/LOOKUP(E237,tüdruk!$D:$D,tüdruk!$E:$E)) -> 5.1520785 | G237: =IF(ISERROR(MATCH(E237,mees!$D:$D,0)),"*",H237/LOOKUP(E237,mees!$D:$D,mees!$E:$E)) -> 1.0812646 | H237: =I237/$I$2*10000 -> 6.5390005 | I237: 7
A238: rohesilmne | B238: =IF(ISERROR(MATCH(A238,tüdruk!$A:$A,0)),"*",C238/LOOKUP(A238,tüdruk!$A:$A,tüdruk!$B:$B)) -> * | C238: =D238/$D$2*10000 -> 3.6553048 | D238: 4 | E238: kaitsma | F238: =IF(ISERROR(MATCH(E238,tüdruk!$D:$D,0)),"*",H238/LOOKUP(E238,tüdruk!$D:$D,tüdruk!$E:$E)) -> 5.1520785 | G238: =IF(ISERROR(MATCH(E238,mees!$D:$D,0)),"*",H238/LOOKUP(E238,mees!$D:$D,mees!$E:$E)) -> 1.048499 | H238: =I238/$I$2*10000 -> 6.5390005 | I238: 7
A239: üheteistkümneaastane | B239: =IF(ISERROR(MATCH(A239,tüdruk!$A:$A,0)),"*",C239/LOOKUP(A239,tüdruk!$A:$A,tüdruk!$B:$B)) -> * | C239: =D239/$D$2*10000 -> 3.6553048 | D239: 4 | E239: tekitama | F239: =IF(ISERROR(MATCH(E239,tüdruk!$D:$D,0)),"*",H239/LOOKUP(E239,tüdruk!$D:$D,tüdruk!$E:$E)) -> 1.2880196 | G239: =IF(ISERROR(MATCH(E239,mees!$D:$D,0)),"*",H239/LOOKUP(E239,mees!$D:$D,mees!$E:$E)) -> 1.048499 | H239: =I239/$I$2*10000 -> 6.5390005 | I239: 7
... A1001: naeratav | B1001: =IF(ISERROR(MATCH(A1001,tüdruk!$A:$A,0)),"*",C1001/LOOKUP(A1001,tüdruk!$A:$A,tüdruk!$B:$B)) -> 0.097562369 | C1001: =D1001/$D$2*10000 -> 0.91382619 | D1001: 1 | E1001: sisenema | F1001: =IF(ISERROR(MATCH(E1001,tüdruk!$D:$D,0)),"*",H1001/LOOKUP(E1001,tüdruk!$D:$D,tüdruk!$E:$E)) -> 0.3680056 | G1001: =IF(ISERROR(MATCH(E1001,mees!$D:$D,0)),"*",H1001/LOOKUP(E1001,mees!$D:$D,mees!$E:$E)) -> 0.052584296 | H1001: =I1001/$I$2*10000 -> 0.93414292 | I1001: 1

Sheet tüdruk
A1: adj_mod_tüdruk | C1: 8541 | D1: subject_of_tüdruk | F1: 7879 | G1: object_of_tüd | I1: 804
A2: 10-11aastane | B2: =C2/$C$1*10000 -> 2.3416462 | C2: 2 | D2: abielluma | E2: =F2/$F$1*10000 -> 3.8075898 | F2: 3 | G2: adopteerima | H2: =I2/$I$1*10000 -> 49.751244 | I2: 4
A3: 10-12aastane | B3: =C3/$C$1*10000 -> 5.8541154 | C3: 5 | D3: abistama | E3: =F3/$F$1*10000 -> 1.2691966 | F3: 1 | G3: ahvatlema | H3: =I3/$I$1*10000 -> 12.437811 | I3: 1
A4: 10-13aastane | B4: =C4/$C$1*10000 -> 2.3416462 | C4: 2 | D4: aduma | E4: =F4/$F$1*10000 -> 1.2691966 | F4: 1 | G4: ajama | H4: =I4/$I$1*10000 -> 12.437811 | I4: 1
A5: 10--13aastane | B5: =C5/$C$1*10000 -> 1.1708231 | C5: 1 | D5: ahastama | E5: =F5/$F$1*10000 -> 3.8075898 | F5: 3 | G5: ajendama | H5: =I5/$I$1*10000 -> 12.437811 | I5: 1
A6: 10-14aastane | B6: =C6/$C$1*10000 -> 9.3665847 | C6: 8 | D6: ahhetama | E6: =F6/$F$1*10000 -> 1.2691966 | F6: 1 | G6: alandatama | H6: =I6/$I$1*10000 -> 12.437811 | I6: 1
A7: 10-15aastane | B7: =C7/$C$1*10000 -> 2.3416462 | C7: 2 | D7: ahistama | E7: =F7/$F$1*10000 -> 2.5383932 | F7: 2 | G7: armastama | H7: =I7/$I$1*10000 -> 12.437811 | I7: 1
A8: 10-16aastane | B8: =C8/$C$1*10000 -> 2.3416462 | C8: 2 | D8: ahmima | E8: =F8/$F$1*10000 -> 1.2691966 | F8: 1 | G8: arreteerima | H8: =I8/$I$1*10000 -> 12.437811 | I8: 1
A9: 10-17aastane | B9: =C9/$C$1*10000 -> 1.1708231 | C9: 1 | D9: aitama | E9: =F9/$F$1*10000 -> 6.345983 | F9: 5 | G9: asendama | H9: =I9/$I$1*10000 -> 12.437811 | I9: 1
A10: 10-18aastane | B10: =C10/$C$1*10000 -> 1.1708231 | C10: 1 | D10: ajama | E10: =F10/$F$1*10000 -> 19.037949 | F10: 15 | G10: demonstreerima | H10: =I10/$I$1*10000 -> 12.437811 | I10: 1
A11: 10aastane | B11: =C11/$C$1*10000 -> 103.03243 | C11: 88 | D11: alustama | E11: =F11/$F$1*10000 -> 38.075898 | F11: 30 | G11: desinfitseerima | H11: =I11/$I$1*10000 -> 12.437811 | I11: 1
A12: 10kuine | B12: =C12/$C$1*10000 -> 3.5124693 | C12: 3 | D12: ampsama | E12: =F12/$F$1*10000 -> 2.5383932 | F12: 2 | G12: eemaldama | H12: =I12/$I$1*10000 -> 12.437811 | I12: 1
A13: 10kuune | B13: =C13/$C$1*10000 -> 1.1708231 | C13: 1 | D13: andestama | E13: =F13/$F$1*10000 -> 1.2691966 | F13: 1 | G13: ehituma | H13: =I13/$I$1*10000 -> 12.437811 | I13: 1
... A215: hull | B215: =C215/$C$1*10000 -> 5.8541154 | C215: 5 | D215: kiljuma | E215: =F215/$F$1*10000 -> 21.576342 | F215: 17 | G215: üritama | H215: =I215/$I$1*10000 -> 37.313433 | I215: 3
A216: humoorikas | B216: =C216/$C$1*10000 -> 1.1708231 | C216: 1 | D216: kilkama | E216: =F216/$F$1*10000 -> 10.153573 | F216: 8
A217: hunnitu | B217: =C217/$C$1*10000 -> 1.1708231 | C217: 1 | D217: kinkima | E217: =F217/$F$1*10000 -> 8.8843762 | F217: 7
A218: huvitav | B218: =C218/$C$1*10000 -> 4.6832924 | C218: 4 | D218: kinnitama | E218: =F218/$F$1*10000 -> 78.690189 | F218: 62
A219: häbelik | B219: =C219/$C$1*10000 -> 9.3665847 | C219: 8 | D219: kippuma | E219: =F219/$F$1*10000 -> 7.6151796 | F219: 6
A220: hädine | B220: =C220/$C$1*10000 -> 1.1708231 | C220: 1 | D220: kiristama | E220: =F220/$F$1*10000 -> 1.2691966 | F220: 1
A221: hääletav | B221: =C221/$C$1*10000 -> 2.3416462 | C221: 2 | D221: kirjeldama | E221: =F221/$F$1*10000 -> 13.961163 | F221: 11
A222: hüplev | B222: =C222/$C$1*10000 -> 3.5124693 | C222: 3 | D222: kirjutama | E222: =F222/$F$1*10000 -> 40.614291 | F222: 32
A223: hüppehuviline | B223: =C223/$C$1*10000 -> 1.1708231 | C223: 1 | D223: kiruma | E223: =F223/$F$1*10000 -> 1.2691966 | F223: 1
A224: hüsteeriline | B224: =C224/$C$1*10000 -> 2.3416462 | C224: 2 | D224: kisama | E224: =F224/$F$1*10000 -> 2.5383932 | F224: 2
A225: igavlev | B225: =C225/$C$1*10000 -> 2.3416462 | C225: 2 | D225: kisendama | E225: =F225/$F$1*10000 -> 1.2691966 | F225: 1
A226: ihkav | B226: =C226/$C$1*10000 -> 3.5124693 | C226: 3 | D226: kiskuma | E226: =F226/$F$1*10000 -> 2.5383932 | F226: 2
A227: ilmsüütu | B227: =C227/$C$1*10000 -> 1.1708231 | C227: 1 | D227: kituma | E227: =F227/$F$1*10000 -> 1.2691966 | F227: 1
... A916: veetlev | B916: =C916/$C$1*10000 -> 3.5124693 | C916: 3 | D916: üürima | E916: =F916/$F$1*10000 -> 1.2691966 | F916: 1
A917: venekeelne | B917: =C917/$C$1*10000 -> 2.3416462 | C917: 2
A918: verinoor | B918: =C918/$C$1*10000 -> 33.95387 | C918: 29
A919: vigurdav | B919: =C919/$C$1*10000 -> 1.1708231 | C919: 1
A920: vihane | B920: =C920/$C$1*10000 -> 3.5124693 | C920: 3
A921: vihmamärg | B921: =C921/$C$1*10000 -> 1.1708231 | C921: 1
A922: vihtuv | B922: =C922/$C$1*10000 -> 1.1708231 | C922: 1
A923: viieaastane | B923: =C923/$C$1*10000 -> 87.811732 | C923: 75
A924: viie-aastane | B924: =C924/$C$1*10000 -> 1.1708231 | C924: 1
A925: viiekuine | B925: =C925/$C$1*10000 -> 1.1708231 | C925: 1
A926: viie-kuueaastane | B926: =C926/$C$1*10000 -> 2.3416462 | C926: 2
A927: viiekuune | B927: =C927/$C$1*10000 -> 3.5124693 | C927: 3
A928: viieline | B928: =C928/$C$1*10000 -> 4.6832924 | C928: 4
... A1000: üritav | B1000: =C1000/$C$1*10000 -> 1.1708231 | C1000: 1

Sheet tüdruk (2)
A1: Adj_modifier | B1: erinevus paarikust | C1: normaliseeritud koosesinemissagedus | D1: absoluutne koosesinemissagedus | E1: subject_of | F1: erinevus paarikust | G1: normaliseeritud koosesinemissagedus | H1: normaliseeritud koosesinemissagedus | I1: absoluutne koosesinemissagedus | J1: object_of | K1: normaliseeritud koosesinemissagedus | L1: absoluutne koosesinemissagedus
D2: 8541 | I2: 7879 | L2: 804
A3: väike | B3: =IF(ISERROR(MATCH(A3,poiss!$A:$A,0)),"*",C3/LOOKUP(A3,poiss!$A:$A,poiss!$B:$B)) -> 1.1084933 | C3: =D3/$D$2*10000 -> 1224.681 | D3: 1046 | E3: saama | F3: =IF(ISERROR(MATCH(E3,poiss!$D:$D,0)),"*",H3/LOOKUP(E3,poiss!$D:$D,poiss!$E:$E)) -> 0.86349523 | G3: =IF(ISERROR(MATCH(E3,naine!$D:$D,0)),"*",H3/LOOKUP(E3,naine!$D:$D,naine!$E:$E)) -> 1.0479672 | H3: =I3/$I$2*10000 -> 535.60096 | I3: 422 | J3: viima | K3: =L3/$L$2*10000 -> 870.64677 | L3: 70
A4: noor | B4: =IF(ISERROR(MATCH(A4,poiss!$A:$A,0)),"*",C4/LOOKUP(A4,poiss!$A:$A,poiss!$B:$B)) -> 1.2988431 | C4: =D4/$D$2*10000 -> 690.78562 | D4: 590 | E4: ütlema | F4: =IF(ISERROR(MATCH(E4,poiss!$D:$D,0)),"*",H4/LOOKUP(E4,poiss!$D:$D,poiss!$E:$E)) -> 1.055323 | G4: =IF(ISERROR(MATCH(E4,naine!$D:$D,0)),"*",H4/LOOKUP(E4,naine!$D:$D,naine!$E:$E)) -> 0.91835825 | H4: =I4/$I$2*10000 -> 313.49156 | I4: 247 | J4: leidma | K4: =L4/$L$2*10000 -> 497.51244 | L4: 40
A5: ilus | B5: =IF(ISERROR(MATCH(A5,poiss!$A:$A,0)),"*",C5/LOOKUP(A5,poiss!$A:$A,poiss!$B:$B)) -> 2.9433701 | C5: =D5/$D$2*10000 -> 497.59981 | D5: 425 | E5: tulema | F5: =IF(ISERROR(MATCH(E5,poiss!$D:$D,0)),"*",H5/LOOKUP(E5,poiss!$D:$D,poiss!$E:$E)) -> 0.9561046 | G5: =IF(ISERROR(MATCH(E5,naine!$D:$D,0)),"*",H5/LOOKUP(E5,naine!$D:$D,naine!$E:$E)) -> 1.4081283 | H5: =I5/$I$2*10000 -> 241.14735 | I5: 190 | J5: toimetama | K5: =L5/$L$2*10000 -> 398.00995 | L5: 32
A6: teismeline | B6: =IF(ISERROR(MATCH(A6,poiss!$A:$A,0)),"*",C6/LOOKUP(A6,poiss!$A:$A,poiss!$B:$B)) -> 1.8885207 | C6: =D6/$D$2*10000 -> 298.55989 | D6: 255 | E6: pidama | F6: =IF(ISERROR(MATCH(E6,poiss!$D:$D,0)),"*",H6/LOOKUP(E6,poiss!$D:$D,poiss!$E:$E)) -> 0.88779844 | G6: =IF(ISERROR(MATCH(E6,naine!$D:$D,0)),"*",H6/LOOKUP(E6,naine!$D:$D,naine!$E:$E)) -> 0.65967016 | H6: =I6/$I$2*10000 -> 229.72458 | I6: 181 | J6: panema | K6: =L6/$L$2*10000 -> 286.06965 | L6: 23
A7: 14aastane | B7: =IF(ISERROR(MATCH(A7,poiss!$A:$A,0)),"*",C7/LOOKUP(A7,poiss!$A:$A,poiss!$B:$B)) -> 0.89870569 | C7: =D7/$D$2*10000 -> 228.3105 | D7: 195 | E7: rääkima | F7: =IF(ISERROR(MATCH(E7,poiss!$D:$D,0)),"*",H7/LOOKUP(E7,poiss!$D:$D,poiss!$E:$E)) -> 1.1929829 | G7: =IF(ISERROR(MATCH(E7,naine!$D:$D,0)),"*",H7/LOOKUP(E7,naine!$D:$D,naine!$E:$E)) -> 0.92657255 | H7: =I7/$I$2*10000 -> 228.45539 | I7: 180 | J7: saatma | K7: =L7/$L$2*10000 -> 261.19403 | L7: 21
A8: 15aastane | B8: =IF(ISERROR(MATCH(A8,poiss!$A:$A,0)),"*",C8/LOOKUP(A8,poiss!$A:$A,poiss!$B:$B)) -> 0.87165764 | C8: =D8/$D$2*10000 -> 194.35663 | D8: 166 | E8: tegema | F8: =IF(ISERROR(MATCH(E8,poiss!$D:$D,0)),"*",H8/LOOKUP(E8,poiss!$D:$D,poiss!$E:$E)) -> 0.74538418 | G8: =IF(ISERROR(MATCH(E8,naine!$D:$D,0)),"*",H8/LOOKUP(E8,naine!$D:$D,naine!$E:$E)) -> 1.0929052 | H8: =I8/$I$2*10000 -> 200.53306 | I8: 158 | J8: sundima | K8: =L8/$L$2*10000 -> 261.19403 | L8: 21
