Workbook
Name Adj_modifier: tüdruk!#REF!
Name Adj_modifier: 'tüdruk (2)'!#REF!
Name subject_of: tüdruk!#REF!
Name subject_of: 'tüdruk (2)'!#REF!

Sheet mees (2)
A1: Adj_modifier | B1: erinevus paarikust | C1: normaliseeritud koosesinemissagedus | D1: absoluutne koosesinemissagedus | E1: subject_of | F1: erinevus paarikust | H1: normaliseeritud koosesinemissagedus | I1: absoluutne koosesinemissagedus | J1: object_of | K1: normaliseeritud koosesinemissagedus | L1: absoluutne koosesinemissagedus
D2: 43922 | I2: 52914 | L2: 5823
A3: noor | B3: =IF(ISERROR(MATCH(A3,naine!$A:$A,0)),"*",C3/LOOKUP(A3,naine!$A:$A,naine!$B:$B)) -> 0.66419028 | C3: =D3/$D$2*10000 -> 1009.9722 | D3: 4436 | E3: saama | F3: =IF(ISERROR(MATCH(E3,naine!$D:$D,0)),"*",H3/LOOKUP(E3,naine!$D:$D,naine!$E:$E)) -> 0.81609003 | G3: =IF(ISERROR(MATCH(E3,poiss!$D:$D,0)),"*",H3/LOOKUP(E3,poiss!$D:$D,poiss!$E:$E)) -> 0.67243503 | H3: =I3/$I$2*10000 -> 417.09188 | I3: 2207 | J3: viima | K3: =L3/$L$2*10000 -> 650.86725 | L3: 379
A4: vana | B4: =IF(ISERROR(MATCH(A4,naine!$A:$A,0)),"*",C4/LOOKUP(A4,naine!$A:$A,naine!$B:$B)) -> 1.0080633 | C4: =D4/$D$2*10000 -> 328.0816 | D4: 1441 | E4: pidama | F4: =IF(ISERROR(MATCH(E4,naine!$D:$D,0)),"*",H4/LOOKUP(E4,naine!$D:$D,naine!$E:$E)) -> 0.83465136 | G4: =IF(ISERROR(MATCH(E4,poiss!$D:$D,0)),"*",H4/LOOKUP(E4,poiss!$D:$D,poiss!$E:$E)) -> 1.1232919 | H4: =I4/$I$2*10000 -> 290.66032 | I4: 1538 | J4: süüdistama | K4: =L4/$L$2*10000 -> 477.41714 | L4: 278
A5: uus | B5: =IF(ISERROR(MATCH(A5,naine!$A:$A,0)),"*",C5/LOOKUP(A5,naine!$A:$A,naine!$B:$B)) -> 1.984026 | C5: =D5/$D$2*10000 -> 226.53795 | D5: 995 | E5: ütlema | F5: =IF(ISERROR(MATCH(E5,naine!$D:$D,0)),"*",H5/LOOKUP(E5,naine!$D:$D,naine!$E:$E)) -> 0.75182274 | G5: =IF(ISERROR(MATCH(E5,poiss!$D:$D,0)),"*",H5/LOOKUP(E5,poiss!$D:$D,poiss!$E:$E)) -> 0.86395024 | H5: =I5/$I$2*10000 -> 256.64285 | I5: 1358 | J5: vahistama | K5: =L5/$L$2*10000 -> 353.76953 | L5: 206
A6: õige | B6: =IF(ISERROR(MATCH(A6,naine!$A:$A,0)),"*",C6/LOOKUP(A6,naine!$A:$A,naine!$B:$B)) -> 7.2793756 | C6: =D6/$D$2*10000 -> 206.27476 | D6: 906 | E6: tulema | F6: =IF(ISERROR(MATCH(E6,naine!$D:$D,0)),"*",H6/LOOKUP(E6,naine!$D:$D,naine!$E:$E)) -> 1.3915673 | G6: =IF(ISERROR(MATCH(E6,poiss!$D:$D,0)),"*",H6/LOOKUP(E6,poiss!$D:$D,poiss!$E:$E)) -> 0.94485986 | H6: =I6/$I$2*10000 -> 238.31122 | I6: 1261 | J6: pidama | K6: =L6/$L$2*10000 -> 336.59626 | L6: 196
A7: tundmatu | B7: =IF(ISERROR(MATCH(A7,naine!$A:$A,0)),"*",C7/LOOKUP(A7,naine!$A:$A,naine!$B:$B)) -> 4.0528786 | C7: =D7/$D$2*10000 -> 206.04708 | D7: 905 | E7: tegema | F7: =IF(ISERROR(MATCH(E7,naine!$D:$D,0)),"*",H7/LOOKUP(E7,naine!$D:$D,naine!$E:$E)) -> 1.2102185 | G7: =IF(ISERROR(MATCH(E7,poiss!$D:$D,0)),"*",H7/LOOKUP(E7,poiss!$D:$D,poiss!$E:$E)) -> 0.82539428 | H7: =I7/$I$2*10000 -> 222.05843 | I7: 1175 | J7: võtma | K7: =L7/$L$2*10000 -> 324.57496 | L7: 189
A8: keskealine | B8: =IF(ISERROR(MATCH(A8,naine!$A:$A,0)),"*",C8/LOOKUP(A8,naine!$A:$A,naine!$B:$B)) -> 1.0238777 | C8: =D8/$D$2*10000 -> 162.5609 | D8: 714 | E8: minema | F8: =IF(ISERROR(MATCH(E8,naine!$D:$D,0)),"*",H8/LOOKUP(E8,naine!$D:$D,naine!$E:$E)) -> 1.2198195 | G8: =IF(ISERROR(MATCH(E8,poiss!$D:$D,0)),"*",H8/LOOKUP(E8,poiss!$D:$D,poiss!$E:$E)) -> 0.83473882 | H8: =I8/$I$2*10000 -> 185.58416 | I8: 982 | J8: toimetama | K8: =L8/$L$2*10000 -> 315.98832 | L8: 184
A9: kõva | B9: =IF(ISERROR(MATCH(A9,naine!$A:$A,0)),"*",C9/LOOKUP(A9,naine!$A:$A,naine!$B:$B)) -> 88.372905 | C9: =D9/$D$2*10000 -> 147.30659 | D9: 647 | E9: rääkima | F9: =IF(ISERROR(MATCH(E9,naine!$D:$D,0)),"*",H9/LOOKUP(E9,naine!$D:$D,naine!$E:$E)) -> 0.71207075 | G9: =IF(ISERROR(MATCH(E9,poiss!$D:$D,0)),"*",H9/LOOKUP(E9,poiss!$D:$D,poiss!$E:$E)) -> 0.91680702 | H9: =I9/$I$2*10000 -> 175.5679 | I9: 929 | J9: tabama | K9: =L9/$L$2*10000 -> 286.79375 | L9: 167
A10: suur | B10: =IF(ISERROR(MATCH(A10,naine!$A:$A,0)),"*",C10/LOOKUP(A10,naine!$A:$A,naine!$B:$B)) -> 5.7367265 | C10: =D10/$D$2*10000 -> 143.43609 | D10: 630 | E10: võtma | F10: =IF(ISERROR(MATCH(E10,naine!$D:$D,0)),"*",H10/LOOKUP(E10,naine!$D:$D,naine!$E:$E)) -> 1.2418534 | G10: =IF(ISERROR(MATCH(E10,poiss!$D:$D,0)),"*",H10/LOOKUP(E10,poiss!$D:$D,poiss!$E:$E)) -> 1.1537104 | H10: =I10/$I$2*10000 -> 159.5041 | I10: 844 | J10: kahtlustama | K10: =L10/$L$2*10000 -> 279.92444 | L10: 163
A11: hea | B11: =IF(ISERROR(MATCH(A11,naine!$A:$A,0)),"*",C11/LOOKUP(A11,naine!$A:$A,naine!$B:$B)) -> 2.5844962 | C11: =D11/$D$2*10000 -> 123.85593 | D11: 544 | E11: jääma | F11: =IF(ISERROR(MATCH(E11,naine!$D:$D,0)),"*",H11/LOOKUP(E11,naine!$D:$D,naine!$E:$E)) -> 1.0185118 | G11: =IF(ISERROR(MATCH(E11,poiss!$D:$D,0)),"*",H11/LOOKUP(E11,poiss!$D:$D,poiss!$E:$E)) -> 0.82735489 | H11: =I11/$I$2*10000 -> 155.34641 | I11: 822 | J11: leidma | K11: =L11/$L$2*10000 -> 230.12193 | L11: 134
A12: võõras | B12: =IF(ISERROR(MATCH(A12,naine!$A:$A,0)),"*",C12/LOOKUP(A12,naine!$A:$A,naine!$B:$B)) -> 1.241494 | C12: =D12/$D$2*10000 -> 115.88725 | D12: 509 | E12: võima | F12: =IF(ISERROR(MATCH(E12,naine!$D:$D,0)),"*",H12/LOOKUP(E12,naine!$D:$D,naine!$E:$E)) -> 0.79424365 | G12: =IF(ISERROR(MATCH(E12,poiss!$D:$D,0)),"*",H12/LOOKUP(E12,poiss!$D:$D,poiss!$E:$E)) -> 1.4104401 | H12: =I12/$I$2*10000 -> 139.66058 | I12: 739 | J12: mõistma | K12: =L12/$L$2*10000 -> 211.23132 | L12: 123
A13: vaba | B13: =IF(ISERROR(MATCH(A13,naine!$A:$A,0)),"*",C13/LOOKUP(A13,naine!$A:$A,naine!$B:$B)) -> 6.1191749 | C13: =D13/$D$2*10000 -> 114.74887 | D13: 504 | E13: tahtma | F13: =IF(ISERROR(MATCH(E13,naine!$D:$D,0)),"*",H13/LOOKUP(E13,naine!$D:$D,naine!$E:$E)) -> 0.73941231 | G13: =IF(ISERROR(MATCH(E13,poiss!$D:$D,0)),"*",H13/LOOKUP(E13,poiss!$D:$D,poiss!$E:$E)) -> 0.7458109 | H13: =I13/$I$2*10000 -> 128.88838 | I13: 682 | J13: nägema | K13: =L13/$L$2*10000 -> 195.77537 | L13: 114
A14: valge | B14: =IF(ISERROR(MATCH(A14,naine!$A:$A,0)),"*",C14/LOOKUP(A14,naine!$A:$A,naine!$B:$B)) -> 2.4911779 | C14: =D14/$D$2*10000 -> 113.15514 | D14: 497 | E14: tunnistama | F14: =IF(ISERROR(MATCH(E14,naine!$D:$D,0)),"*",H14/LOOKUP(E14,naine!$D:$D,naine!$E:$E)) -> 1.2751068 | G14: =IF(ISERROR(MATCH(E14,poiss!$D:$D,0)),"*",H14/LOOKUP(E14,poiss!$D:$D,poiss!$E:$E)) -> 1.5271893 | H14: =I14/$I$2*10000 -> 116.98227 | I14: 619 | J14: saatma | K14: =L14/$L$2*10000 -> 180.31942 | L14: 105
... A383: 20-25aastane | B383: =IF(ISERROR(MATCH(A383,naine!$A:$A,0)),"*",C383/LOOKUP(A383,naine!$A:$A,naine!$B:$B)) -> 1.1707605 | C383: =D383/$D$2*10000 -> 3.415145 | D383: 15 | E383: piirduma | F383: =IF(ISERROR(MATCH(E383,naine!$D:$D,0)),"*",H383/LOOKUP(E383,naine!$D:$D,naine!$E:$E)) -> 1.2006544 | G383: =IF(ISERROR(MATCH(E383,poiss!$D:$D,0)),"*",H383/LOOKUP(E383,poiss!$D:$D,poiss!$E:$E)) -> * | H383: =I383/$I$2*10000 -> 3.2127603 | I383: 17 | J383: hakkima | K383: =L383/$L$2*10000 -> 1.7173278 | L383: 1
A384: 79aastane | B384: =IF(ISERROR(MATCH(A384,naine!$A:$A,0)),"*",C384/LOOKUP(A384,naine!$A:$A,naine!$B:$B)) -> 0.6304095 | C384: =D384/$D$2*10000 -> 3.415145 | D384: 15 | E384: valitsema | F384: =IF(ISERROR(MATCH(E384,naine!$D:$D,0)),"*",H384/LOOKUP(E384,naine!$D:$D,naine!$E:$E)) -> 1.2006544 | G384: =IF(ISERROR(MATCH(E384,poiss!$D:$D,0)),"*",H384/LOOKUP(E384,poiss!$D:$D,poiss!$E:$E)) -> * | H384: =I384/$I$2*10000 -> 3.2127603 | I384: 17 | J384: muserdama | K384: ignoreerima | L384: 1
A385: 85aastane | B385: =IF(ISERROR(MATCH(A385,naine!$A:$A,0)),"*",C385/LOOKUP(A385,naine!$A:$A,naine!$B:$B)) -> 0.68294363 | C385: =D385/$D$2*10000 -> 3.415145 | D385: 15 | E385: sõlmima | F385: =IF(ISERROR(MATCH(E385,naine!$D:$D,0)),"*",H385/LOOKUP(E385,naine!$D:$D,naine!$E:$E)) -> 2.801527 | G385: =IF(ISERROR(MATCH(E385,poiss!$D:$D,0)),"*",H385/LOOKUP(E385,poiss!$D:$D,poiss!$E:$E)) -> * | H385: =I385/$I$2*10000 -> 3.2127603 | I385: 17 | J385: naeruvääristama | K385: =L385/$L$2*10000 -> 1.7173278 | L385: 1
A386: elurõõmus | B386: =IF(ISERROR(MATCH(A386,naine!$A:$A,0)),"*",C386/LOOKUP(A386,naine!$A:$A,naine!$B:$B)) -> 0.51220772 | C386: =D386/$D$2*10000 -> 3.415145 | D386: 15 | E386: rüüpama | F386: =IF(ISERROR(MATCH(E386,naine!$D:$D,0)),"*",H386/LOOKUP(E386,naine!$D:$D,naine!$E:$E)) -> 4.2022905 | G386: =IF(ISERROR(MATCH(E386,poiss!$D:$D,0)),"*",H386/LOOKUP(E386,poiss!$D:$D,poiss!$E:$E)) -> 3.4392599 | H386: =I386/$I$2*10000 -> 3.2127603 | I386: 17 | J386: kõnetama | K386: =L386/$L$2*10000 -> 1.7173278 | L386: 1
A387: hall | B387: =IF(ISERROR(MATCH(A387,naine!$A:$A,0)),"*",C387/LOOKUP(A387,naine!$A:$A,naine!$B:$B)) -> 1.1707605 | C387: =D387/$D$2*10000 -> 3.415145 | D387: 15 | E387: liituma | F387: =IF(ISERROR(MATCH(E387,naine!$D:$D,0)),"*",H387/LOOKUP(E387,naine!$D:$D,naine!$E:$E)) -> 4.2022905 | G387: =IF(ISERROR(MATCH(E387,poiss!$D:$D,0)),"*",H387/LOOKUP(E387,poiss!$D:$D,poiss!$E:$E)) -> 3.4392599 | H387: =I387/$I$2*10000 -> 3.2127603 | I387: 17 | J387: mõjustama | K387: =L387/$L$2*10000 -> 1.7173278 | L387: 1
A388: kihvt | B388: =IF(ISERROR(MATCH(A388,naine!$A:$A,0)),"*",C388/LOOKUP(A388,naine!$A:$A,naine!$B:$B)) -> 2.0488309 | C388: =D388/$D$2*10000 -> 3.415145 | D388: 15 | E388: suusatama | F388: =IF(ISERROR(MATCH(E388,naine!$D:$D,0)),"*",H388/LOOKUP(E388,naine!$D:$D,naine!$E:$E)) -> 0.32325312 | G388: =IF(ISERROR(MATCH(E388,poiss!$D:$D,0)),"*",H388/LOOKUP(E388,poiss!$D:$D,poiss!$E:$E)) -> 3.4392599 | H388: =I388/$I$2*10000 -> 3.2127603 | I388: 17 | J388: shokeerima | K388: =L388/$L$2*10000 -> 1.7173278 | L388: 1
A389: käituv | B389: =IF(ISERROR(MATCH(A389,naine!$A:$A,0)),"*",C389/LOOKUP(A389,naine!$A:$A,naine!$B:$B)) -> 2.0488309 | C389: =D389/$D$2*10000 -> 3.415145 | D389: 15 | E389: tunnetama | F389: =IF(ISERROR(MATCH(E389,naine!$D:$D,0)),"*",H389/LOOKUP(E389,naine!$D:$D,naine!$E:$E)) -> 0.35019088 | G389: =IF(ISERROR(MATCH(E389,poiss!$D:$D,0)),"*",H389/LOOKUP(E389,poiss!$D:$D,poiss!$E:$E)) -> 1.71963 | H389: =I389/$I$2*10000 -> 3.2127603 | I389: 17 | J389: seljatama | K389: =L389/$L$2*10000 -> 1.7173278 | L389: 1
A390: murelik | B390: =IF(ISERROR(MATCH(A390,naine!$A:$A,0)),"*",C390/LOOKUP(A390,naine!$A:$A,naine!$B:$B)) -> 0.81953235 | C390: =D390/$D$2*10000 -> 3.415145 | D390: 15 | E390: sõimama | F390: =IF(ISERROR(MATCH(E390,naine!$D:$D,0)),"*",H390/LOOKUP(E390,naine!$D:$D,naine!$E:$E)) -> 0.70038175 | G390: =IF(ISERROR(MATCH(E390,poiss!$D:$D,0)),"*",H390/LOOKUP(E390,poiss!$D:$D,poiss!$E:$E)) -> 1.14642 | H390: =I390/$I$2*10000 -> 3.2127603 | I390: 17 | J390: surmama | K390: =L390/$L$2*10000 -> 1.7173278 | L390: 1
A391: pensioniealine | B391: =IF(ISERROR(MATCH(A391,naine!$A:$A,0)),"*",C391/LOOKUP(A391,naine!$A:$A,naine!$B:$B)) -> 0.68294363 | C391: =D391/$D$2*10000 -> 3.415145 | D391: 15 | E391: taluma | F391: =IF(ISERROR(MATCH(E391,naine!$D:$D,0)),"*",H391/LOOKUP(E391,naine!$D:$D,naine!$E:$E)) -> 0.44234637 | G391: =IF(ISERROR(MATCH(E391,poiss!$D:$D,0)),"*",H391/LOOKUP(E391,poiss!$D:$D,poiss!$E:$E)) -> 1.14642 | H391: =I391/$I$2*10000 -> 3.2127603 | I391: 17 | J391: oigama | K391: =L391/$L$2*10000 -> 1.7173278 | L391: 1
A392: samaealine | B392: =IF(ISERROR(MATCH(A392,naine!$A:$A,0)),"*",C392/LOOKUP(A392,naine!$A:$A,naine!$B:$B)) -> 0.43133282 | C392: =D392/$D$2*10000 -> 3.415145 | D392: 15 | E392: püstitama | F392: =IF(ISERROR(MATCH(E392,naine!$D:$D,0)),"*",H392/LOOKUP(E392,naine!$D:$D,naine!$E:$E)) -> 2.1011453 | G392: =IF(ISERROR(MATCH(E392,poiss!$D:$D,0)),"*",H392/LOOKUP(E392,poiss!$D:$D,poiss!$E:$E)) -> 1.14642 | H392: =I392/$I$2*10000 -> 3.2127603 | I392: 17 | J392: represseerima | K392: =L392/$L$2*10000 -> 1.7173278 | L392: 1
A393: täisealine | B393: =IF(ISERROR(MATCH(A393,naine!$A:$A,0)),"*",C393/LOOKUP(A393,naine!$A:$A,naine!$B:$B)) -> 0.9105915 | C393: =D393/$D$2*10000 -> 3.415145 | D393: 15 | E393: kiskuma | F393: =IF(ISERROR(MATCH(E393,naine!$D:$D,0)),"*",H393/LOOKUP(E393,naine!$D:$D,naine!$E:$E)) -> 1.4007635 | G393: =IF(ISERROR(MATCH(E393,poiss!$D:$D,0)),"*",H393/LOOKUP(E393,poiss!$D:$D,poiss!$E:$E)) -> 0.57320999 | H393: =I393/$I$2*10000 -> 3.2127603 | I393: 17 | J393: kohutama | K393: =L393/$L$2*10000 -> 1.7173278 | L393: 1
A394: venekeelne | B394: =IF(ISERROR(MATCH(A394,naine!$A:$A,0)),"*",C394/LOOKUP(A394,naine!$A:$A,naine!$B:$B)) -> 1.1707605 | C394: =D394/$D$2*10000 -> 3.415145 | D394: 15 | E394: mahtuma | F394: =IF(ISERROR(MATCH(E394,naine!$D:$D,0)),"*",H394/LOOKUP(E394,naine!$D:$D,naine!$E:$E)) -> 2.1011453 | G394: =IF(ISERROR(MATCH(E394,poiss!$D:$D,0)),"*",H394/LOOKUP(E394,poiss!$D:$D,poiss!$E:$E)) -> 0.57320999 | H394: =I394/$I$2*10000 -> 3.2127603 | I394: 17 | J394: küttima | K394: =L394/$L$2*10000 -> 1.7173278 | L394: 1
A395: viljatu | B395: =IF(ISERROR(MATCH(A395,naine!$A:$A,0)),"*",C395/LOOKUP(A395,naine!$A:$A,naine!$B:$B)) -> 0.29269013 | C395: =D395/$D$2*10000 -> 3.415145 | D395: 15 | E395: pajatama | F395: =IF(ISERROR(MATCH(E395,naine!$D:$D,0)),"*",H395/LOOKUP(E395,naine!$D:$D,naine!$E:$E)) -> 1.9775485 | G395: =IF(ISERROR(MATCH(E395,poiss!$D:$D,0)),"*",H395/LOOKUP(E395,poiss!$D:$D,poiss!$E:$E)) -> * | H395: =I395/$I$2*10000 -> 3.0237744 | I395: 16 | J395: atesteerima | K395: =L395/$L$2*10000 -> 1.7173278 | L395: 1
A396: arg | B396: =IF(ISERROR(MATCH(A396,naine!$A:$A,0)),"*",C396/LOOKUP(A396,naine!$A:$A,naine!$B:$B)) -> * | C396: =D396/$D$2*10000 -> 3.1874687 | D396: 14 | E396: hammustama | F396: =IF(ISERROR(MATCH(E396,naine!$D:$D,0)),"*",H396/LOOKUP(E396,naine!$D:$D,naine!$E:$E)) -> 1.5820388 | G396: =IF(ISERROR(MATCH(E396,poiss!$D:$D,0)),"*",H396/LOOKUP(E396,poiss!$D:$D,poiss!$E:$E)) -> * | H396: =I396/$I$2*10000 -> 3.0237744 | I396: 16 | J396: kruttima | K396: =L396/$L$2*10000 -> 1.7173278 | L396: 1
... A546: kükitav | B546: =IF(ISERROR(MATCH(A546,naine!$A:$A,0)),"*",C546/LOOKUP(A546,naine!$A:$A,naine!$B:$B)) -> 0.81953235 | C546: =D546/$D$2*10000 -> 2.049087 | D546: 9 | E546: kaklema | F546: =IF(ISERROR(MATCH(E546,naine!$D:$D,0)),"*",H546/LOOKUP(E546,naine!$D:$D,naine!$E:$E)) -> 0.98877424 | G546: =IF(ISERROR(MATCH(E546,poiss!$D:$D,0)),"*",H546/LOOKUP(E546,poiss!$D:$D,poiss!$E:$E)) -> 0.16859117 | H546: =I546/$I$2*10000 -> 1.889859 | I546: 10 | J546: kukkuma | K546: =L546/$L$2*10000 -> 1.7173278 | L546: 1
A547: mõistev | B547: =IF(ISERROR(MATCH(A547,naine!$A:$A,0)),"*",C547/LOOKUP(A547,naine!$A:$A,naine!$B:$B)) -> 0.49171941 | C547: =D547/$D$2*10000 -> 2.049087 | D547: 9 | E547: lõõpima | F547: =IF(ISERROR(MATCH(E547,naine!$D:$D,0)),"*",H547/LOOKUP(E547,naine!$D:$D,naine!$E:$E)) -> * | G547: =IF(ISERROR(MATCH(E547,poiss!$D:$D,0)),"*",H547/LOOKUP(E547,poiss!$D:$D,poiss!$E:$E)) -> * | H547: =I547/$I$2*10000 -> 1.7008731 | I547: 9
A548: nimetu | B548: =IF(ISERROR(MATCH(A548,naine!$A:$A,0)),"*",C548/LOOKUP(A548,naine!$A:$A,naine!$B:$B)) -> 1.6390647 | C548: =D548/$D$2*10000 -> 2.049087 | D548: 9 | E548: urisema | F548: =IF(ISERROR(MATCH(E548,naine!$D:$D,0)),"*",H548/LOOKUP(E548,naine!$D:$D,naine!$E:$E)) -> * | G548: =IF(ISERROR(MATCH(E548,poiss!$D:$D,0)),"*",H548/LOOKUP(E548,poiss!$D:$D,poiss!$E:$E)) -> * | H548: =I548/$I$2*10000 -> 1.7008731 | I548: 9
A549: nuttev | B549: =IF(ISERROR(MATCH(A549,naine!$A:$A,0)),"*",C549/LOOKUP(A549,naine!$A:$A,naine!$B:$B)) -> 0.14900588 | C549: =D549/$D$2*10000 -> 2.049087 | D549: 9 | E549: tammuma | F549: =IF(ISERROR(MATCH(E549,naine!$D:$D,0)),"*",H549/LOOKUP(E549,naine!$D:$D,naine!$E:$E)) -> * | G549: =IF(ISERROR(MATCH(E549,poiss!$D:$D,0)),"*",H549/LOOKUP(E549,poiss!$D:$D,poiss!$E:$E)) -> * | H549: =I549/$I$2*10000 -> 1.7008731 | I549: 9
A550: nõudlik | B550: =IF(ISERROR(MATCH(A550,naine!$A:$A,0)),"*",C550/LOOKUP(A550,naine!$A:$A,naine!$B:$B)) -> 0.5463549 | C550: =D550/$D$2*10000 -> 2.049087 | D550: 9 | E550: kuritarvitama | F550: =IF(ISERROR(MATCH(E550,naine!$D:$D,0)),"*",H550/LOOKUP(E550,naine!$D:$D,naine!$E:$E)) -> * | G550: =IF(ISERROR(MATCH(E550,poiss!$D:$D,0)),"*",H550/LOOKUP(E550,poiss!$D:$D,poiss!$E:$E)) -> * | H550: =I550/$I$2*10000 -> 1.7008731 | I550: 9
A551: puhkav | B551: =IF(ISERROR(MATCH(A551,naine!$A:$A,0)),"*",C551/LOOKUP(A551,naine!$A:$A,naine!$B:$B)) -> 0.98343882 | C551: =D551/$D$2*10000 -> 2.049087 | D551: 9 | E551: reetma | F551: =IF(ISERROR(MATCH(E551,naine!$D:$D,0)),"*",H551/LOOKUP(E551,naine!$D:$D,naine!$E:$E)) -> * | G551: =IF(ISERROR(MATCH(E551,poiss!$D:$D,0)),"*",H551/LOOKUP(E551,poiss!$D:$D,poiss!$E:$E)) -> * | H551: =I551/$I$2*10000 -> 1.7008731 | I551: 9
A552: rahulolev | B552: =IF(ISERROR(MATCH(A552,naine!$A:$A,0)),"*",C552/LOOKUP(A552,naine!$A:$A,naine!$B:$B)) -> 1.6390647 | C552: =D552/$D$2*10000 -> 2.049087 | D552: 9 | E552: võltsima | F552: =IF(ISERROR(MATCH(E552,naine!$D:$D,0)),"*",H552/LOOKUP(E552,naine!$D:$D,naine!$E:$E)) -> * | G552: =IF(ISERROR(MATCH(E552,poiss!$D:$D,0)),"*",H552/LOOKUP(E552,poiss!$D:$D,poiss!$E:$E)) -> * | H552: =I552/$I$2*10000 -> 1.7008731 | I552: 9
A553: rõõmsameelne | B553: =IF(ISERROR(MATCH(A553,naine!$A:$A,0)),"*",C553/LOOKUP(A553,naine!$A:$A,naine!$B:$B)) -> 0.35122815 | C553: =D553/$D$2*10000 -> 2.049087 | D553: 9 | E553: kurjustama | F553: =IF(ISERROR(MATCH(E553,naine!$D:$D,0)),"*",H553/LOOKUP(E553,naine!$D:$D,naine!$E:$E)) -> 0.49438712 | G553: =IF(ISERROR(MATCH(E553,poiss!$D:$D,0)),"*",H553/LOOKUP(E553,poiss!$D:$D,poiss!$E:$E)) -> * | H553: =I553/$I$2*10000 -> 1.7008731 | I553: 9
A554: rõõmus | B554: =IF(ISERROR(MATCH(A554,naine!$A:$A,0)),"*",C554/LOOKUP(A554,naine!$A:$A,naine!$B:$B)) -> 0.98343882 | C554: =D554/$D$2*10000 -> 2.049087 | D554: 9 | E554: sallima | F554: =IF(ISERROR(MATCH(E554,naine!$D:$D,0)),"*",H554/LOOKUP(E554,naine!$D:$D,naine!$E:$E)) -> 1.112371 | G554: =IF(ISERROR(MATCH(E554,poiss!$D:$D,0)),"*",H554/LOOKUP(E554,poiss!$D:$D,poiss!$E:$E)) -> * | H554: =I554/$I$2*10000 -> 1.7008731 | I554: 9
A555: taotlev | B555: =IF(ISERROR(MATCH(A555,naine!$A:$A,0)),"*",C555/LOOKUP(A555,naine!$A:$A,naine!$B:$B)) -> 0.81953235 | C555: =D555/$D$2*10000 -> 2.049087 | D555: 9 | E555: ravima | F555: =IF(ISERROR(MATCH(E555,naine!$D:$D,0)),"*",H555/LOOKUP(E555,naine!$D:$D,naine!$E:$E)) -> 0.88989681 | G555: =IF(ISERROR(MATCH(E555,poiss!$D:$D,0)),"*",H555/LOOKUP(E555,poiss!$D:$D,poiss!$E:$E)) -> * | H555: =I555/$I$2*10000 -> 1.7008731 | I555: 9
A556: truu | B556: =IF(ISERROR(MATCH(A556,naine!$A:$A,0)),"*",C556/LOOKUP(A556,naine!$A:$A,naine!$B:$B)) -> 0.35122815 | C556: =D556/$D$2*10000 -> 2.049087 | D556: 9 | E556: vormistama | F556: =IF(ISERROR(MATCH(E556,naine!$D:$D,0)),"*",H556/LOOKUP(E556,naine!$D:$D,naine!$E:$E)) -> 2.224742 | G556: =IF(ISERROR(MATCH(E556,poiss!$D:$D,0)),"*",H556/LOOKUP(E556,poiss!$D:$D,poiss!$E:$E)) -> * | H556: =I556/$I$2*10000 -> 1.7008731 | I556: 9
A557: vaatav | B557: =IF(ISERROR(MATCH(A557,naine!$A:$A,0)),"*",C557/LOOKUP(A557,naine!$A:$A,naine!$B:$B)) -> 0.98343882 | C557: =D557/$D$2*10000 -> 2.049087 | D557: 9 | E557: kindlustama | F557: =IF(ISERROR(MATCH(E557,naine!$D:$D,0)),"*",H557/LOOKUP(E557,naine!$D:$D,naine!$E:$E)) -> 1.4831614 | G557: =IF(ISERROR(MATCH(E557,poiss!$D:$D,0)),"*",H557/LOOKUP(E557,poiss!$D:$D,poiss!$E:$E)) -> * | H557: =I557/$I$2*10000 -> 1.7008731 | I557: 9
A558: võttev | B558: =IF(ISERROR(MATCH(A558,naine!$A:$A,0)),"*",C558/LOOKUP(A558,naine!$A:$A,naine!$B:$B)) -> 0.25879969 | C558: =D558/$D$2*10000 -> 2.049087 | D558: 9 | E558: keelama | F558: =IF(ISERROR(MATCH(E558,naine!$D:$D,0)),"*",H558/LOOKUP(E558,naine!$D:$D,naine!$E:$E)) -> 0.44494841 | G558: =IF(ISERROR(MATCH(E558,poiss!$D:$D,0)),"*",H558/LOOKUP(E558,poiss!$D:$D,poiss!$E:$E)) -> * | H558: =I558/$I$2*10000 -> 1.7008731 | I558: 9
... A1001: trennikauge | B1001: =IF(ISERROR(MATCH(A1001,naine!$A:$A,0)),"*",C1001/LOOKUP(A1001,naine!$A:$A,naine!$B:$B)) -> * | C1001: =D1001/$D$2*10000 -> 0.68302901 | D1001: 3 | E1001: ropendama | F1001: =IF(ISERROR(MATCH(E1001,naine!$D:$D,0)),"*",H1001/LOOKUP(E1001,naine!$D:$D,naine!$E:$E)) -> * | G1001: =IF(ISERROR(MATCH(E1001,poiss!$D:$D,0)),"*",H1001/LOOKUP(E1001,poiss!$D:$D,poiss!$E:$E)) -> 0.12138564 | H1001: =I1001/$I$2*10000 -> 0.5669577 | I1001: 3

Sheet naine
B1: suhte | C1: 23997 | E1: suhte | F1: 26160 | G1: object_of | H1: suhe | I1: 3055
A2: 105aastane | B2: =C2/$C$1*10000 -> 0.83343751 | C2: 2 | D2: abielluma | E2: =F2/$F$1*10000 -> 17.966361 | F2: 47 | G2: abistama | H2: =I2/$I$1*10000 -> 13.09329 | I2: 4
A3: 106aastane | B3: =C3/$C$1*10000 -> 1.2501563 | C3: 3 | D3: aduma | E3: =F3/$F$1*10000 -> 0.76452599 | F3: 2 | G3: ahistama | H3: =I3/$I$1*10000 -> 42.553191 | I3: 13
A4: 108aastane | B4: =C4/$C$1*10000 -> 1.2501563 | C4: 3 | D4: ahastama | E4: =F4/$F$1*10000 -> 6.4984709 | F4: 17 | G4: ahvatlema | H4: =I4/$I$1*10000 -> 6.5466448 | I4: 2
A5: 125aastane | B5: =C5/$C$1*10000 -> 0.83343751 | C5: 2 | D5: ahhetama | E5: =F5/$F$1*10000 -> 0.76452599 | F5: 2 | G5: aitama | H5: =I5/$I$1*10000 -> 68.739771 | I5: 21
A6: 15-19aastane | B6: =C6/$C$1*10000 -> 2.0835938 | C6: 5 | D6: ahistama | E6: =F6/$F$1*10000 -> 0.76452599 | F6: 2 | G6: ajama | H6: =I6/$I$1*10000 -> 39.279869 | I6: 12
A7: 15-20aastane | B7: =C7/$C$1*10000 -> 1.2501563 | C7: 3 | D7: aimama | E7: =F7/$F$1*10000 -> 3.440367 | F7: 9 | G7: ajendama | H7: =I7/$I$1*10000 -> 6.5466448 | I7: 2
A8: 15-24aastane | B8: =C8/$C$1*10000 -> 2.0835938 | C8: 5 | D8: aitama | E8: =F8/$F$1*10000 -> 9.9388379 | F8: 26 | G8: aktsepteerima | H8: =I8/$I$1*10000 -> 6.5466448 | I8: 2
A9: 15-45aastane | B9: =C9/$C$1*10000 -> 1.2501563 | C9: 3 | D9: ajama | E9: =F9/$F$1*10000 -> 20.259939 | F9: 53 | G9: alahindama | H9: =I9/$I$1*10000 -> 3.2733224 | I9: 1
A10: 16-29aastane | B10: =C10/$C$1*10000 -> 2.0835938 | C10: 5 | D10: aktsepteerima | E10: =F10/$F$1*10000 -> 0.76452599 | F10: 2 | G10: alandama | H10: =I10/$I$1*10000 -> 29.459902 | I10: 9
A11: 16-34aastane | B11: =C11/$C$1*10000 -> 0.83343751 | C11: 2 | D11: alahindama | E11: =F11/$F$1*10000 -> 1.529052 | F11: 4 | G11: alavääristama | H11: =I11/$I$1*10000 -> 13.09329 | I11: 4
A12: 176sentimeetrine | B12: =C12/$C$1*10000 -> 0.83343751 | C12: 2 | D12: algatama | E12: =F12/$F$1*10000 -> 3.440367 | F12: 9 | G12: analüüsima | H12: =I12/$I$1*10000 -> 3.2733224 | I12: 1
A13: 17aastane | B13: =C13/$C$1*10000 -> 2.9170313 | C13: 7 | D13: alistama | E13: =F13/$F$1*10000 -> 1.146789 | F13: 3 | G13: andma | H13: =I13/$I$1*10000 -> 29.459902 | I13: 9
... A471: lodev | B471: =C471/$C$1*10000 -> 1.666875 | C471: 4 | D471: nukrutsema | E471: =F471/$F$1*10000 -> 1.146789 | F471: 3 | G471: üritama | H471: =I471/$I$1*10000 -> 13.09329 | I471: 4
A472: loll | B472: =C472/$C$1*10000 -> 7.5009376 | C472: 18 | D472: nurisema | E472: =F472/$F$1*10000 -> 3.058104 | F472: 8
A473: loomulik | B473: =C473/$C$1*10000 -> 1.2501563 | C473: 3 | D473: nurruma | E473: =F473/$F$1*10000 -> 0.76452599 | F473: 2
A474: loov | B474: =C474/$C$1*10000 -> 1.666875 | C474: 4 | D474: nutma | E474: =F474/$F$1*10000 -> 27.522936 | F474: 72
A475: lopsakas | B475: =C475/$C$1*10000 -> 3.3337501 | C475: 8 | D475: nuuksatama | E475: =F475/$F$1*10000 -> 1.146789 | F475: 3
A476: lugev | B476: =C476/$C$1*10000 -> 1.666875 | C476: 4 | D476: nuuksuma | E476: =F476/$F$1*10000 -> 4.204893 | F476: 11
A477: lugupidav | B477: =C477/$C$1*10000 -> 1.666875 | C477: 4 | D477: nuusutama | E477: =F477/$F$1*10000 -> 1.146789 | F477: 3
A478: luiderkõhn | B478: =C478/$C$1*10000 -> 0.83343751 | C478: 2 | D478: nõksatama | E478: =F478/$F$1*10000 -> 1.146789 | F478: 3
A479: lõbus | B479: =C479/$C$1*10000 -> 12.918281 | C479: 31 | D479: nõudlema | E479: =F479/$F$1*10000 -> 0.382263 | F479: 1
A480: lõdisev | B480: =C480/$C$1*10000 -> 1.2501563 | C480: 3 | D480: nõudma | E480: =F480/$F$1*10000 -> 45.107034 | F480: 118
A481: lõkerdav | B481: =C481/$C$1*10000 -> 0.83343751 | C481: 2 | D481: nõustuma | E481: =F481/$F$1*10000 -> 10.703364 | F481: 28
A482: läbinägelik | B482: =C482/$C$1*10000 -> 0.83343751 | C482: 2 | D482: nõutama | E482: =F482/$F$1*10000 -> 1.529052 | F482: 4
A483: lähenev | B483: =C483/$C$1*10000 -> 6.6675001 | C483: 16 | D483: nägema | E483: =F483/$F$1*10000 -> 69.189602 | F483: 181
... A1000: üritav | B1000: =C1000/$C$1*10000 -> 1.2501563 | C1000: 3 | D1000: üürima | E1000: =F1000/$F$1*10000 -> 1.911315 | F1000: 5

Sheet naine (2)
A1: Adj_modifier | B1: erinevus paarikust | C1: normaliseeritud koosesinemissagedus | D1: absoluutne koosesinemissagedus | E1: subject_of | F1: erinevus paarikust | H1: normaliseeritud koosesinemissagedus | I1: absoluutne koosesinemissagedus | J1: object_of | K1: normaliseeritud koosesinemissagedus | L1: absoluutne koosesinemissagedus
D2: 23997 | G2: võrdlus tüdruk | I2: 26160 | L2: 3055
A3: noor | B3: =IF(ISERROR(MATCH(A3,mees!$A:$A,0)),"*",C3/LOOKUP(A3,mees!$A:$A,mees!$B:$B)) -> 1.5055926 | C3: =D3/$D$2*10000 -> 1520.6067 | D3: 3649 | E3: saama | F3: =IF(ISERROR(MATCH(E3,mees!$D:$D,0)),"*",H3/LOOKUP(E3,mees!$D:$D,mees!$E:$E)) -> 1.225355 | G3: =IF(ISERROR(MATCH(E3,tüdruk!$D:$D,0)),"*",H3/LOOKUP(E3,tüdruk!$D:$D,tüdruk!$E:$E)) -> 0.95422835 | H3: =I3/$I$2*10000 -> 511.08563 | I3: 1337 | J3: viima | K3: =L3/$L$2*10000 -> 540.0982 | L3: 165
A4: vana | B4: =IF(ISERROR(MATCH(A4,mees!$A:$A,0)),"*",C4/LOOKUP(A4,mees!$A:$A,mees!$B:$B)) -> 0.99200123 | C4: =D4/$D$2*10000 -> 325.45735 | D4: 781 | E4: pidama | F4: =IF(ISERROR(MATCH(E4,mees!$D:$D,0)),"*",H4/LOOKUP(E4,mees!$D:$D,mees!$E:$E)) -> 1.198105 | G4: =IF(ISERROR(MATCH(E4,tüdruk!$D:$D,0)),"*",H4/LOOKUP(E4,tüdruk!$D:$D,tüdruk!$E:$E)) -> 1.5159091 | H4: =I4/$I$2*10000 -> 348.24159 | I4: 911 | J4: võtma | K4: =L4/$L$2*10000 -> 523.73159 | L4: 160
A5: ilus | B5: =IF(ISERROR(MATCH(A5,mees!$A:$A,0)),"*",C5/LOOKUP(A5,mees!$A:$A,mees!$B:$B)) -> 5.3138094 | C5: =D5/$D$2*10000 -> 262.53282 | D5: 630 | E5: ütlema | F5: =IF(ISERROR(MATCH(E5,mees!$D:$D,0)),"*",H5/LOOKUP(E5,mees!$D:$D,mees!$E:$E)) -> 1.3301008 | G5: =IF(ISERROR(MATCH(E5,tüdruk!$D:$D,0)),"*",H5/LOOKUP(E5,tüdruk!$D:$D,tüdruk!$E:$E)) -> 1.0888997 | H5: =I5/$I$2*10000 -> 341.36086 | I5: 893 | J5: otsima | K5: =L5/$L$2*10000 -> 320.7856 | L5: 98
A6: elav | B6: =IF(ISERROR(MATCH(A6,mees!$A:$A,0)),"*",C6/LOOKUP(A6,mees!$A:$A,mees!$B:$B)) -> 1.9452018 | C6: =D6/$D$2*10000 -> 204.60891 | D6: 491 | E6: rääkima | F6: =IF(ISERROR(MATCH(E6,mees!$D:$D,0)),"*",H6/LOOKUP(E6,mees!$D:$D,mees!$E:$E)) -> 1.4043548 | G6: =IF(ISERROR(MATCH(E6,tüdruk!$D:$D,0)),"*",H6/LOOKUP(E6,tüdruk!$D:$D,tüdruk!$E:$E)) -> 1.0792463 | H6: =I6/$I$2*10000 -> 246.55963 | I6: 645 | J6: leidma | K6: =L6/$L$2*10000 -> 252.04583 | L6: 77
A7: kaunis | B7: =IF(ISERROR(MATCH(A7,mees!$A:$A,0)),"*",C7/LOOKUP(A7,mees!$A:$A,mees!$B:$B)) -> 38.985648 | C7: =D7/$D$2*10000 -> 177.52219 | D7: 426 | E7: tegema | F7: =IF(ISERROR(MATCH(E7,mees!$D:$D,0)),"*",H7/LOOKUP(E7,mees!$D:$D,mees!$E:$E)) -> 0.82629709 | G7: =IF(ISERROR(MATCH(E7,tüdruk!$D:$D,0)),"*",H7/LOOKUP(E7,tüdruk!$D:$D,tüdruk!$E:$E)) -> 0.91499245 | H7: =I7/$I$2*10000 -> 183.48624 | I7: 480 | J7: pidama | K7: =L7/$L$2*10000 -> 232.40589 | L7: 71
A8: töötav | B8: =IF(ISERROR(MATCH(A8,mees!$A:$A,0)),"*",C8/LOOKUP(A8,mees!$A:$A,mees!$B:$B)) -> 3.6085775 | C8: =D8/$D$2*10000 -> 173.355 | D8: 416 | E8: võima | F8: =IF(ISERROR(MATCH(E8,mees!$D:$D,0)),"*",H8/LOOKUP(E8,mees!$D:$D,mees!$E:$E)) -> 1.2590595 | G8: =IF(ISERROR(MATCH(E8,tüdruk!$D:$D,0)),"*",H8/LOOKUP(E8,tüdruk!$D:$D,tüdruk!$E:$E)) -> 1.4738841 | H8: =I8/$I$2*10000 -> 175.84098 | I8: 460 | J8: peksma | K8: =L8/$L$2*10000 -> 219.3126 | L8: 67
A9: keskealine | B9: =IF(ISERROR(MATCH(A9,mees!$A:$A,0)),"*",C9/LOOKUP(A9,mees!$A:$A,mees!$B:$B)) -> 0.97667916 | C9: =D9/$D$2*10000 -> 158.76985 | D9: 381 | E9: tahtma | F9: =IF(ISERROR(MATCH(E9,mees!$D:$D,0)),"*",H9/LOOKUP(E9,mees!$D:$D,mees!$E:$E)) -> 1.3524254 | G9: =IF(ISERROR(MATCH(E9,tüdruk!$D:$D,0)),"*",H9/LOOKUP(E9,tüdruk!$D:$D,tüdruk!$E:$E)) -> 1.1445031 | H9: =I9/$I$2*10000 -> 174.31193 | I9: 456 | J9: looma | K9: =L9/$L$2*10000 -> 212.76596 | L9: 65
A10: rase | B10: =IF(ISERROR(MATCH(A10,mees!$A:$A,0)),"*",C10/LOOKUP(A10,mees!$A:$A,mees!$B:$B)) -> * | C10: =D10/$D$2*10000 -> 145.01813 | D10: 348 | E10: tulema | F10: =IF(ISERROR(MATCH(E10,mees!$D:$D,0)),"*",H10/LOOKUP(E10,mees!$D:$D,mees!$E:$E)) -> 0.71861418 | G10: =IF(ISERROR(MATCH(E10,tüdruk!$D:$D,0)),"*",H10/LOOKUP(E10,tüdruk!$D:$D,tüdruk!$E:$E)) -> 0.71016256 | H10: =I10/$I$2*10000 -> 171.25382 | I10: 448 | J10: toimetama | K10: =L10/$L$2*10000 -> 206.21931 | L10: 63
A11: uus | B11: =IF(ISERROR(MATCH(A11,mees!$A:$A,0)),"*",C11/LOOKUP(A11,mees!$A:$A,mees!$B:$B)) -> 0.50402565 | C11: =D11/$D$2*10000 -> 114.18094 | D11: 274 | E11: jääma | F11: =IF(ISERROR(MATCH(E11,mees!$D:$D,0)),"*",H11/LOOKUP(E11,mees!$D:$D,mees!$E:$E)) -> 0.98182465 | G11: =IF(ISERROR(MATCH(E11,tüdruk!$D:$D,0)),"*",H11/LOOKUP(E11,tüdruk!$D:$D,tüdruk!$E:$E)) -> 0.93885016 | H11: =I11/$I$2*10000 -> 152.52294 | I11: 399 | J11: tapma | K11: =L11/$L$2*10000 -> 196.39935 | L11: 60
A12: endine | B12: =IF(ISERROR(MATCH(A12,mees!$A:$A,0)),"*",C12/LOOKUP(A12,mees!$A:$A,mees!$B:$B)) -> 3.3991511 | C12: =D12/$D$2*10000 -> 102.92953 | D12: 247 | E12: minema | F12: =IF(ISERROR(MATCH(E12,mees!$D:$D,0)),"*",H12/LOOKUP(E12,mees!$D:$D,mees!$E:$E)) -> 0.81979344 | G12: =IF(ISERROR(MATCH(E12,tüdruk!$D:$D,0)),"*",H12/LOOKUP(E12,tüdruk!$D:$D,tüdruk!$E:$E)) -> 0.87497545 | H12: =I12/$I$2*10000 -> 152.14067 | I12: 398 | J12: armastama | K12: =L12/$L$2*10000 -> 186.57938 | L12: 57
A13: tark | B13: =IF(ISERROR(MATCH(A13,mees!$A:$A,0)),"*",C13/LOOKUP(A13,mees!$A:$A,mees!$B:$B)) -> 0.91314473 | C13: =D13/$D$2*10000 -> 94.595158 | D13: 227 | E13: küsima | F13: =IF(ISERROR(MATCH(E13,mees!$D:$D,0)),"*",H13/LOOKUP(E13,mees!$D:$D,mees!$E:$E)) -> 1.7556498 | G13: =IF(ISERROR(MATCH(E13,tüdruk!$D:$D,0)),"*",H13/LOOKUP(E13,tüdruk!$D:$D,tüdruk!$E:$E)) -> 1.5059251 | H13: =I13/$I$2*10000 -> 135.70336 | I13: 355 | J13: süüdistama | K13: =L13/$L$2*10000 -> 176.75941 | L13: 54
A14: võõras | B14: =IF(ISERROR(MATCH(A14,mees!$A:$A,0)),"*",C14/LOOKUP(A14,mees!$A:$A,mees!$B:$B)) -> 0.80548117 | C14: =D14/$D$2*10000 -> 93.345001 | D14: 224 | E14: võtma | F14: =IF(ISERROR(MATCH(E14,mees!$D:$D,0)),"*",H14/LOOKUP(E14,mees!$D:$D,mees!$E:$E)) -> 0.80524805 | G14: =IF(ISERROR(MATCH(E14,tüdruk!$D:$D,0)),"*",H14/LOOKUP(E14,tüdruk!$D:$D,tüdruk!$E:$E)) -> 1.2493601 | H14: =I14/$I$2*10000 -> 128.44037 | I14: 336 | J14: sundima | K14: =L14/$L$2*10000 -> 160.3928 | L14: 49
... A472: aidsihaige | B472: =IF(ISERROR(MATCH(A472,mees!$A:$A,0)),"*",C472/LOOKUP(A472,mees!$A:$A,mees!$B:$B)) -> 1.3727341 | C472: =D472/$D$2*10000 -> 2.5003125 | D472: 6 | E472: kummarduma | F472: =IF(ISERROR(MATCH(E472,mees!$D:$D,0)),"*",H472/LOOKUP(E472,mees!$D:$D,mees!$E:$E)) -> 1.5170298 | G472: =IF(ISERROR(MATCH(E472,tüdruk!$D:$D,0)),"*",H472/LOOKUP(E472,tüdruk!$D:$D,tüdruk!$E:$E)) -> 0.60237003 | H472: =I472/$I$2*10000 -> 2.293578 | I472: 6 | J472: valmistama | K472: =L472/$L$2*10000 -> 3.2733224 | L472: 1
A473: eilne | B473: =IF(ISERROR(MATCH(A473,mees!$A:$A,0)),"*",C473/LOOKUP(A473,mees!$A:$A,mees!$B:$B)) -> 0.5779933 | C473: =D473/$D$2*10000 -> 2.5003125 | D473: 6 | E473: minestama | F473: =IF(ISERROR(MATCH(E473,mees!$D:$D,0)),"*",H473/LOOKUP(E473,mees!$D:$D,mees!$E:$E)) -> 1.2136239 | G473: =IF(ISERROR(MATCH(E473,tüdruk!$D:$D,0)),"*",H473/LOOKUP(E473,tüdruk!$D:$D,tüdruk!$E:$E)) -> 0.60237003 | H473: =I473/$I$2*10000 -> 2.293578 | I473: 6
A474: higine | B474: =IF(ISERROR(MATCH(A474,mees!$A:$A,0)),"*",C474/LOOKUP(A474,mees!$A:$A,mees!$B:$B)) -> 0.91515606 | C474: =D474/$D$2*10000 -> 2.5003125 | D474: 6 | E474: sööstma | F474: =IF(ISERROR(MATCH(E474,mees!$D:$D,0)),"*",H474/LOOKUP(E474,mees!$D:$D,mees!$E:$E)) -> 1.1032944 | G474: =IF(ISERROR(MATCH(E474,tüdruk!$D:$D,0)),"*",H474/LOOKUP(E474,tüdruk!$D:$D,tüdruk!$E:$E)) -> 0.60237003 | H474: =I474/$I$2*10000 -> 2.293578 | I474: 6
A475: ihaldusväärne | B475: =IF(ISERROR(MATCH(A475,mees!$A:$A,0)),"*",C475/LOOKUP(A475,mees!$A:$A,mees!$B:$B)) -> 1.3727341 | C475: =D475/$D$2*10000 -> 2.5003125 | D475: 6 | E475: süütama | F475: =IF(ISERROR(MATCH(E475,mees!$D:$D,0)),"*",H475/LOOKUP(E475,mees!$D:$D,mees!$E:$E)) -> 0.48544954 | G475: =IF(ISERROR(MATCH(E475,tüdruk!$D:$D,0)),"*",H475/LOOKUP(E475,tüdruk!$D:$D,tüdruk!$E:$E)) -> 0.60237003 | H475: =I475/$I$2*10000 -> 2.293578 | I475: 6
A476: isiklik | B476: =IF(ISERROR(MATCH(A476,mees!$A:$A,0)),"*",C476/LOOKUP(A476,mees!$A:$A,mees!$B:$B)) -> 2.7454682 | C476: =D476/$D$2*10000 -> 2.5003125 | D476: 6 | E476: toibuma | F476: =IF(ISERROR(MATCH(E476,mees!$D:$D,0)),"*",H476/LOOKUP(E476,mees!$D:$D,mees!$E:$E)) -> 1.2136239 | G476: =IF(ISERROR(MATCH(E476,tüdruk!$D:$D,0)),"*",H476/LOOKUP(E476,tüdruk!$D:$D,tüdruk!$E:$E)) -> 0.60237003 | H476: =I476/$I$2*10000 -> 2.293578 | I476: 6
A477: kahtlane | B477: =IF(ISERROR(MATCH(A477,mees!$A:$A,0)),"*",C477/LOOKUP(A477,mees!$A:$A,mees!$B:$B)) -> 0.099835207 | C477: =D477/$D$2*10000 -> 2.5003125 | D477: 6 | E477: sädistama | F477: =IF(ISERROR(MATCH(E477,mees!$D:$D,0)),"*",H477/LOOKUP(E477,mees!$D:$D,mees!$E:$E)) -> * | G477: =IF(ISERROR(MATCH(E477,tüdruk!$D:$D,0)),"*",H477/LOOKUP(E477,tüdruk!$D:$D,tüdruk!$E:$E)) -> 0.36142202 | H477: =I477/$I$2*10000 -> 2.293578 | I477: 6
A478: kogukas | B478: =IF(ISERROR(MATCH(A478,mees!$A:$A,0)),"*",C478/LOOKUP(A478,mees!$A:$A,mees!$B:$B)) -> 0.32299626 | C478: =D478/$D$2*10000 -> 2.5003125 | D478: 6 | E478: iseloomustama | F478: =IF(ISERROR(MATCH(E478,mees!$D:$D,0)),"*",H478/LOOKUP(E478,mees!$D:$D,mees!$E:$E)) -> 1.1032944 | G478: =IF(ISERROR(MATCH(E478,tüdruk!$D:$D,0)),"*",H478/LOOKUP(E478,tüdruk!$D:$D,tüdruk!$E:$E)) -> 0.36142202 | H478: =I478/$I$2*10000 -> 2.293578 | I478: 6
A479: kükitav | B479: =IF(ISERROR(MATCH(A479,mees!$A:$A,0)),"*",C479/LOOKUP(A479,mees!$A:$A,mees!$B:$B)) -> 1.2202081 | C479: =D479/$D$2*10000 -> 2.5003125 | D479: 6 | E479: kommenteerima | F479: =IF(ISERROR(MATCH(E479,mees!$D:$D,0)),"*",H479/LOOKUP(E479,mees!$D:$D,mees!$E:$E)) -> 0.67423547 | G479: =IF(ISERROR(MATCH(E479,tüdruk!$D:$D,0)),"*",H479/LOOKUP(E479,tüdruk!$D:$D,tüdruk!$E:$E)) -> 0.36142202 | H479: =I479/$I$2*10000 -> 2.293578 | I479: 6
A480: liikumisvõimetu | B480: =IF(ISERROR(MATCH(A480,mees!$A:$A,0)),"*",C480/LOOKUP(A480,mees!$A:$A,mees!$B:$B)) -> 2.1963745 | C480: =D480/$D$2*10000 -> 2.5003125 | D480: 6 | E480: sättima | F480: =IF(ISERROR(MATCH(E480,mees!$D:$D,0)),"*",H480/LOOKUP(E480,mees!$D:$D,mees!$E:$E)) -> 0.67423547 | G480: =IF(ISERROR(MATCH(E480,tüdruk!$D:$D,0)),"*",H480/LOOKUP(E480,tüdruk!$D:$D,tüdruk!$E:$E)) -> 0.30118502 | H480: =I480/$I$2*10000 -> 2.293578 | I480: 6
A481: metsik | B481: =IF(ISERROR(MATCH(A481,mees!$A:$A,0)),"*",C481/LOOKUP(A481,mees!$A:$A,mees!$B:$B)) -> 0.47747273 | C481: =D481/$D$2*10000 -> 2.5003125 | D481: 6 | E481: tõrelema | F481: =IF(ISERROR(MATCH(E481,mees!$D:$D,0)),"*",H481/LOOKUP(E481,mees!$D:$D,mees!$E:$E)) -> * | G481: =IF(ISERROR(MATCH(E481,tüdruk!$D:$D,0)),"*",H481/LOOKUP(E481,tüdruk!$D:$D,tüdruk!$E:$E)) -> * | H481: =I481/$I$2*10000 -> 1.911315 | I481: 5
A482: mitmekülgne | B482: =IF(ISERROR(MATCH(A482,mees!$A:$A,0)),"*",C482/LOOKUP(A482,mees!$A:$A,mees!$B:$B)) -> 0.23873636 | C482: =D482/$D$2*10000 -> 2.5003125 | D482: 6 | E482: hõivama | F482: =IF(ISERROR(MATCH(E482,mees!$D:$D,0)),"*",H482/LOOKUP(E482,mees!$D:$D,mees!$E:$E)) -> 0.77796401 | G482: =IF(ISERROR(MATCH(E482,tüdruk!$D:$D,0)),"*",H482/LOOKUP(E482,tüdruk!$D:$D,tüdruk!$E:$E)) -> * | H482: =I482/$I$2*10000 -> 1.911315 | I482: 5
A483: mittesuitsetav | B483: =IF(ISERROR(MATCH(A483,mees!$A:$A,0)),"*",C483/LOOKUP(A483,mees!$A:$A,mees!$B:$B)) -> 2.7454682 | C483: =D483/$D$2*10000 -> 2.5003125 | D483: 6 | E483: hädaldama | F483: =IF(ISERROR(MATCH(E483,mees!$D:$D,0)),"*",H483/LOOKUP(E483,mees!$D:$D,mees!$E:$E)) -> 2.528383 | G483: =IF(ISERROR(MATCH(E483,tüdruk!$D:$D,0)),"*",H483/LOOKUP(E483,tüdruk!$D:$D,tüdruk!$E:$E)) -> * | H483: =I483/$I$2*10000 -> 1.911315 | I483: 5
A484: naasev | B484: =IF(ISERROR(MATCH(A484,mees!$A:$A,0)),"*",C484/LOOKUP(A484,mees!$A:$A,mees!$B:$B)) -> 2.7454682 | C484: =D484/$D$2*10000 -> 2.5003125 | D484: 6 | E484: imetlema | F484: =IF(ISERROR(MATCH(E484,mees!$D:$D,0)),"*",H484/LOOKUP(E484,mees!$D:$D,mees!$E:$E)) -> 2.528383 | G484: =IF(ISERROR(MATCH(E484,tüdruk!$D:$D,0)),"*",H484/LOOKUP(E484,tüdruk!$D:$D,tüdruk!$E:$E)) -> * | H484: =I484/$I$2*10000 -> 1.911315 | I484: 5
... A1001: surmahaige | B1001: =IF(ISERROR(MATCH(A1001,mees!$A:$A,0)),"*",C1001/LOOKUP(A1001,mees!$A:$A,mees!$B:$B)) -> 0.73212485 | C1001: =D1001/$D$2*10000 -> 0.83343751 | D1001: 2 | E1001: tihkuma | F1001: =IF(ISERROR(MATCH(E1001,mees!$D:$D,0)),"*",H1001/LOOKUP(E1001,mees!$D:$D,mees!$E:$E)) -> * | G1001: =IF(ISERROR(MATCH(E1001,tüdruk!$D:$D,0)),"*",H1001/LOOKUP(E1001,tüdruk!$D:$D,tüdruk!$E:$E)) -> 0.30118502 | H1001: =I1001/$I$2*10000 -> 0.382263 | I1001: 1

Sheet mees
A1: adjektiivatribuut | C1: 43922 | D1: subjekt | F1: 52914 | G1: objekt | I1: 5823
A2: 100aastane | B2: =C2/$C$1*10000 -> 0.91070534 | C2: 4 | D2: abielluma | E2: =F2/$F$1*10000 -> 7.9374079 | F2: 42 | G2: aheldama | H2: =I2/$I$1*10000 -> 5.1519835 | I2: 3
A3: 100kilone | B3: =C3/$C$1*10000 -> 5.9195847 | C3: 26 | D3: abistama | E3: =F3/$F$1*10000 -> 1.7008731 | F3: 9 | G3: ahistama | H3: =I3/$I$1*10000 -> 5.1519835 | I3: 3
A4: 10-60aastane | B4: =C4/$C$1*10000 -> 0.68302901 | C4: 3 | D4: adopteerima | E4: =F4/$F$1*10000 -> 0.5669577 | F4: 3 | G4: ahvatlema | H4: =I4/$I$1*10000 -> 5.1519835 | I4: 3
A5: 115kilone | B5: =C5/$C$1*10000 -> 0.68302901 | C5: 3 | D5: ahastama | E5: =F5/$F$1*10000 -> 1.1339154 | F5: 6 | G5: aimama | H5: =I5/$I$1*10000 -> 1.7173278 | I5: 1
A6: 120kilone | B6: =C6/$C$1*10000 -> 2.2767634 | C6: 10 | D6: ahistama | E6: =F6/$F$1*10000 -> 1.7008731 | F6: 9 | G6: aitama | H6: =I6/$I$1*10000 -> 29.194573 | I6: 17
A7: 130kilone | B7: =C7/$C$1*10000 -> 1.366058 | C7: 6 | D7: ahmima | E7: =F7/$F$1*10000 -> 0.5669577 | F7: 3 | G7: ajama | H7: =I7/$I$1*10000 -> 24.04259 | I7: 14
A8: 150kilone | B8: =C8/$C$1*10000 -> 1.5937343 | C8: 7 | D8: aimama | E8: =F8/$F$1*10000 -> 2.2678308 | F8: 12 | G8: ajendama | H8: =I8/$I$1*10000 -> 5.1519835 | I8: 3
A9: 15-29aastane | B9: =C9/$C$1*10000 -> 1.366058 | C9: 6 | D9: aitama | E9: =F9/$F$1*10000 -> 14.173943 | F9: 75 | G9: aktsepteerima | H9: =I9/$I$1*10000 -> 1.7173278 | I9: 1
A10: 17-20aastane | B10: =C10/$C$1*10000 -> 0.91070534 | C10: 4 | D10: ajama | E10: =F10/$F$1*10000 -> 34.58442 | F10: 183 | G10: alahindama | H10: =I10/$I$1*10000 -> 1.7173278 | I10: 1
A11: 17-50aastane | B11: =C11/$C$1*10000 -> 0.68302901 | C11: 3 | D11: aktsepteerima | E11: =F11/$F$1*10000 -> 1.1339154 | F11: 6 | G11: alandama | H11: =I11/$I$1*10000 -> 6.8693114 | I11: 4
A12: 18-20aastane | B12: =C12/$C$1*10000 -> 0.91070534 | C12: 4 | D12: alahindama | E12: =F12/$F$1*10000 -> 0.94492951 | F12: 5 | G12: alavääristama | H12: =I12/$I$1*10000 -> 1.7173278 | I12: 1
A13: 18-24aastane | B13: =C13/$C$1*10000 -> 1.1383817 | C13: 5 | D13: algatama | E13: =F13/$F$1*10000 -> 1.1339154 | F13: 6 | G13: allutama | H13: =I13/$I$1*10000 -> 3.4346557 | I13: 2
... A545: nupukas | B545: =C545/$C$1*10000 -> 1.1383817 | C545: 5 | D545: plaanima | E545: =F545/$F$1*10000 -> 3.5907321 | F545: 19 | G545: üritama | H545: =I545/$I$1*10000 -> 20.607934 | I545: 12
A546: nutikas | B546: =C546/$C$1*10000 -> 10.928464 | C546: 48 | D546: planeerima | E546: =F546/$F$1*10000 -> 1.1339154 | F546: 6
A547: nuttev | B547: =C547/$C$1*10000 -> 2.049087 | C547: 9 | D547: pobisema | E547: =F547/$F$1*10000 -> 1.5118872 | F547: 8
A548: nõgine | B548: =C548/$C$1*10000 -> 1.5937343 | C548: 7 | D548: poetama | E548: =F548/$F$1*10000 -> 2.8347885 | F548: 15
A549: nõrk | B549: =C549/$C$1*10000 -> 7.7409954 | C549: 34 | D549: pomisema | E549: =F549/$F$1*10000 -> 5.669577 | F549: 30
A550: nõudlik | B550: =C550/$C$1*10000 -> 2.049087 | C550: 9 | D550: pooldama | E550: =F550/$F$1*10000 -> 1.5118872 | F550: 8
A551: nägus | B551: =C551/$C$1*10000 -> 5.9195847 | C551: 26 | D551: pooma | E551: =F551/$F$1*10000 -> 5.2916052 | F551: 28
A552: nähtamatu | B552: =C552/$C$1*10000 -> 1.5937343 | C552: 7 | D552: porisema | E552: =F552/$F$1*10000 -> 0.94492951 | F552: 5
A553: näitav | B553: =C553/$C$1*10000 -> 1.1383817 | C553: 5 | D553: praadima | E553: =F553/$F$1*10000 -> 0.75594361 | F553: 4
A554: näiv | B554: =C554/$C$1*10000 -> 0.91070534 | C554: 4 | D554: prantsatama | E554: =F554/$F$1*10000 -> 0.94492951 | F554: 5
A555: näljane | B555: =C555/$C$1*10000 -> 4.098174 | C555: 18 | D555: pressima | E555: =F555/$F$1*10000 -> 2.2678308 | F555: 12
A556: närune | B556: =C556/$C$1*10000 -> 0.91070534 | C556: 4 | D556: produtseerima | E556: =F556/$F$1*10000 -> 0.75594361 | F556: 4
A557: närviline | B557: =C557/$C$1*10000 -> 2.5044397 | C557: 11 | D557: proovima | E557: =F557/$F$1*10000 -> 10.961182 | F557: 58
... A1000: üritav | B1000: =C1000/$C$1*10000 -> 0.91070534 | C1000: 4 | D1000: üürima | E1000: =F1000/$F$1*10000 -> 3.0237744 | F1000: 16

Sheet poiss (2)
A1: Adj_modifier | B1: erinevus paarikust | C1: normaliseeritud koosesinemissagedus | D1: absoluutne koosesinemissagedus | E1: subject_of | F1: erinevus paarikust | H1: normaliseeritud koosesinemissagedus | I1: absoluutne koosesinemissagedus | J1: object_of | K1: normaliseeritud koosesinemissagedus | L1: absoluutne koosesinemissagedus
D2: 10943 | G2: mehega | I2: 10705 | L2: 998
A3: väike | B3: =IF(ISERROR(MATCH(A3,tüdruk!$A:$A,0)),"*",C3/LOOKUP(A3,tüdruk!$A:$A,tüdruk!$B:$B)) -> 0.90212546 | C3: =D3/$D$2*10000 -> 1104.8159 | D3: 1209 | E3: saama | F3: =IF(ISERROR(MATCH(E3,tüdruk!$D:$D,0)),"*",H3/LOOKUP(E3,tüdruk!$D:$D,tüdruk!$E:$E)) -> 1.158084 | G3: =IF(ISERROR(MATCH(E3,mees!$D:$D,0)),"*",H3/LOOKUP(E3,mees!$D:$D,mees!$E:$E)) -> 1.4871325 | H3: =I3/$I$2*10000 -> 620.2709 | I3: 664 | J3: viima | K3: =L3/$L$2*10000 -> 941.88377 | L3: 94
A4: noor | B4: =IF(ISERROR(MATCH(A4,tüdruk!$A:$A,0)),"*",C4/LOOKUP(A4,tüdruk!$A:$A,tüdruk!$B:$B)) -> 0.76991591 | C4: =D4/$D$2*10000 -> 531.84684 | D4: 582 | E4: ütlema | F4: =IF(ISERROR(MATCH(E4,tüdruk!$D:$D,0)),"*",H4/LOOKUP(E4,tüdruk!$D:$D,tüdruk!$E:$E)) -> 0.94757718 | G4: =IF(ISERROR(MATCH(E4,mees!$D:$D,0)),"*",H4/LOOKUP(E4,mees!$D:$D,mees!$E:$E)) -> 1.1574741 | H4: =I4/$I$2*10000 -> 297.05745 | I4: 318 | J4: toimetama | K4: =L4/$L$2*10000 -> 470.94188 | L4: 47
A5: paha | B5: =IF(ISERROR(MATCH(A5,tüdruk!$A:$A,0)),"*",C5/LOOKUP(A5,tüdruk!$A:$A,tüdruk!$B:$B)) -> 5.4495552 | C5: =D5/$D$2*10000 -> 357.30604 | D5: 391 | E5: tegema | F5: =IF(ISERROR(MATCH(E5,tüdruk!$D:$D,0)),"*",H5/LOOKUP(E5,tüdruk!$D:$D,tüdruk!$E:$E)) -> 1.3415901 | G5: =IF(ISERROR(MATCH(E5,mees!$D:$D,0)),"*",H5/LOOKUP(E5,mees!$D:$D,mees!$E:$E)) -> 1.2115422 | H5: =I5/$I$2*10000 -> 269.03316 | I5: 288 | J5: saatma | K5: =L5/$L$2*10000 -> 320.64128 | L5: 32
A6: 14aastane | B6: =IF(ISERROR(MATCH(A6,tüdruk!$A:$A,0)),"*",C6/LOOKUP(A6,tüdruk!$A:$A,tüdruk!$B:$B)) -> 1.1127113 | C6: =D6/$D$2*10000 -> 254.04368 | D6: 278 | E6: pidama | F6: =IF(ISERROR(MATCH(E6,tüdruk!$D:$D,0)),"*",H6/LOOKUP(E6,tüdruk!$D:$D,tüdruk!$E:$E)) -> 1.1263818 | G6: =IF(ISERROR(MATCH(E6,mees!$D:$D,0)),"*",H6/LOOKUP(E6,mees!$D:$D,mees!$E:$E)) -> 0.89024051 | H6: =I6/$I$2*10000 -> 258.75759 | I6: 277 | J6: ootama | K6: =L6/$L$2*10000 -> 290.58116 | L6: 29
A7: 13aastane | B7: =IF(ISERROR(MATCH(A7,tüdruk!$A:$A,0)),"*",C7/LOOKUP(A7,tüdruk!$A:$A,tüdruk!$B:$B)) -> 1.33293 | C7: =D7/$D$2*10000 -> 240.33629 | D7: 263 | E7: tulema | F7: =IF(ISERROR(MATCH(E7,tüdruk!$D:$D,0)),"*",H7/LOOKUP(E7,tüdruk!$D:$D,tüdruk!$E:$E)) -> 1.0459107 | G7: =IF(ISERROR(MATCH(E7,mees!$D:$D,0)),"*",H7/LOOKUP(E7,mees!$D:$D,mees!$E:$E)) -> 1.058358 | H7: =I7/$I$2*10000 -> 252.21859 | I7: 270 | J7: võtma | K7: =L7/$L$2*10000 -> 270.54108 | L7: 27
A8: 12aastane | B8: =IF(ISERROR(MATCH(A8,tüdruk!$A:$A,0)),"*",C8/LOOKUP(A8,tüdruk!$A:$A,tüdruk!$B:$B)) -> 1.2826034 | C8: =D8/$D$2*10000 -> 235.76716 | D8: 258 | E8: minema | F8: =IF(ISERROR(MATCH(E8,tüdruk!$D:$D,0)),"*",H8/LOOKUP(E8,tüdruk!$D:$D,tüdruk!$E:$E)) -> 1.278618 | G8: =IF(ISERROR(MATCH(E8,mees!$D:$D,0)),"*",H8/LOOKUP(E8,mees!$D:$D,mees!$E:$E)) -> 1.1979795 | H8: =I8/$I$2*10000 -> 222.32602 | I8: 238 | J8: leidma | K8: =L8/$L$2*10000 -> 260.52104 | L8: 26
A9: 15aastane | B9: =IF(ISERROR(MATCH(A9,tüdruk!$A:$A,0)),"*",C9/LOOKUP(A9,tüdruk!$A:$A,tüdruk!$B:$B)) -> 1.1472394 | C9: =D9/$D$2*10000 -> 222.97359 | D9: 244 | E9: rääkima | F9: =IF(ISERROR(MATCH(E9,tüdruk!$D:$D,0)),"*",H9/LOOKUP(E9,tüdruk!$D:$D,tüdruk!$E:$E)) -> 0.83823499 | G9: =IF(ISERROR(MATCH(E9,mees!$D:$D,0)),"*",H9/LOOKUP(E9,mees!$D:$D,mees!$E:$E)) -> 1.0907421 | H9: =I9/$I$2*10000 -> 191.4993 | I9: 205 | J9: kutsuma | K9: =L9/$L$2*10000 -> 250.501 | L9: 25
A10: suur | B10: =IF(ISERROR(MATCH(A10,tüdruk!$A:$A,0)),"*",C10/LOOKUP(A10,tüdruk!$A:$A,tüdruk!$B:$B)) -> 2.3414968 | C10: =D10/$D$2*10000 -> 211.09385 | D10: 231 | E10: jääma | F10: =IF(ISERROR(MATCH(E10,tüdruk!$D:$D,0)),"*",H10/LOOKUP(E10,tüdruk!$D:$D,tüdruk!$E:$E)) -> 1.1557676 | G10: =IF(ISERROR(MATCH(E10,mees!$D:$D,0)),"*",H10/LOOKUP(E10,mees!$D:$D,mees!$E:$E)) -> 1.2086712 | H10: =I10/$I$2*10000 -> 187.76273 | I10: 201 | J10: panema | K10: =L10/$L$2*10000 -> 210.42084 | L10: 21
A11: tubli | B11: =IF(ISERROR(MATCH(A11,tüdruk!$A:$A,0)),"*",C11/LOOKUP(A11,tüdruk!$A:$A,tüdruk!$B:$B)) -> 1.7073415 | C11: =D11/$D$2*10000 -> 191.9035 | D11: 210 | E11: käima | F11: =IF(ISERROR(MATCH(E11,tüdruk!$D:$D,0)),"*",H11/LOOKUP(E11,tüdruk!$D:$D,tüdruk!$E:$E)) -> 1.0325337 | G11: =IF(ISERROR(MATCH(E11,mees!$D:$D,0)),"*",H11/LOOKUP(E11,mees!$D:$D,mees!$E:$E)) -> 1.9472124 | H11: =I11/$I$2*10000 -> 182.15787 | I11: 195 | J11: tahtma | K11: =L11/$L$2*10000 -> 200.4008 | L11: 20
A12: puhas | B12: =IF(ISERROR(MATCH(A12,tüdruk!$A:$A,0)),"*",C12/LOOKUP(A12,tüdruk!$A:$A,tüdruk!$B:$B)) -> 26.146715 | C12: =D12/$D$2*10000 -> 183.67906 | D12: 201 | E12: mängima | F12: =IF(ISERROR(MATCH(E12,tüdruk!$D:$D,0)),"*",H12/LOOKUP(E12,tüdruk!$D:$D,tüdruk!$E:$E)) -> 2.7034258 | G12: =IF(ISERROR(MATCH(E12,mees!$D:$D,0)),"*",H12/LOOKUP(E12,mees!$D:$D,mees!$E:$E)) -> 2.384087 | H12: =I12/$I$2*10000 -> 178.4213 | I12: 191 | J12: tooma | K12: =L12/$L$2*10000 -> 190.38076 | L12: 19
A13: hea | B13: =IF(ISERROR(MATCH(A13,tüdruk!$A:$A,0)),"*",C13/LOOKUP(A13,tüdruk!$A:$A,tüdruk!$B:$B)) -> 1.8731975 | C13: =D13/$D$2*10000 -> 175.45463 | D13: 192 | E13: tahtma | F13: =IF(ISERROR(MATCH(E13,tüdruk!$D:$D,0)),"*",H13/LOOKUP(E13,tüdruk!$D:$D,tüdruk!$E:$E)) -> 1.1346839 | G13: =IF(ISERROR(MATCH(E13,mees!$D:$D,0)),"*",H13/LOOKUP(E13,mees!$D:$D,mees!$E:$E)) -> 1.3408225 | H13: =I13/$I$2*10000 -> 172.81644 | I13: 185 | J13: pidama | K13: =L13/$L$2*10000 -> 170.34068 | L13: 17
A14: ilus | B14: =IF(ISERROR(MATCH(A14,tüdruk!$A:$A,0)),"*",C14/LOOKUP(A14,tüdruk!$A:$A,tüdruk!$B:$B)) -> 0.3397466 | C14: =D14/$D$2*10000 -> 169.05785 | D14: 185 | E14: hakkama | F14: =IF(ISERROR(MATCH(E14,tüdruk!$D:$D,0)),"*",H14/LOOKUP(E14,tüdruk!$D:$D,tüdruk!$E:$E)) -> 1.0251585 | G14: =IF(ISERROR(MATCH(E14,mees!$D:$D,0)),"*",H14/LOOKUP(E14,mees!$D:$D,mees!$E:$E)) -> 1.4943723 | H14: =I14/$I$2*10000 -> 145.7263 | I14: 156 | J14: süüdistama | K14: =L14/$L$2*10000 -> 160.32064 | L14: 16
... A227: lahe | B227: =IF(ISERROR(MATCH(A227,tüdruk!$A:$A,0)),"*",C227/LOOKUP(A227,tüdruk!$A:$A,tüdruk!$B:$B)) -> 0.78049895 | C227: =D227/$D$2*10000 -> 4.569131 | D227: 5 | E227: kiusama | F227: =IF(ISERROR(MATCH(E227,tüdruk!$D:$D,0)),"*",H227/LOOKUP(E227,tüdruk!$D:$D,tüdruk!$E:$E)) -> * | G227: =IF(ISERROR(MATCH(E227,mees!$D:$D,0)),"*",H227/LOOKUP(E227,mees!$D:$D,mees!$E:$E)) -> * | H227: =I227/$I$2*10000 -> 6.5390005 | I227: 7 | J227: langema | K227: =L227/$L$2*10000 -> 10.02004 | L227: 1
A228: kodutu | B228: =IF(ISERROR(MATCH(A228,tüdruk!$A:$A,0)),"*",C228/LOOKUP(A228,tüdruk!$A:$A,tüdruk!$B:$B)) -> 1.3008316 | C228: =D228/$D$2*10000 -> 4.569131 | D228: 5 | E228: harjuma | F228: =IF(ISERROR(MATCH(E228,tüdruk!$D:$D,0)),"*",H228/LOOKUP(E228,tüdruk!$D:$D,tüdruk!$E:$E)) -> 1.2880196 | G228: =IF(ISERROR(MATCH(E228,mees!$D:$D,0)),"*",H228/LOOKUP(E228,mees!$D:$D,mees!$E:$E)) -> 3.4600467 | H228: =I228/$I$2*10000 -> 6.5390005 | I228: 7
A229: kange | B229: =IF(ISERROR(MATCH(A229,tüdruk!$A:$A,0)),"*",C229/LOOKUP(A229,tüdruk!$A:$A,tüdruk!$B:$B)) -> 0.3252079 | C229: =D229/$D$2*10000 -> 4.569131 | D229: 5 | E229: üllatama | F229: =IF(ISERROR(MATCH(E229,tüdruk!$D:$D,0)),"*",H229/LOOKUP(E229,tüdruk!$D:$D,tüdruk!$E:$E)) -> * | G229: =IF(ISERROR(MATCH(E229,mees!$D:$D,0)),"*",H229/LOOKUP(E229,mees!$D:$D,mees!$E:$E)) -> 2.6615744 | H229: =I229/$I$2*10000 -> 6.5390005 | I229: 7
A230: nimeline | B230: =IF(ISERROR(MATCH(A230,tüdruk!$A:$A,0)),"*",C230/LOOKUP(A230,tüdruk!$A:$A,tüdruk!$B:$B)) -> 0.55749925 | C230: =D230/$D$2*10000 -> 4.569131 | D230: 5 | E230: igatsema | F230: =IF(ISERROR(MATCH(E230,tüdruk!$D:$D,0)),"*",H230/LOOKUP(E230,tüdruk!$D:$D,tüdruk!$E:$E)) -> 1.0304157 | G230: =IF(ISERROR(MATCH(E230,mees!$D:$D,0)),"*",H230/LOOKUP(E230,mees!$D:$D,mees!$E:$E)) -> 2.6615744 | H230: =I230/$I$2*10000 -> 6.5390005 | I230: 7
A231: suurepärane | B231: =IF(ISERROR(MATCH(A231,tüdruk!$A:$A,0)),"*",C231/LOOKUP(A231,tüdruk!$A:$A,tüdruk!$B:$B)) -> 0.65041579 | C231: =D231/$D$2*10000 -> 4.569131 | D231: 5 | E231: puuduma | F231: =IF(ISERROR(MATCH(E231,tüdruk!$D:$D,0)),"*",H231/LOOKUP(E231,tüdruk!$D:$D,tüdruk!$E:$E)) -> * | G231: =IF(ISERROR(MATCH(E231,mees!$D:$D,0)),"*",H231/LOOKUP(E231,mees!$D:$D,mees!$E:$E)) -> 2.4714619 | H231: =I231/$I$2*10000 -> 6.5390005 | I231: 7
A232: huvitav | B232: =IF(ISERROR(MATCH(A232,tüdruk!$A:$A,0)),"*",C232/LOOKUP(A232,tüdruk!$A:$A,tüdruk!$B:$B)) -> 0.97562369 | C232: =D232/$D$2*10000 -> 4.569131 | D232: 5 | E232: väsima | F232: =IF(ISERROR(MATCH(E232,tüdruk!$D:$D,0)),"*",H232/LOOKUP(E232,tüdruk!$D:$D,tüdruk!$E:$E)) -> 2.5760392 | G232: =IF(ISERROR(MATCH(E232,mees!$D:$D,0)),"*",H232/LOOKUP(E232,mees!$D:$D,mees!$E:$E)) -> 1.8210772 | H232: =I232/$I$2*10000 -> 6.5390005 | I232: 7
A233: keskmine | B233: =IF(ISERROR(MATCH(A233,tüdruk!$A:$A,0)),"*",C233/LOOKUP(A233,tüdruk!$A:$A,tüdruk!$B:$B)) -> 0.78049895 | C233: =D233/$D$2*10000 -> 4.569131 | D233: 5 | E233: valama | F233: =IF(ISERROR(MATCH(E233,tüdruk!$D:$D,0)),"*",H233/LOOKUP(E233,tüdruk!$D:$D,tüdruk!$E:$E)) -> 1.7173595 | G233: =IF(ISERROR(MATCH(E233,mees!$D:$D,0)),"*",H233/LOOKUP(E233,mees!$D:$D,mees!$E:$E)) -> 1.5727485 | H233: =I233/$I$2*10000 -> 6.5390005 | I233: 7
A234: endine | B234: =IF(ISERROR(MATCH(A234,tüdruk!$A:$A,0)),"*",C234/LOOKUP(A234,tüdruk!$A:$A,tüdruk!$B:$B)) -> 0.43361053 | C234: =D234/$D$2*10000 -> 4.569131 | D234: 5 | E234: süütama | F234: =IF(ISERROR(MATCH(E234,tüdruk!$D:$D,0)),"*",H234/LOOKUP(E234,tüdruk!$D:$D,tüdruk!$E:$E)) -> 1.7173595 | G234: =IF(ISERROR(MATCH(E234,mees!$D:$D,0)),"*",H234/LOOKUP(E234,mees!$D:$D,mees!$E:$E)) -> 1.3840187 | H234: =I234/$I$2*10000 -> 6.5390005 | I234: 7
A235: 0115.02kolmeaastane | B235: =IF(ISERROR(MATCH(A235,tüdruk!$A:$A,0)),"*",C235/LOOKUP(A235,tüdruk!$A:$A,tüdruk!$B:$B)) -> * | C235: =D235/$D$2*10000 -> 3.6553048 | D235: 4 | E235: kolima | F235: =IF(ISERROR(MATCH(E235,tüdruk!$D:$D,0)),"*",H235/LOOKUP(E235,tüdruk!$D:$D,tüdruk!$E:$E)) -> 0.46837077 | G235: =IF(ISERROR(MATCH(E235,mees!$D:$D,0)),"*",H235/LOOKUP(E235,mees!$D:$D,mees!$E:$E)) -> 1.3307872 | H235: =I235/$I$2*10000 -> 6.5390005 | I235: 7
A236: kõhelik | B236: =IF(ISERROR(MATCH(A236,tüdruk!$A:$A,0)),"*",C236/LOOKUP(A236,tüdruk!$A:$A,tüdruk!$B:$B)) -> * | C236: =D236/$D$2*10000 -> 3.6553048 | D236: 4 | E236: kahetsema | F236: =IF(ISERROR(MATCH(E236,tüdruk!$D:$D,0)),"*",H236/LOOKUP(E236,tüdruk!$D:$D,tüdruk!$E:$E)) -> 1.2880196 | G236: =IF(ISERROR(MATCH(E236,mees!$D:$D,0)),"*",H236/LOOKUP(E236,mees!$D:$D,mees!$E:$E)) -> 1.235731 | H236: =I236/$I$2*10000 -> 6.5390005 | I236: 7
A237: 9-11aastane | B237: =IF(ISERROR(MATCH(A237,tüdruk!$A:$A,0)),"*",C237/LOOKUP(A237,tüdruk!$A:$A,tüdruk!$B:$B)) -> * | C237: =D237/$D$2*10000 -> 3.6553048 | D237: 4 | E237: kõnelema | F237: =IF(ISERROR(MATCH(E237,tüdruk!$D:$D,0)),"*",H237/LOOKUP(E237,tüdruk!$D:$D,tüdruk!$E:$E)) -> 5.1520785 | G237: =IF(ISERROR(MATCH(E237,mees!$D:$D,0)),"*",H237/LOOKUP(E237,mees!$D:$D,mees!$E:$E)) -> 1.0812646 | H237: =I237/$I$2*10000 -> 6.5390005 | I237: 7
A238: rohesilmne | B238: =IF(ISERROR(MATCH(A238,tüdruk!$A:$A,0)),"*",C238/LOOKUP(A238,tüdruk!$A:$A,tüdruk!$B:$B)) -> * | C238: =D238/$D$2*10000 -> 3.6553048 | D238: 4 | E238: kaitsma | F238: =IF(ISERROR(MATCH(E238,tüdruk!$D:$D,0)),"*",H238/LOOKUP(E238,tüdruk!$D:$D,tüdruk!$E:$E)) -> 5.1520785 | G238: =IF(ISERROR(MATCH(E238,mees!$D:$D,0)),"*",H238/LOOKUP(E238,mees!$D:$D,mees!$E:$E)) -> 1.048499 | H238: =I238/$I$2*10000 -> 6.5390005 | I238: 7
A239: üheteistkümneaastane | B239: =IF(ISERROR(MATCH(A239,tüdruk!$A:$A,0)),"*",C239/LOOKUP(A239,tüdruk!$A:$A,tüdruk!$B:$B)) -> * | C239: =D239/$D$2*10000 -> 3.6553048 | D239: 4 | E239: tekitama | F239: =IF(ISERROR(MATCH(E239,tüdruk!$D:$D,0)),"*",H239/LOOKUP(E239,tüdruk!$D:$D,tüdruk!$E:$E)) -> 1.2880196 | G239: =IF(ISERROR(MATCH(E239,mees!$D:$D,0)),"*",H239/LOOKUP(E239,mees!$D:$D,mees!$E:$E)) -> 1.048499 | H239: =I239/$I$2*10000 -> 6.5390005 | I239: 7
... A1001: naeratav | B1001: =IF(ISERROR(MATCH(A1001,tüdruk!$A:$A,0)),"*",C1001/LOOKUP(A1001,tüdruk!$A:$A,tüdruk!$B:$B)) -> 0.097562369 | C1001: =D1001/$D$2*10000 -> 0.91382619 | D1001: 1 | E1001: sisenema | F1001: =IF(ISERROR(MATCH(E1001,tüdruk!$D:$D,0)),"*",H1001/LOOKUP(E1001,tüdruk!$D:$D,tüdruk!$E:$E)) -> 0.3680056 | G1001: =IF(ISERROR(MATCH(E1001,mees!$D:$D,0)),"*",H1001/LOOKUP(E1001,mees!$D:$D,mees!$E:$E)) -> 0.052584296 | H1001: =I1001/$I$2*10000 -> 0.93414292 | I1001: 1

Sheet tüdruk
A1: adj_mod_tüdruk | C1: 8541 | D1: subject_of_tüdruk | F1: 7879 | G1: object_of_tüd | I1: 804
A2: 10-11aastane | B2: =C2/$C$1*10000 -> 2.3416462 | C2: 2 | D2: abielluma | E2: =F2/$F$1*10000 -> 3.8075898 | F2: 3 | G2: adopteerima | H2: =I2/$I$1*10000 -> 49.751244 | I2: 4
A3: 10-12aastane | B3: =C3/$C$1*10000 -> 5.8541154 | C3: 5 | D3: abistama | E3: =F3/$F$1*10000 -> 1.2691966 | F3: 1 | G3: ahvatlema | H3: =I3/$I$1*10000 -> 12.437811 | I3: 1
A4: 10-13aastane | B4: =C4/$C$1*10000 -> 2.3416462 | C4: 2 | D4: aduma | E4: =F4/$F$1*10000 -> 1.2691966 | F4: 1 | G4: ajama | H4: =I4/$I$1*10000 -> 12.437811 | I4: 1
A5: 10--13aastane | B5: =C5/$C$1*10000 -> 1.1708231 | C5: 1 | D5: ahastama | E5: =F5/$F$1*10000 -> 3.8075898 | F5: 3 | G5: ajendama | H5: =I5/$I$1*10000 -> 12.437811 | I5: 1
A6: 10-14aastane | B6: =C6/$C$1*10000 -> 9.3665847 | C6: 8 | D6: ahhetama | E6: =F6/$F$1*10000 -> 1.2691966 | F6: 1 | G6: alandatama | H6: =I6/$I$1*10000 -> 12.437811 | I6: 1
A7: 10-15aastane | B7: =C7/$C$1*10000 -> 2.3416462 | C7: 2 | D7: ahistama | E7: =F7/$F$1*10000 -> 2.5383932 | F7: 2 | G7: armastama | H7: =I7/$I$1*10000 -> 12.437811 | I7: 1
A8: 10-16aastane | B8: =C8/$C$1*10000 -> 2.3416462 | C8: 2 | D8: ahmima | E8: =F8/$F$1*10000 -> 1.2691966 | F8: 1 | G8: arreteerima | H8: =I8/$I$1*10000 -> 12.437811 | I8: 1
A9: 10-17aastane | B9: =C9/$C$1*10000 -> 1.1708231 | C9: 1 | D9: aitama | E9: =F9/$F$1*10000 -> 6.345983 | F9: 5 | G9: asendama | H9: =I9/$I$1*10000 -> 12.437811 | I9: 1
A10: 10-18aastane | B10: =C10/$C$1*10000 -> 1.1708231 | C10: 1 | D10: ajama | E10: =F10/$F$1*10000 -> 19.037949 | F10: 15 | G10: demonstreerima | H10: =I10/$I$1*10000 -> 12.437811 | I10: 1
A11: 10aastane | B11: =C11/$C$1*10000 -> 103.03243 | C11: 88 | D11: alustama | E11: =F11/$F$1*10000 -> 38.075898 | F11: 30 | G11: desinfitseerima | H11: =I11/$I$1*10000 -> 12.437811 | I11: 1
A12: 10kuine | B12: =C12/$C$1*10000 -> 3.5124693 | C12: 3 | D12: ampsama | E12: =F12/$F$1*10000 -> 2.5383932 | F12: 2 | G12: eemaldama | H12: =I12/$I$1*10000 -> 12.437811 | I12: 1
A13: 10kuune | B13: =C13/$C$1*10000 -> 1.1708231 | C13: 1 | D13: andestama | E13: =F13/$F$1*10000 -> 1.2691966 | F13: 1 | G13: ehituma | H13: =I13/$I$1*10000 -> 12.437811 | I13: 1
... A215: hull | B215: =C215/$C$1*10000 -> 5.8541154 | C215: 5 | D215: kiljuma | E215: =F215/$F$1*10000 -> 21.576342 | F215: 17 | G215: üritama | H215: =I215/$I$1*10000 -> 37.313433 | I215: 3
A216: humoorikas | B216: =C216/$C$1*10000 -> 1.1708231 | C216: 1 | D216: kilkama | E216: =F216/$F$1*10000 -> 10.153573 | F216: 8
A217: hunnitu | B217: =C217/$C$1*10000 -> 1.1708231 | C217: 1 | D217: kinkima | E217: =F217/$F$1*10000 -> 8.8843762 | F217: 7
A218: huvitav | B218: =C218/$C$1*10000 -> 4.6832924 | C218: 4 | D218: kinnitama | E218: =F218/$F$1*10000 -> 78.690189 | F218: 62
A219: häbelik | B219: =C219/$C$1*10000 -> 9.3665847 | C219: 8 | D219: kippuma | E219: =F219/$F$1*10000 -> 7.6151796 | F219: 6
A220: hädine | B220: =C220/$C$1*10000 -> 1.1708231 | C220: 1 | D220: kiristama | E220: =F220/$F$1*10000 -> 1.2691966 | F220: 1
A221: hääletav | B221: =C221/$C$1*10000 -> 2.3416462 | C221: 2 | D221: kirjeldama | E221: =F221/$F$1*10000 -> 13.961163 | F221: 11
A222: hüplev | B222: =C222/$C$1*10000 -> 3.5124693 | C222: 3 | D222: kirjutama | E222: =F222/$F$1*10000 -> 40.614291 | F222: 32
A223: hüppehuviline | B223: =C223/$C$1*10000 -> 1.1708231 | C223: 1 | D223: kiruma | E223: =F223/$F$1*10000 -> 1.2691966 | F223: 1
A224: hüsteeriline | B224: =C224/$C$1*10000 -> 2.3416462 | C224: 2 | D224: kisama | E224: =F224/$F$1*10000 -> 2.5383932 | F224: 2
A225: igavlev | B225: =C225/$C$1*10000 -> 2.3416462 | C225: 2 | D225: kisendama | E225: =F225/$F$1*10000 -> 1.2691966 | F225: 1
A226: ihkav | B226: =C226/$C$1*10000 -> 3.5124693 | C226: 3 | D226: kiskuma | E226: =F226/$F$1*10000 -> 2.5383932 | F226: 2
A227: ilmsüütu | B227: =C227/$C$1*10000 -> 1.1708231 | C227: 1 | D227: kituma | E227: =F227/$F$1*10000 -> 1.2691966 | F227: 1
... A916: veetlev | B916: =C916/$C$1*10000 -> 3.5124693 | C916: 3 | D916: üürima | E916: =F916/$F$1*10000 -> 1.2691966 | F916: 1
A917: venekeelne | B917: =C917/$C$1*10000 -> 2.3416462 | C917: 2
A918: verinoor | B918: =C918/$C$1*10000 -> 33.95387 | C918: 29
A919: vigurdav | B919: =C919/$C$1*10000 -> 1.1708231 | C919: 1
A920: vihane | B920: =C920/$C$1*10000 -> 3.5124693 | C920: 3
A921: vihmamärg | B921: =C921/$C$1*10000 -> 1.1708231 | C921: 1
A922: vihtuv | B922: =C922/$C$1*10000 -> 1.1708231 | C922: 1
A923: viieaastane | B923: =C923/$C$1*10000 -> 87.811732 | C923: 75
A924: viie-aastane | B924: =C924/$C$1*10000 -> 1.1708231 | C924: 1
A925: viiekuine | B925: =C925/$C$1*10000 -> 1.1708231 | C925: 1
A926: viie-kuueaastane | B926: =C926/$C$1*10000 -> 2.3416462 | C926: 2
A927: viiekuune | B927: =C927/$C$1*10000 -> 3.5124693 | C927: 3
A928: viieline | B928: =C928/$C$1*10000 -> 4.6832924 | C928: 4
... A1000: üritav | B1000: =C1000/$C$1*10000 -> 1.1708231 | C1000: 1

Sheet tüdruk (2)
A1: Adj_modifier | B1: erinevus paarikust | C1: normaliseeritud koosesinemissagedus | D1: absoluutne koosesinemissagedus | E1: subject_of | F1: erinevus paarikust | G1: normaliseeritud koosesinemissagedus | H1: normaliseeritud koosesinemissagedus | I1: absoluutne koosesinemissagedus | J1: object_of | K1: normaliseeritud koosesinemissagedus | L1: absoluutne koosesinemissagedus
D2: 8541 | I2: 7879 | L2: 804
A3: väike | B3: =IF(ISERROR(MATCH(A3,poiss!$A:$A,0)),"*",C3/LOOKUP(A3,poiss!$A:$A,poiss!$B:$B)) -> 1.1084933 | C3: =D3/$D$2*10000 -> 1224.681 | D3: 1046 | E3: saama | F3: =IF(ISERROR(MATCH(E3,poiss!$D:$D,0)),"*",H3/LOOKUP(E3,poiss!$D:$D,poiss!$E:$E)) -> 0.86349523 | G3: =IF(ISERROR(MATCH(E3,naine!$D:$D,0)),"*",H3/LOOKUP(E3,naine!$D:$D,naine!$E:$E)) -> 1.0479672 | H3: =I3/$I$2*10000 -> 535.60096 | I3: 422 | J3: viima | K3: =L3/$L$2*10000 -> 870.64677 | L3: 70
A4: noor | B4: =IF(ISERROR(MATCH(A4,poiss!$A:$A,0)),"*",C4/LOOKUP(A4,poiss!$A:$A,poiss!$B:$B)) -> 1.2988431 | C4: =D4/$D$2*10000 -> 690.78562 | D4: 590 | E4: ütlema | F4: =IF(ISERROR(MATCH(E4,poiss!$D:$D,0)),"*",H4/LOOKUP(E4,poiss!$D:$D,poiss!$E:$E)) -> 1.055323 | G4: =IF(ISERROR(MATCH(E4,naine!$D:$D,0)),"*",H4/LOOKUP(E4,naine!$D:$D,naine!$E:$E)) -> 0.91835825 | H4: =I4/$I$2*10000 -> 313.49156 | I4: 247 | J4: leidma | K4: =L4/$L$2*10000 -> 497.51244 | L4: 40
A5: ilus | B5: =IF(ISERROR(MATCH(A5,poiss!$A:$A,0)),"*",C5/LOOKUP(A5,poiss!$A:$A,poiss!$B:$B)) -> 2.9433701 | C5: =D5/$D$2*10000 -> 497.59981 | D5: 425 | E5: tulema | F5: =IF(ISERROR(MATCH(E5,poiss!$D:$D,0)),"*",H5/LOOKUP(E5,poiss!$D:$D,poiss!$E:$E)) -> 0.9561046 | G5: =IF(ISERROR(MATCH(E5,naine!$D:$D,0)),"*",H5/LOOKUP(E5,naine!$D:$D,naine!$E:$E)) -> 1.4081283 | H5: =I5/$I$2*10000 -> 241.14735 | I5: 190 | J5: toimetama | K5: =L5/$L$2*10000 -> 398.00995 | L5: 32
A6: teismeline | B6: =IF(ISERROR(MATCH(A6,poiss!$A:$A,0)),"*",C6/LOOKUP(A6,poiss!$A:$A,poiss!$B:$B)) -> 1.8885207 | C6: =D6/$D$2*10000 -> 298.55989 | D6: 255 | E6: pidama | F6: =IF(ISERROR(MATCH(E6,poiss!$D:$D,0)),"*",H6/LOOKUP(E6,poiss!$D:$D,poiss!$E:$E)) -> 0.88779844 | G6: =IF(ISERROR(MATCH(E6,naine!$D:$D,0)),"*",H6/LOOKUP(E6,naine!$D:$D,naine!$E:$E)) -> 0.65967016 | H6: =I6/$I$2*10000 -> 229.72458 | I6: 181 | J6: panema | K6: =L6/$L$2*10000 -> 286.06965 | L6: 23
A7: 14aastane | B7: =IF(ISERROR(MATCH(A7,poiss!$A:$A,0)),"*",C7/LOOKUP(A7,poiss!$A:$A,poiss!$B:$B)) -> 0.89870569 | C7: =D7/$D$2*10000 -> 228.3105 | D7: 195 | E7: rääkima | F7: =IF(ISERROR(MATCH(E7,poiss!$D:$D,0)),"*",H7/LOOKUP(E7,poiss!$D:$D,poiss!$E:$E)) -> 1.1929829 | G7: =IF(ISERROR(MATCH(E7,naine!$D:$D,0)),"*",H7/LOOKUP(E7,naine!$D:$D,naine!$E:$E)) -> 0.92657255 | H7: =I7/$I$2*10000 -> 228.45539 | I7: 180 | J7: saatma | K7: =L7/$L$2*10000 -> 261.19403 | L7: 21
A8: 15aastane | B8: =IF(ISERROR(MATCH(A8,poiss!$A:$A,0)),"*",C8/LOOKUP(A8,poiss!$A:$A,poiss!$B:$B)) -> 0.87165764 | C8: =D8/$D$2*10000 -> 194.35663 | D8: 166 | E8: tegema | F8: =IF(ISERROR(MATCH(E8,poiss!$D:$D,0)),"*",H8/LOOKUP(E8,poiss!$D:$D,poiss!$E:$E)) -> 0.74538418 | G8: =IF(ISERROR(MATCH(E8,naine!$D:$D,0)),"*",H8/LOOKUP(E8,naine!$D:$D,naine!$E:$E)) -> 1.0929052 | H8: =I8/$I$2*10000 -> 200.53306 | I8: 158 | J8: sundima | K8: =L8/$L$2*10000 -> 261.19403 | L8: 21
A9: alaealine | B9: =IF(ISERROR(MATCH(A9,poiss!$A:$A,0)),"*",C9/LOOKUP(A9,poiss!$A:$A,poiss!$B:$B)) -> 1.6676349 | C9: =D9/$D$2*10000 -> 192.01499 | D9: 164 | E9: käima | F9: =IF(ISERROR(MATCH(E9,poiss!$D:$D,0)),"*",H9/LOOKUP(E9,poiss!$D:$D,poiss!$E:$E)) -> 0.96849138 | G9: =IF(ISERROR(MATCH(E9,naine!$D:$D,0)),"*",H9/LOOKUP(E9,naine!$D:$D,naine!$E:$E)) -> 1.8027748 | H9: =I9/$I$2*10000 -> 176.41833 | I9: 139 | J9: vägistama | K9: =L9/$L$2*10000 -> 261.19403 | L9: 21
A10: 12aastane | B10: =IF(ISERROR(MATCH(A10,poiss!$A:$A,0)),"*",C10/LOOKUP(A10,poiss!$A:$A,poiss!$B:$B)) -> 0.77966426 | C10: =D10/$D$2*10000 -> 183.81922 | D10: 157 | E10: minema | F10: =IF(ISERROR(MATCH(E10,poiss!$D:$D,0)),"*",H10/LOOKUP(E10,poiss!$D:$D,poiss!$E:$E)) -> 0.78209441 | G10: =IF(ISERROR(MATCH(E10,naine!$D:$D,0)),"*",H10/LOOKUP(E10,naine!$D:$D,naine!$E:$E)) -> 1.1428892 | H10: =I10/$I$2*10000 -> 173.87993 | I10: 137 | J10: hoidma | K10: =L10/$L$2*10000 -> 248.75622 | L10: 20
A11: 13aastane | B11: =IF(ISERROR(MATCH(A11,poiss!$A:$A,0)),"*",C11/LOOKUP(A11,poiss!$A:$A,poiss!$B:$B)) -> 0.75022693 | C11: =D11/$D$2*10000 -> 180.30676 | D11: 154 | E11: jääma | F11: =IF(ISERROR(MATCH(E11,poiss!$D:$D,0)),"*",H11/LOOKUP(E11,poiss!$D:$D,poiss!$E:$E)) -> 0.86522584 | G11: =IF(ISERROR(MATCH(E11,naine!$D:$D,0)),"*",H11/LOOKUP(E11,naine!$D:$D,naine!$E:$E)) -> 1.0651327 | H11: =I11/$I$2*10000 -> 162.45716 | I11: 128 | J11: vaatama | K11: =L11/$L$2*10000 -> 223.8806 | L11: 18
A12: 16aastane | B12: =IF(ISERROR(MATCH(A12,poiss!$A:$A,0)),"*",C12/LOOKUP(A12,poiss!$A:$A,poiss!$B:$B)) -> 0.91821606 | C12: =D12/$D$2*10000 -> 151.03618 | D12: 129 | E12: tahtma | F12: =IF(ISERROR(MATCH(E12,poiss!$D:$D,0)),"*",H12/LOOKUP(E12,poiss!$D:$D,poiss!$E:$E)) -> 0.88130268 | G12: =IF(ISERROR(MATCH(E12,naine!$D:$D,0)),"*",H12/LOOKUP(E12,naine!$D:$D,naine!$E:$E)) -> 0.87374166 | H12: =I12/$I$2*10000 -> 152.30359 | I12: 120 | J12: otsima | K12: =L12/$L$2*10000 -> 211.44279 | L12: 17
A13: kena | B13: =IF(ISERROR(MATCH(A13,poiss!$A:$A,0)),"*",C13/LOOKUP(A13,poiss!$A:$A,poiss!$B:$B)) -> 2.3590933 | C13: =D13/$D$2*10000 -> 135.81548 | D13: 116 | E13: hakkama | F13: =IF(ISERROR(MATCH(E13,poiss!$D:$D,0)),"*",H13/LOOKUP(E13,poiss!$D:$D,poiss!$E:$E)) -> 0.97545894 | G13: =IF(ISERROR(MATCH(E13,naine!$D:$D,0)),"*",H13/LOOKUP(E13,naine!$D:$D,naine!$E:$E)) -> 1.4640333 | H13: =I13/$I$2*10000 -> 142.15002 | I13: 112 | J13: võtma | K13: =L13/$L$2*10000 -> 174.12935 | L13: 14
A14: 11aastane | B14: =IF(ISERROR(MATCH(A14,poiss!$A:$A,0)),"*",C14/LOOKUP(A14,poiss!$A:$A,poiss!$B:$B)) -> 0.8491003 | C14: =D14/$D$2*10000 -> 131.13219 | D14: 112 | E14: võima | F14: =IF(ISERROR(MATCH(E14,poiss!$D:$D,0)),"*",H14/LOOKUP(E14,poiss!$D:$D,poiss!$E:$E)) -> 1.2048627 | G14: =IF(ISERROR(MATCH(E14,naine!$D:$D,0)),"*",H14/LOOKUP(E14,naine!$D:$D,naine!$E:$E)) -> 0.67847939 | H14: =I14/$I$2*10000 -> 119.30448 | I14: 94 | J14: nägema | K14: =L14/$L$2*10000 -> 149.25373 | L14: 12
... A216: võimekas | B216: =IF(ISERROR(MATCH(A216,poiss!$A:$A,0)),"*",C216/LOOKUP(A216,poiss!$A:$A,poiss!$B:$B)) -> 0.58237805 | C216: =D216/$D$2*10000 -> 5.8541154 | D216: 5 | E216: sarnanema | F216: =IF(ISERROR(MATCH(E216,poiss!$D:$D,0)),"*",H216/LOOKUP(E216,poiss!$D:$D,poiss!$E:$E)) -> 2.0380124 | G216: =IF(ISERROR(MATCH(E216,naine!$D:$D,0)),"*",H216/LOOKUP(E216,naine!$D:$D,naine!$E:$E)) -> 6.6404366 | H216: =I216/$I$2*10000 -> 7.6151796 | I216: 6 | J216: ärgitama | K216: =L216/$L$2*10000 -> 12.437811 | L216: 1
A217: 11-14aastane | B217: =IF(ISERROR(MATCH(A217,poiss!$A:$A,0)),"*",C217/LOOKUP(A217,poiss!$A:$A,poiss!$B:$B)) -> * | C217: =D217/$D$2*10000 -> 4.6832924 | D217: 4 | E217: lehvitama | F217: =IF(ISERROR(MATCH(E217,poiss!$D:$D,0)),"*",H217/LOOKUP(E217,poiss!$D:$D,poiss!$E:$E)) -> 4.0760249 | G217: =IF(ISERROR(MATCH(E217,naine!$D:$D,0)),"*",H217/LOOKUP(E217,naine!$D:$D,naine!$E:$E)) -> 4.9803275 | H217: =I217/$I$2*10000 -> 7.6151796 | I217: 6
A218: erakordne | B218: =IF(ISERROR(MATCH(A218,poiss!$A:$A,0)),"*",C218/LOOKUP(A218,poiss!$A:$A,poiss!$B:$B)) -> * | C218: =D218/$D$2*10000 -> 4.6832924 | D218: 4 | E218: sättima | F218: =IF(ISERROR(MATCH(E218,poiss!$D:$D,0)),"*",H218/LOOKUP(E218,poiss!$D:$D,poiss!$E:$E)) -> 2.0380124 | G218: =IF(ISERROR(MATCH(E218,naine!$D:$D,0)),"*",H218/LOOKUP(E218,naine!$D:$D,naine!$E:$E)) -> 3.3202183 | H218: =I218/$I$2*10000 -> 7.6151796 | I218: 6
A219: julm | B219: =IF(ISERROR(MATCH(A219,poiss!$A:$A,0)),"*",C219/LOOKUP(A219,poiss!$A:$A,poiss!$B:$B)) -> * | C219: =D219/$D$2*10000 -> 4.6832924 | D219: 4 | E219: rippuma | F219: =IF(ISERROR(MATCH(E219,poiss!$D:$D,0)),"*",H219/LOOKUP(E219,poiss!$D:$D,poiss!$E:$E)) -> 4.0760249 | G219: =IF(ISERROR(MATCH(E219,naine!$D:$D,0)),"*",H219/LOOKUP(E219,naine!$D:$D,naine!$E:$E)) -> 2.8459014 | H219: =I219/$I$2*10000 -> 7.6151796 | I219: 6
A220: järjekordne | B220: =IF(ISERROR(MATCH(A220,poiss!$A:$A,0)),"*",C220/LOOKUP(A220,poiss!$A:$A,poiss!$B:$B)) -> * | C220: =D220/$D$2*10000 -> 4.6832924 | D220: 4 | E220: tirima | F220: =IF(ISERROR(MATCH(E220,poiss!$D:$D,0)),"*",H220/LOOKUP(E220,poiss!$D:$D,poiss!$E:$E)) -> 0.54346998 | G220: =IF(ISERROR(MATCH(E220,naine!$D:$D,0)),"*",H220/LOOKUP(E220,naine!$D:$D,naine!$E:$E)) -> 2.8459014 | H220: =I220/$I$2*10000 -> 7.6151796 | I220: 6
A221: kahekuune | B221: =IF(ISERROR(MATCH(A221,poiss!$A:$A,0)),"*",C221/LOOKUP(A221,poiss!$A:$A,poiss!$B:$B)) -> * | C221: =D221/$D$2*10000 -> 4.6832924 | D221: 4 | E221: juhatama | F221: =IF(ISERROR(MATCH(E221,poiss!$D:$D,0)),"*",H221/LOOKUP(E221,poiss!$D:$D,poiss!$E:$E)) -> 2.0380124 | G221: =IF(ISERROR(MATCH(E221,naine!$D:$D,0)),"*",H221/LOOKUP(E221,naine!$D:$D,naine!$E:$E)) -> 2.4901637 | H221: =I221/$I$2*10000 -> 7.6151796 | I221: 6
A222: kerge | B222: =IF(ISERROR(MATCH(A222,poiss!$A:$A,0)),"*",C222/LOOKUP(A222,poiss!$A:$A,poiss!$B:$B)) -> * | C222: =D222/$D$2*10000 -> 4.6832924 | D222: 4 | E222: kihutama | F222: =IF(ISERROR(MATCH(E222,poiss!$D:$D,0)),"*",H222/LOOKUP(E222,poiss!$D:$D,poiss!$E:$E)) -> 0.90578331 | G222: =IF(ISERROR(MATCH(E222,naine!$D:$D,0)),"*",H222/LOOKUP(E222,naine!$D:$D,naine!$E:$E)) -> 2.4901637 | H222: =I222/$I$2*10000 -> 7.6151796 | I222: 6
A223: kohusetundlik | B223: =IF(ISERROR(MATCH(A223,poiss!$A:$A,0)),"*",C223/LOOKUP(A223,poiss!$A:$A,poiss!$B:$B)) -> 5.1249268 | C223: =D223/$D$2*10000 -> 4.6832924 | D223: 4 | E223: vahtima | F223: =IF(ISERROR(MATCH(E223,poiss!$D:$D,0)),"*",H223/LOOKUP(E223,poiss!$D:$D,poiss!$E:$E)) -> 1.0190062 | G223: =IF(ISERROR(MATCH(E223,naine!$D:$D,0)),"*",H223/LOOKUP(E223,naine!$D:$D,naine!$E:$E)) -> 2.2134789 | H223: =I223/$I$2*10000 -> 7.6151796 | I223: 6
A224: kurt | B224: =IF(ISERROR(MATCH(A224,poiss!$A:$A,0)),"*",C224/LOOKUP(A224,poiss!$A:$A,poiss!$B:$B)) -> * | C224: =D224/$D$2*10000 -> 4.6832924 | D224: 4 | E224: valmistama | F224: =IF(ISERROR(MATCH(E224,poiss!$D:$D,0)),"*",H224/LOOKUP(E224,poiss!$D:$D,poiss!$E:$E)) -> 0.90578331 | G224: =IF(ISERROR(MATCH(E224,naine!$D:$D,0)),"*",H224/LOOKUP(E224,naine!$D:$D,naine!$E:$E)) -> 1.992131 | H224: =I224/$I$2*10000 -> 7.6151796 | I224: 6
A225: lähenev | B225: =IF(ISERROR(MATCH(A225,poiss!$A:$A,0)),"*",C225/LOOKUP(A225,poiss!$A:$A,poiss!$B:$B)) -> * | C225: =D225/$D$2*10000 -> 4.6832924 | D225: 4 | E225: tutvuma | F225: =IF(ISERROR(MATCH(E225,poiss!$D:$D,0)),"*",H225/LOOKUP(E225,poiss!$D:$D,poiss!$E:$E)) -> 2.0380124 | G225: =IF(ISERROR(MATCH(E225,naine!$D:$D,0)),"*",H225/LOOKUP(E225,naine!$D:$D,naine!$E:$E)) -> 1.6601092 | H225: =I225/$I$2*10000 -> 7.6151796 | I225: 6
A226: meenutav | B226: =IF(ISERROR(MATCH(A226,poiss!$A:$A,0)),"*",C226/LOOKUP(A226,poiss!$A:$A,poiss!$B:$B)) -> * | C226: =D226/$D$2*10000 -> 4.6832924 | D226: 4 | E226: ihkama | F226: =IF(ISERROR(MATCH(E226,poiss!$D:$D,0)),"*",H226/LOOKUP(E226,poiss!$D:$D,poiss!$E:$E)) -> 1.358675 | G226: =IF(ISERROR(MATCH(E226,naine!$D:$D,0)),"*",H226/LOOKUP(E226,naine!$D:$D,naine!$E:$E)) -> 1.4229507 | H226: =I226/$I$2*10000 -> 7.6151796 | I226: 6
A227: müüv | B227: =IF(ISERROR(MATCH(A227,poiss!$A:$A,0)),"*",C227/LOOKUP(A227,poiss!$A:$A,poiss!$B:$B)) -> * | C227: =D227/$D$2*10000 -> 4.6832924 | D227: 4 | E227: taipama | F227: =IF(ISERROR(MATCH(E227,poiss!$D:$D,0)),"*",H227/LOOKUP(E227,poiss!$D:$D,poiss!$E:$E)) -> 0.45289165 | G227: =IF(ISERROR(MATCH(E227,naine!$D:$D,0)),"*",H227/LOOKUP(E227,naine!$D:$D,naine!$E:$E)) -> 1.4229507 | H227: =I227/$I$2*10000 -> 7.6151796 | I227: 6
A228: neljakuune | B228: =IF(ISERROR(MATCH(A228,poiss!$A:$A,0)),"*",C228/LOOKUP(A228,poiss!$A:$A,poiss!$B:$B)) -> * | C228: =D228/$D$2*10000 -> 4.6832924 | D228: 4 | E228: vajuma | F228: =IF(ISERROR(MATCH(E228,poiss!$D:$D,0)),"*",H228/LOOKUP(E228,poiss!$D:$D,poiss!$E:$E)) -> 0.74109543 | G228: =IF(ISERROR(MATCH(E228,naine!$D:$D,0)),"*",H228/LOOKUP(E228,naine!$D:$D,naine!$E:$E)) -> 1.3280873 | H228: =I228/$I$2*10000 -> 7.6151796 | I228: 6
... A917: kahekümnene | B917: =IF(ISERROR(MATCH(A917,poiss!$A:$A,0)),"*",C917/LOOKUP(A917,poiss!$A:$A,poiss!$B:$B)) -> 1.2812317 | C917: =D917/$D$2*10000 -> 1.1708231 | D917: 1 | E917: rasestuma | F917: =IF(ISERROR(MATCH(E917,poiss!$D:$D,0)),"*",H917/LOOKUP(E917,poiss!$D:$D,poiss!$E:$E)) -> * | G917: =IF(ISERROR(MATCH(E917,naine!$D:$D,0)),"*",H917/LOOKUP(E917,naine!$D:$D,naine!$E:$E)) -> 0.08973563 | H917: =I917/$I$2*10000 -> 1.2691966 | I917: 1
A918: kannatamatu | B918: =IF(ISERROR(MATCH(A918,poiss!$A:$A,0)),"*",C918/LOOKUP(A918,poiss!$A:$A,poiss!$B:$B)) -> 1.2812317 | C918: =D918/$D$2*10000 -> 1.1708231 | D918: 1
A919: kidakeelne | B919: =IF(ISERROR(MATCH(A919,poiss!$A:$A,0)),"*",C919/LOOKUP(A919,poiss!$A:$A,poiss!$B:$B)) -> 1.2812317 | C919: =D919/$D$2*10000 -> 1.1708231 | D919: 1
A920: kiimaline | B920: =IF(ISERROR(MATCH(A920,poiss!$A:$A,0)),"*",C920/LOOKUP(A920,poiss!$A:$A,poiss!$B:$B)) -> 1.2812317 | C920: =D920/$D$2*10000 -> 1.1708231 | D920: 1
A921: kiitsakas | B921: =IF(ISERROR(MATCH(A921,poiss!$A:$A,0)),"*",C921/LOOKUP(A921,poiss!$A:$A,poiss!$B:$B)) -> 1.2812317 | C921: =D921/$D$2*10000 -> 1.1708231 | D921: 1
A922: kilone | B922: =IF(ISERROR(MATCH(A922,poiss!$A:$A,0)),"*",C922/LOOKUP(A922,poiss!$A:$A,poiss!$B:$B)) -> 0.42707724 | C922: =D922/$D$2*10000 -> 1.1708231 | D922: 1
A923: kohmetu | B923: =IF(ISERROR(MATCH(A923,poiss!$A:$A,0)),"*",C923/LOOKUP(A923,poiss!$A:$A,poiss!$B:$B)) -> 1.2812317 | C923: =D923/$D$2*10000 -> 1.1708231 | D923: 1
A924: kolmeteistaastane | B924: =IF(ISERROR(MATCH(A924,poiss!$A:$A,0)),"*",C924/LOOKUP(A924,poiss!$A:$A,poiss!$B:$B)) -> 0.21353862 | C924: =D924/$D$2*10000 -> 1.1708231 | D924: 1
A925: kondine | B925: =IF(ISERROR(MATCH(A925,poiss!$A:$A,0)),"*",C925/LOOKUP(A925,poiss!$A:$A,poiss!$B:$B)) -> 1.2812317 | C925: =D925/$D$2*10000 -> 1.1708231 | D925: 1
A926: krapsakas | B926: =IF(ISERROR(MATCH(A926,poiss!$A:$A,0)),"*",C926/LOOKUP(A926,poiss!$A:$A,poiss!$B:$B)) -> 1.2812317 | C926: =D926/$D$2*10000 -> 1.1708231 | D926: 1
A927: kunstihuviline | B927: =IF(ISERROR(MATCH(A927,poiss!$A:$A,0)),"*",C927/LOOKUP(A927,poiss!$A:$A,poiss!$B:$B)) -> 1.2812317 | C927: =D927/$D$2*10000 -> 1.1708231 | D927: 1
A928: kutsutav | B928: =IF(ISERROR(MATCH(A928,poiss!$A:$A,0)),"*",C928/LOOKUP(A928,poiss!$A:$A,poiss!$B:$B)) -> 0.42707724 | C928: =D928/$D$2*10000 -> 1.1708231 | D928: 1
A929: kuuene | B929: =IF(ISERROR(MATCH(A929,poiss!$A:$A,0)),"*",C929/LOOKUP(A929,poiss!$A:$A,poiss!$B:$B)) -> 0.32030793 | C929: =D929/$D$2*10000 -> 1.1708231 | D929: 1
... A1001: üritav | B1001: =IF(ISERROR(MATCH(A1001,poiss!$A:$A,0)),"*",C1001/LOOKUP(A1001,poiss!$A:$A,poiss!$B:$B)) -> 0.64061585 | C1001: =D1001/$D$2*10000 -> 1.1708231 | D1001: 1

Sheet poiss
A1: Adj_modifier | C1: 10943 | D1: subject_of | F1: 10705 | G1: object_of | I1: 998
A2: 10-11aastane | B2: =C2/$C$1*10000 -> 4.569131 | C2: 5 | D2: abielluma | E2: =F2/$F$1*10000 -> 0.93414292 | F2: 1 | G2: adopteerima | H2: =I2/$I$1*10000 -> 10.02004 | I2: 1
A3: 10-12aastane | B3: =C3/$C$1*10000 -> 15.535045 | C3: 17 | D3: abistama | E3: =F3/$F$1*10000 -> 0.93414292 | F3: 1 | G3: agiteerima | H3: =I3/$I$1*10000 -> 10.02004 | I3: 1
A4: 10-13aastane | B4: =C4/$C$1*10000 -> 4.569131 | C4: 5 | D4: adapteeruma | E4: =F4/$F$1*10000 -> 0.93414292 | F4: 1 | G4: ahistama | H4: =I4/$I$1*10000 -> 20.04008 | I4: 2
A5: 10-14aastane | B5: =C5/$C$1*10000 -> 7.3106095 | C5: 8 | D5: aelema | E5: =F5/$F$1*10000 -> 0.93414292 | F5: 1 | G5: ahvatlema | H5: =I5/$I$1*10000 -> 10.02004 | I5: 1
A6: 10-15aastane | B6: =C6/$C$1*10000 -> 1.8276524 | C6: 2 | D6: ahistama | E6: =F6/$F$1*10000 -> 1.8682858 | F6: 2 | G6: aitama | H6: =I6/$I$1*10000 -> 100.2004 | I6: 10
A7: 10-16aastane | B7: =C7/$C$1*10000 -> 1.8276524 | C7: 2 | D7: ahmima | E7: =F7/$F$1*10000 -> 1.8682858 | F7: 2 | G7: ajama | H7: =I7/$I$1*10000 -> 30.06012 | I7: 3
A8: 10-17aastane | B8: =C8/$C$1*10000 -> 2.7414786 | C8: 3 | D8: ahvima | E8: =F8/$F$1*10000 -> 0.93414292 | F8: 1 | G8: ajendama | H8: =I8/$I$1*10000 -> 10.02004 | I8: 1
A9: 10-20aastane | B9: =C9/$C$1*10000 -> 0.91382619 | C9: 1 | D9: aimama | E9: =F9/$F$1*10000 -> 3.7365717 | F9: 4 | G9: andma | H9: =I9/$I$1*10000 -> 140.28056 | I9: 14
A10: 10aastane | B10: =C10/$C$1*10000 -> 159.00576 | C10: 174 | D10: aitama | E10: =F10/$F$1*10000 -> 24.287716 | F10: 26 | G10: arendama | H10: =I10/$I$1*10000 -> 10.02004 | I10: 1
A11: 11-12aastane | B11: =C11/$C$1*10000 -> 7.3106095 | C11: 8 | D11: ajama | E11: =F11/$F$1*10000 -> 49.509575 | F11: 53 | G11: arreteerima | H11: =I11/$I$1*10000 -> 40.08016 | I11: 4
A12: 11-13aastane | B12: =C12/$C$1*10000 -> 0.91382619 | C12: 1 | D12: alahindama | E12: =F12/$F$1*10000 -> 0.93414292 | F12: 1 | G12: auhindama | H12: =I12/$I$1*10000 -> 10.02004 | I12: 1
A13: 11-15aastane | B13: =C13/$C$1*10000 -> 1.8276524 | C13: 2 | D13: alistama | E13: =F13/$F$1*10000 -> 4.6707146 | F13: 5 | G13: autasustama | H13: =I13/$I$1*10000 -> 20.04008 | I13: 2
... A226: hüperrealistlik | B226: =C226/$C$1*10000 -> 0.91382619 | C226: 1 | D226: kiunatama | E226: =F226/$F$1*10000 -> 1.8682858 | F226: 2 | G226: üritama | H226: =I226/$I$1*10000 -> 30.06012 | I226: 3
A227: hüppav | B227: =C227/$C$1*10000 -> 0.91382619 | C227: 1 | D227: kiusama | E227: =F227/$F$1*10000 -> 6.5390005 | F227: 7
A228: idealistlik | B228: =C228/$C$1*10000 -> 0.91382619 | C228: 1 | D228: klammerduma | E228: =F228/$F$1*10000 -> 2.8024288 | F228: 3
A229: igavlev | B229: =C229/$C$1*10000 -> 1.8276524 | C229: 2 | D229: kleepima | E229: =F229/$F$1*10000 -> 1.8682858 | F229: 2
A230: iginoor | B230: =C230/$C$1*10000 -> 1.8276524 | C230: 2 | D230: klopsima | E230: =F230/$F$1*10000 -> 0.93414292 | F230: 1
A231: ihaldav | B231: =C231/$C$1*10000 -> 0.91382619 | C231: 1 | D231: klähvima | E231: =F231/$F$1*10000 -> 0.93414292 | F231: 1
A232: ihkav | B232: =C232/$C$1*10000 -> 3.6553048 | C232: 4 | D232: kobama | E232: =F232/$F$1*10000 -> 0.93414292 | F232: 1
A233: ihtüoosihaige | B233: =C233/$C$1*10000 -> 0.91382619 | C233: 1 | D233: kodunema | E233: =F233/$F$1*10000 -> 0.93414292 | F233: 1
A234: ilus | B234: =C234/$C$1*10000 -> 169.05785 | C234: 185 | D234: kogelema | E234: =F234/$F$1*10000 -> 1.8682858 | F234: 2
A235: imeilus | B235: =C235/$C$1*10000 -> 1.8276524 | C235: 2 | D235: kogema | E235: =F235/$F$1*10000 -> 5.6048575 | F235: 6
A236: imelühike | B236: =C236/$C$1*10000 -> 0.91382619 | C236: 1 | D236: koguma | E236: =F236/$F$1*10000 -> 9.3414292 | F236: 10
A237: imetlev | B237: =C237/$C$1*10000 -> 0.91382619 | C237: 1 | D237: kogunema | E237: =F237/$F$1*10000 -> 7.4731434 | F237: 8
A238: imevahva | B238: =C238/$C$1*10000 -> 0.91382619 | C238: 1 | D238: kohanema | E238: =F238/$F$1*10000 -> 3.7365717 | F238: 4
... A1000: üritav | B1000: =C1000/$C$1*10000 -> 1.8276524 | C1000: 2 | D1000: ytlema | E1000: =F1000/$F$1*10000 -> 0.93414292 | F1000: 1

Sheet isa (2)
A1: Adj_modifier | B1: erinevus paarikust | C1: normaliseeritud koosesinemissagedus | D1: absoluutne koosesinemissagedus | E1: subject_of | F1: erinevus paarikust | G1: normaliseeritud koosesinemissagedus | H1: absoluutne koosesinemissagedus | I1: object_of | J1: normaliseeritud koosesinemissagedus | K1: absoluutne koosesinemissagedus
D2: 2914 | H2: 9219 | K2: 259
A3: vaimne | B3: =IF(ISERROR(MATCH(A3,ema!$A:$A,0)),"*",C3/LOOKUP(A3,ema!$A:$A,ema!$B:$B)) -> 17.154487 | C3: =D3/$D$2*10000 -> 851.06383 | D3: 248 | E3: ütlema | F3: =IF(ISERROR(MATCH(E3,ema!$D:$D,0)),"*",G3/LOOKUP(E3,ema!$D:$D,ema!$E:$E)) -> 0.91093861 | G3: =H3/$H$2*10000 -> 684.45601 | H3: 631 | I3: viima | J3: =K3/$K$2*10000 -> 733.59073 | K3: 19
A4: hea | B4: =IF(ISERROR(MATCH(A4,ema!$A:$A,0)),"*",C4/LOOKUP(A4,ema!$A:$A,ema!$B:$B)) -> 2.1975578 | C4: =D4/$D$2*10000 -> 658.88813 | D4: 192 | E4: saama | F4: =IF(ISERROR(MATCH(E4,ema!$D:$D,0)),"*",G4/LOOKUP(E4,ema!$D:$D,ema!$E:$E)) -> 0.84353984 | G4: =H4/$H$2*10000 -> 312.39831 | H4: 288 | I4: tapma | J4: =K4/$K$2*10000 -> 694.98069 | K4: 18
A5: püha | B5: =IF(ISERROR(MATCH(A5,ema!$A:$A,0)),"*",C5/LOOKUP(A5,ema!$A:$A,ema!$B:$B)) -> 58.864791 | C5: =D5/$D$2*10000 -> 634.86616 | D5: 185 | E5: tulema | F5: =IF(ISERROR(MATCH(E5,ema!$D:$D,0)),"*",G5/LOOKUP(E5,ema!$D:$D,ema!$E:$E)) -> 1.3324942 | G5: =H5/$H$2*10000 -> 246.23061 | H5: 227 | I5: arreteerima | J5: =K5/$K$2*10000 -> 501.9305 | K5: 13
A6: noor | B6: =IF(ISERROR(MATCH(A6,ema!$A:$A,0)),"*",C6/LOOKUP(A6,ema!$A:$A,ema!$B:$B)) -> 0.2305951 | C6: =D6/$D$2*10000 -> 477.00755 | D6: 139 | E6: rääkima | F6: =IF(ISERROR(MATCH(E6,ema!$D:$D,0)),"*",G6/LOOKUP(E6,ema!$D:$D,ema!$E:$E)) -> 0.70067399 | G6: =H6/$H$2*10000 -> 237.55288 | H6: 219 | I6: kutsuma | J6: =K6/$K$2*10000 -> 386.10039 | K6: 10
A7: bioloogiline | B7: =IF(ISERROR(MATCH(A7,ema!$A:$A,0)),"*",C7/LOOKUP(A7,ema!$A:$A,ema!$B:$B)) -> 2.3011815 | C7: =D7/$D$2*10000 -> 277.96843 | D7: 81 | E7: pidama | F7: =IF(ISERROR(MATCH(E7,ema!$D:$D,0)),"*",G7/LOOKUP(E7,ema!$D:$D,ema!$E:$E)) -> 0.89502516 | G7: =H7/$H$2*10000 -> 236.46816 | H7: 218 | I7: hukkama | J7: =K7/$K$2*10000 -> 308.88031 | K7: 8
A8: elav | B8: =IF(ISERROR(MATCH(A8,ema!$A:$A,0)),"*",C8/LOOKUP(A8,ema!$A:$A,ema!$B:$B)) -> 0.92606972 | C8: =D8/$D$2*10000 -> 267.6733 | D8: 78 | E8: surema | F8: =IF(ISERROR(MATCH(E8,ema!$D:$D,0)),"*",G8/LOOKUP(E8,ema!$D:$D,ema!$E:$E)) -> 1.3223502 | G8: =H8/$H$2*10000 -> 219.1127 | H8: 202 | I8: saatma | J8: =K8/$K$2*10000 -> 308.88031 | K8: 8
A9: kuulus | B9: =IF(ISERROR(MATCH(A9,ema!$A:$A,0)),"*",C9/LOOKUP(A9,ema!$A:$A,ema!$B:$B)) -> 19.409472 | C9: =D9/$D$2*10000 -> 209.33425 | D9: 61 | E9: töötama | F9: =IF(ISERROR(MATCH(E9,ema!$D:$D,0)),"*",G9/LOOKUP(E9,ema!$D:$D,ema!$E:$E)) -> 1.4654985 | G9: =H9/$H$2*10000 -> 176.80876 | H9: 163 | I9: mõistma | J9: =K9/$K$2*10000 -> 308.88031 | K9: 8
A10: tulevane | B10: =IF(ISERROR(MATCH(A10,ema!$A:$A,0)),"*",C10/LOOKUP(A10,ema!$A:$A,ema!$B:$B)) -> 0.38608593 | C10: =D10/$D$2*10000 -> 199.03912 | D10: 58 | E10: elama | F10: =IF(ISERROR(MATCH(E10,ema!$D:$D,0)),"*",G10/LOOKUP(E10,ema!$D:$D,ema!$E:$E)) -> 1.1513887 | G10: =H10/$H$2*10000 -> 167.04632 | H10: 154 | I10: laskma | J10: =K10/$K$2*10000 -> 270.27027 | K10: 7
A11: õnnelik | B11: =IF(ISERROR(MATCH(A11,ema!$A:$A,0)),"*",C11/LOOKUP(A11,ema!$A:$A,ema!$B:$B)) -> 1.3534865 | C11: =D11/$D$2*10000 -> 195.60741 | D11: 57 | E11: minema | F11: =IF(ISERROR(MATCH(E11,ema!$D:$D,0)),"*",G11/LOOKUP(E11,ema!$D:$D,ema!$E:$E)) -> 1.0079102 | G11: =H11/$H$2*10000 -> 161.62274 | H11: 149 | I11: küüditama | J11: =K11/$K$2*10000 -> 193.05019 | K11: 5
A12: värske | B12: =IF(ISERROR(MATCH(A12,ema!$A:$A,0)),"*",C12/LOOKUP(A12,ema!$A:$A,ema!$B:$B)) -> 2.7273262 | C12: =D12/$D$2*10000 -> 164.72203 | D12: 48 | E12: tegema | F12: =IF(ISERROR(MATCH(E12,ema!$D:$D,0)),"*",G12/LOOKUP(E12,ema!$D:$D,ema!$E:$E)) -> 0.91769691 | G12: =H12/$H$2*10000 -> 158.36859 | H12: 146 | I12: süüdistama | J12: =K12/$K$2*10000 -> 154.44015 | K12: 4
A13: töötav | B13: =IF(ISERROR(MATCH(A13,ema!$A:$A,0)),"*",C13/LOOKUP(A13,ema!$A:$A,ema!$B:$B)) -> 0.66417896 | C13: =D13/$D$2*10000 -> 147.56349 | D13: 43 | E13: andma | F13: =IF(ISERROR(MATCH(E13,ema!$D:$D,0)),"*",G13/LOOKUP(E13,ema!$D:$D,ema!$E:$E)) -> 1.5351046 | G13: =H13/$H$2*10000 -> 145.35199 | H13: 134 | I13: suunama | J13: =K13/$K$2*10000 -> 154.44015 | K13: 4
A14: taevane | B14: =IF(ISERROR(MATCH(A14,ema!$A:$A,0)),"*",C14/LOOKUP(A14,ema!$A:$A,ema!$B:$B)) -> 31.023336 | C14: =D14/$D$2*10000 -> 133.83665 | D14: 39 | E14: tahtma | F14: =IF(ISERROR(MATCH(E14,ema!$D:$D,0)),"*",G14/LOOKUP(E14,ema!$D:$D,ema!$E:$E)) -> 0.84204223 | G14: =H14/$H$2*10000 -> 142.09784 | H14: 131 | I14: kuulutama | J14: =K14/$K$2*10000 -> 154.44015 | K14: 4
... A86: akadeemiline | B86: =IF(ISERROR(MATCH(A86,ema!$A:$A,0)),"*",C86/LOOKUP(A86,ema!$A:$A,ema!$B:$B)) -> 1.9886754 | C86: =D86/$D$2*10000 -> 17.158545 | D86: 5 | E86: kasutama | F86: =IF(ISERROR(MATCH(E86,ema!$D:$D,0)),"*",G86/LOOKUP(E86,ema!$D:$D,ema!$E:$E)) -> 1.8691375 | G86: =H86/$H$2*10000 -> 27.117909 | H86: 25 | I86: kaotama | J86: =K86/$K$2*10000 -> 38.610039 | K86: 1
A87: tore | B87: =IF(ISERROR(MATCH(A87,ema!$A:$A,0)),"*",C87/LOOKUP(A87,ema!$A:$A,ema!$B:$B)) -> 0.56819296 | C87: =D87/$D$2*10000 -> 17.158545 | D87: 5 | E87: kasvatama | F87: =IF(ISERROR(MATCH(E87,ema!$D:$D,0)),"*",G87/LOOKUP(E87,ema!$D:$D,ema!$E:$E)) -> 0.32163272 | G87: =H87/$H$2*10000 -> 26.033192 | H87: 24
A88: sobiv | B88: =IF(ISERROR(MATCH(A88,ema!$A:$A,0)),"*",C88/LOOKUP(A88,ema!$A:$A,ema!$B:$B)) -> 3.9773507 | C88: =D88/$D$2*10000 -> 17.158545 | D88: 5 | E88: sõnama | F88: =IF(ISERROR(MATCH(E88,ema!$D:$D,0)),"*",G88/LOOKUP(E88,ema!$D:$D,ema!$E:$E)) -> 0.85232672 | G88: =H88/$H$2*10000 -> 26.033192 | H88: 24
A89: tavaline | B89: =IF(ISERROR(MATCH(A89,ema!$A:$A,0)),"*",C89/LOOKUP(A89,ema!$A:$A,ema!$B:$B)) -> 0.99433768 | C89: =D89/$D$2*10000 -> 17.158545 | D89: 5 | E89: looma | F89: =IF(ISERROR(MATCH(E89,ema!$D:$D,0)),"*",G89/LOOKUP(E89,ema!$D:$D,ema!$E:$E)) -> 2.8410891 | G89: =H89/$H$2*10000 -> 26.033192 | H89: 24
A90: ainus | B90: =IF(ISERROR(MATCH(A90,ema!$A:$A,0)),"*",C90/LOOKUP(A90,ema!$A:$A,ema!$B:$B)) -> 1.5909403 | C90: =D90/$D$2*10000 -> 17.158545 | D90: 5 | E90: ehitama | F90: =IF(ISERROR(MATCH(E90,ema!$D:$D,0)),"*",G90/LOOKUP(E90,ema!$D:$D,ema!$E:$E)) -> 16.336262 | G90: =H90/$H$2*10000 -> 24.948476 | H90: 23
A91: eemalviibiv | B91: =IF(ISERROR(MATCH(A91,ema!$A:$A,0)),"*",C91/LOOKUP(A91,ema!$A:$A,ema!$B:$B)) -> 6.3637612 | C91: =D91/$D$2*10000 -> 13.726836 | D91: 4 | E91: käskima | F91: =IF(ISERROR(MATCH(E91,ema!$D:$D,0)),"*",G91/LOOKUP(E91,ema!$D:$D,ema!$E:$E)) -> 0.8168131 | G91: =H91/$H$2*10000 -> 24.948476 | H91: 23
A92: 66aastane | B92: =IF(ISERROR(MATCH(A92,ema!$A:$A,0)),"*",C92/LOOKUP(A92,ema!$A:$A,ema!$B:$B)) -> * | C92: =D92/$D$2*10000 -> 13.726836 | D92: 4 | E92: märkama | F92: =IF(ISERROR(MATCH(E92,ema!$D:$D,0)),"*",G92/LOOKUP(E92,ema!$D:$D,ema!$E:$E)) -> 1.4205445 | G92: =H92/$H$2*10000 -> 24.948476 | H92: 23
A93: unine | B93: =IF(ISERROR(MATCH(A93,ema!$A:$A,0)),"*",C93/LOOKUP(A93,ema!$A:$A,ema!$B:$B)) -> * | C93: =D93/$D$2*10000 -> 13.726836 | D93: 4 | E93: soovitama | F93: =IF(ISERROR(MATCH(E93,ema!$D:$D,0)),"*",G93/LOOKUP(E93,ema!$D:$D,ema!$E:$E)) -> 0.90757011 | G93: =H93/$H$2*10000 -> 24.948476 | H93: 23
A94: hullumeelne | B94: =IF(ISERROR(MATCH(A94,ema!$A:$A,0)),"*",C94/LOOKUP(A94,ema!$A:$A,ema!$B:$B)) -> * | C94: =D94/$D$2*10000 -> 13.726836 | D94: 4 | E94: maksma | F94: =IF(ISERROR(MATCH(E94,ema!$D:$D,0)),"*",G94/LOOKUP(E94,ema!$D:$D,ema!$E:$E)) -> 2.7227103 | G94: =H94/$H$2*10000 -> 24.948476 | H94: 23
A95: ükskõikne | B95: =IF(ISERROR(MATCH(A95,ema!$A:$A,0)),"*",C95/LOOKUP(A95,ema!$A:$A,ema!$B:$B)) -> 6.3637612 | C95: =D95/$D$2*10000 -> 13.726836 | D95: 4 | E95: kuulma | F95: =IF(ISERROR(MATCH(E95,ema!$D:$D,0)),"*",G95/LOOKUP(E95,ema!$D:$D,ema!$E:$E)) -> 0.57874036 | G95: =H95/$H$2*10000 -> 23.86376 | H95: 22
A96: puuduv | B96: =IF(ISERROR(MATCH(A96,ema!$A:$A,0)),"*",C96/LOOKUP(A96,ema!$A:$A,ema!$B:$B)) -> 6.3637612 | C96: =D96/$D$2*10000 -> 13.726836 | D96: 4 | E96: ohkama | F96: =IF(ISERROR(MATCH(E96,ema!$D:$D,0)),"*",G96/LOOKUP(E96,ema!$D:$D,ema!$E:$E)) -> 0.5966287 | G96: =H96/$H$2*10000 -> 22.779043 | H96: 21
A97: toetav | B97: =IF(ISERROR(MATCH(A97,ema!$A:$A,0)),"*",C97/LOOKUP(A97,ema!$A:$A,ema!$B:$B)) -> * | C97: =D97/$D$2*10000 -> 13.726836 | D97: 4 | E97: põhjendama | F97: =IF(ISERROR(MATCH(E97,ema!$D:$D,0)),"*",G97/LOOKUP(E97,ema!$D:$D,ema!$E:$E)) -> 1.2429765 | G97: =H97/$H$2*10000 -> 22.779043 | H97: 21
A98: legendaarne | B98: =IF(ISERROR(MATCH(A98,ema!$A:$A,0)),"*",C98/LOOKUP(A98,ema!$A:$A,ema!$B:$B)) -> 6.3637612 | C98: =D98/$D$2*10000 -> 13.726836 | D98: 4 | E98: õppima | F98: =IF(ISERROR(MATCH(E98,ema!$D:$D,0)),"*",G98/LOOKUP(E98,ema!$D:$D,ema!$E:$E)) -> 0.72759598 | G98: =H98/$H$2*10000 -> 22.779043 | H98: 21
... A592: kodune | B592: =IF(ISERROR(MATCH(A592,ema!$A:$A,0)),"*",C592/LOOKUP(A592,ema!$A:$A,ema!$B:$B)) -> 0.037879531 | C592: =D592/$D$2*10000 -> 3.431709 | D592: 1 | E592: ühmama | F592: =IF(ISERROR(MATCH(E592,ema!$D:$D,0)),"*",G592/LOOKUP(E592,ema!$D:$D,ema!$E:$E)) -> * | G592: =H592/$H$2*10000 -> 1.0847163 | H592: 1
E593: sigitama | F593: =IF(ISERROR(MATCH(E593,ema!$D:$D,0)),"*",G593/LOOKUP(E593,ema!$D:$D,ema!$E:$E)) -> * | G593: =H593/$H$2*10000 -> 1.0847163 | H593: 1
E594: vormuma | F594: =IF(ISERROR(MATCH(E594,ema!$D:$D,0)),"*",G594/LOOKUP(E594,ema!$D:$D,ema!$E:$E)) -> * | G594: =H594/$H$2*10000 -> 1.0847163 | H594: 1
E595: ähmastuma | F595: =IF(ISERROR(MATCH(E595,ema!$D:$D,0)),"*",G595/LOOKUP(E595,ema!$D:$D,ema!$E:$E)) -> * | G595: =H595/$H$2*10000 -> 1.0847163 | H595: 1
E596: mähkima | F596: =IF(ISERROR(MATCH(E596,ema!$D:$D,0)),"*",G596/LOOKUP(E596,ema!$D:$D,ema!$E:$E)) -> * | G596: =H596/$H$2*10000 -> 1.0847163 | H596: 1
E597: müttama | F597: =IF(ISERROR(MATCH(E597,ema!$D:$D,0)),"*",G597/LOOKUP(E597,ema!$D:$D,ema!$E:$E)) -> * | G597: =H597/$H$2*10000 -> 1.0847163 | H597: 1
E598: idealiseerima | F598: =IF(ISERROR(MATCH(E598,ema!$D:$D,0)),"*",G598/LOOKUP(E598,ema!$D:$D,ema!$E:$E)) -> * | G598: =H598/$H$2*10000 -> 1.0847163 | H598: 1
E599: laamendama | F599: =IF(ISERROR(MATCH(E599,ema!$D:$D,0)),"*",G599/LOOKUP(E599,ema!$D:$D,ema!$E:$E)) -> * | G599: =H599/$H$2*10000 -> 1.0847163 | H599: 1
E600: lesima | F600: =IF(ISERROR(MATCH(E600,ema!$D:$D,0)),"*",G600/LOOKUP(E600,ema!$D:$D,ema!$E:$E)) -> * | G600: =H600/$H$2*10000 -> 1.0847163 | H600: 1
E601: lävima | F601: =IF(ISERROR(MATCH(E601,ema!$D:$D,0)),"*",G601/LOOKUP(E601,ema!$D:$D,ema!$E:$E)) -> * | G601: =H601/$H$2*10000 -> 1.0847163 | H601: 1
E602: kobama | F602: =IF(ISERROR(MATCH(E602,ema!$D:$D,0)),"*",G602/LOOKUP(E602,ema!$D:$D,ema!$E:$E)) -> * | G602: =H602/$H$2*10000 -> 1.0847163 | H602: 1
E603: laimama | F603: =IF(ISERROR(MATCH(E603,ema!$D:$D,0)),"*",G603/LOOKUP(E603,ema!$D:$D,ema!$E:$E)) -> * | G603: =H603/$H$2*10000 -> 1.0847163 | H603: 1
E604: invaliidistuma | F604: =IF(ISERROR(MATCH(E604,ema!$D:$D,0)),"*",G604/LOOKUP(E604,ema!$D:$D,ema!$E:$E)) -> * | G604: =H604/$H$2*10000 -> 1.0847163 | H604: 1
... E879: kuulutama | F879: =IF(ISERROR(MATCH(E879,ema!$D:$D,0)),"*",G879/LOOKUP(E879,ema!$D:$D,ema!$E:$E)) -> 0.47351484 | G879: =H879/$H$2*10000 -> 1.0847163 | H879: 1

Sheet ema
A1: Adj_modifier | C1: 4636 | D1: subject_of | F1: 13096 | G1: object_of | I1: 253
A2: 100aastane | B2: =C2/$C$1*10000 -> 6.4710958 | C2: 3 | D2: abielluma | E2: =F2/$F$1*10000 -> 26.725718 | F2: 35 | G2: ajama | H2: =I2/$I$1*10000 -> 39.525692 | I2: 1
A3: 101aastane | B3: =C3/$C$1*10000 -> 8.6281277 | C3: 4 | D3: abistama | E3: =F3/$F$1*10000 -> 2.2907758 | F3: 3 | G3: arendama | H3: =I3/$I$1*10000 -> 39.525692 | I3: 1
A4: 105aastane | B4: =C4/$C$1*10000 -> 2.1570319 | C4: 1 | D4: ahastama | E4: =F4/$F$1*10000 -> 12.217471 | F4: 16 | G4: armastama | H4: =I4/$I$1*10000 -> 79.051383 | I4: 2
A5: 109aastane | B5: =C5/$C$1*10000 -> 2.1570319 | C5: 1 | D5: ahhetama | E5: =F5/$F$1*10000 -> 3.8179597 | F5: 5 | G5: arreteerima | H5: =I5/$I$1*10000 -> 39.525692 | I5: 1
A6: 13aastane | B6: =C6/$C$1*10000 -> 2.1570319 | C6: 1 | D6: ahistama | E6: =F6/$F$1*10000 -> 0.76359194 | F6: 1 | G6: asendama | H6: =I6/$I$1*10000 -> 39.525692 | I6: 1
A7: 15aastane | B7: =C7/$C$1*10000 -> 2.1570319 | C7: 1 | D7: ahmima | E7: =F7/$F$1*10000 -> 0.76359194 | F7: 1 | G7: eelistama | H7: =I7/$I$1*10000 -> 39.525692 | I7: 1
A8: 16-17aastane | B8: =C8/$C$1*10000 -> 4.3140638 | C8: 2 | D8: aietama | E8: =F8/$F$1*10000 -> 0.76359194 | F8: 1 | G8: ehmatama | H8: =I8/$I$1*10000 -> 39.525692 | I8: 1
A9: 166sentimeetrine | B9: =C9/$C$1*10000 -> 2.1570319 | C9: 1 | D9: aimama | E9: =F9/$F$1*10000 -> 5.3451436 | F9: 7 | G9: esindama | H9: =I9/$I$1*10000 -> 39.525692 | I9: 1
A10: 16aastane | B10: =C10/$C$1*10000 -> 2.1570319 | C10: 1 | D10: aitama | E10: =F10/$F$1*10000 -> 34.361637 | F10: 45 | G10: evakueerima | H10: =I10/$I$1*10000 -> 39.525692 | I10: 1
A11: 17aastane | B11: =C11/$C$1*10000 -> 6.4710958 | C11: 3 | D11: ajama | E11: =F11/$F$1*10000 -> 20.616982 | F11: 27 | G11: igatsema | H11: =I11/$I$1*10000 -> 39.525692 | I11: 1
A12: 18aastane | B12: =C12/$C$1*10000 -> 8.6281277 | C12: 4 | D12: ajendama | E12: =F12/$F$1*10000 -> 1.5271839 | F12: 2 | G12: informeerima | H12: =I12/$I$1*10000 -> 39.525692 | I12: 1
A13: 19aastane | B13: =C13/$C$1*10000 -> 10.78516 | C13: 5 | D13: alandama | E13: =F13/$F$1*10000 -> 0.76359194 | F13: 1 | G13: jahmatama | H13: =I13/$I$1*10000 -> 39.525692 | I13: 1
... A97: aktiivne | B97: =C97/$C$1*10000 -> 6.4710958 | C97: 3 | D97: hoolitsema | E97: =F97/$F$1*10000 -> 16.799023 | F97: 22 | G97: ümbritsema | H97: =I97/$I$1*10000 -> 39.525692 | I97: 1
A98: alaealine | B98: =C98/$C$1*10000 -> 30.198447 | C98: 14 | D98: hooplema | E98: =F98/$F$1*10000 -> 0.76359194 | F98: 1
A99: alkoholilembeline | B99: =C99/$C$1*10000 -> 2.1570319 | C99: 1 | D99: hukkuma | E99: =F99/$F$1*10000 -> 11.453879 | F99: 15
A100: alkoholilembene | B100: =C100/$C$1*10000 -> 6.4710958 | C100: 3 | D100: hurjutama | E100: =F100/$F$1*10000 -> 2.2907758 | F100: 3
A101: allaheitlik | B101: =C101/$C$1*10000 -> 2.1570319 | C101: 1 | D101: huvitama | E101: =F101/$F$1*10000 -> 1.5271839 | F101: 2
A102: alustav | B102: =C102/$C$1*10000 -> 4.3140638 | C102: 2 | D102: huvituma | E102: =F102/$F$1*10000 -> 1.5271839 | F102: 2
A103: andekas | B103: =C103/$C$1*10000 -> 2.1570319 | C103: 1 | D103: hõikama | E103: =F103/$F$1*10000 -> 6.1087355 | F103: 8
A104: andev | B104: =C104/$C$1*10000 -> 4.3140638 | C104: 2 | D104: hõiskama | E104: =F104/$F$1*10000 -> 0.76359194 | F104: 1
A105: anonüümne | B105: =C105/$C$1*10000 -> 6.4710958 | C105: 3 | D105: häbenema | E105: =F105/$F$1*10000 -> 2.2907758 | F105: 3
A106: arhailine | B106: =C106/$C$1*10000 -> 2.1570319 | C106: 1 | D106: hädaldama | E106: =F106/$F$1*10000 -> 3.0543677 | F106: 4
A107: armas | B107: =C107/$C$1*10000 -> 36.669543 | C107: 17 | D107: häirima | E107: =F107/$F$1*10000 -> 1.5271839 | F107: 2
A108: armastav | B108: =C108/$C$1*10000 -> 69.025022 | C108: 32 | D108: hämmastama | E108: =F108/$F$1*10000 -> 1.5271839 | F108: 2
A109: armastusväärne | B109: =C109/$C$1*10000 -> 2.1570319 | C109: 1 | D109: hävitama | E109: =F109/$F$1*10000 -> 0.76359194 | F109: 1
... A768: ürgne | B768: =C768/$C$1*10000 -> 2.1570319 | C768: 1 | D768: tellima | E768: =F768/$F$1*10000 -> 5.3451436 | F768: 7
D769: teotama | E769: =F769/$F$1*10000 -> 0.76359194 | F769: 1
D770: teretama | E770: =F770/$F$1*10000 -> 0.76359194 | F770: 1
D771: terroriseerima | E771: =F771/$F$1*10000 -> 2.2907758 | F771: 3
D772: tervenema | E772: =F772/$F$1*10000 -> 0.76359194 | F772: 1
D773: tervitama | E773: =F773/$F$1*10000 -> 1.5271839 | F773: 2
D774: tihkuma | E774: =F774/$F$1*10000 -> 0.76359194 | F774: 1
D775: tiirutama | E775: =F775/$F$1*10000 -> 0.76359194 | F775: 1
D776: tikkima | E776: =F776/$F$1*10000 -> 0.76359194 | F776: 1
D777: tingima | E777: =F777/$F$1*10000 -> 1.5271839 | F777: 2
D778: tirima | E778: =F778/$F$1*10000 -> 7.6359194 | F778: 10
D779: toetama | E779: =F779/$F$1*10000 -> 15.271839 | F779: 20
D780: toetuma | E780: =F780/$F$1*10000 -> 1.5271839 | F780: 2
... D970: ytlema | E970: =F970/$F$1*10000 -> 0.76359194 | F970: 1

Sheet ema (2)
A1: Adj_modifier | B1: erinevus paarikust | C1: normaliseeritud koosesinemissagedus | D1: absoluutne koosesinemissagedus | E1: subject_of | F1: erinevus paarikust | G1: normaliseeritud koosesinemissagedus | H1: normaliseeritud koosesinemissagedus | I1: absoluutne koosesinemissagedus | J1: object_of | K1: normaliseeritud koosesinemissagedus | L1: absoluutne koosesinemissagedus
D2: 4636 | I2: 13096 | L2: 253
A3: noor | B3: =IF(ISERROR(MATCH(A3,isa!$A:$A,0)),"*",C3/LOOKUP(A3,isa!$A:$A,isa!$B:$B)) -> 4.3366056 | C3: =D3/$D$2*10000 -> 2068.5936 | D3: 959 | E3: ütlema | F3: =IF(ISERROR(MATCH(E3,isa!$D:$D,0)),"*",H3/LOOKUP(E3,isa!$D:$D,isa!$E:$E)) -> 1.0977688 | G3: =IF(ISERROR(MATCH(E3,tütar!$D:$D,0)),"*",H3/LOOKUP(E3,tütar!$D:$D,tütar!$E:$E)) -> 2.5778638 | H3: =I3/$I$2*10000 -> 751.37447 | I3: 984 | J3: viima | K3: =L3/$L$2*10000 -> 1146.2451 | L3: 29 | N3: =SUM(I3:I32) -> 6231
A4: tulevane | B4: =IF(ISERROR(MATCH(A4,isa!$A:$A,0)),"*",C4/LOOKUP(A4,isa!$A:$A,isa!$B:$B)) -> 2.590097 | C4: =D4/$D$2*10000 -> 515.53063 | D4: 239 | E4: saama | F4: =IF(ISERROR(MATCH(E4,isa!$D:$D,0)),"*",H4/LOOKUP(E4,isa!$D:$D,isa!$E:$E)) -> 1.1854805 | G4: =IF(ISERROR(MATCH(E4,tütar!$D:$D,0)),"*",H4/LOOKUP(E4,tütar!$D:$D,tütar!$E:$E)) -> 0.61627585 | H4: =I4/$I$2*10000 -> 370.34209 | I4: 485 | J4: kutsuma | K4: =L4/$L$2*10000 -> 474.3083 | L4: 12
A5: hea | B5: =IF(ISERROR(MATCH(A5,isa!$A:$A,0)),"*",C5/LOOKUP(A5,isa!$A:$A,isa!$B:$B)) -> 0.4550506 | C5: =D5/$D$2*10000 -> 299.82744 | D5: 139 | E5: rääkima | F5: =IF(ISERROR(MATCH(E5,isa!$D:$D,0)),"*",H5/LOOKUP(E5,isa!$D:$D,isa!$E:$E)) -> 1.4271973 | G5: =IF(ISERROR(MATCH(E5,tütar!$D:$D,0)),"*",H5/LOOKUP(E5,tütar!$D:$D,tütar!$E:$E)) -> 1.4955203 | H5: =I5/$I$2*10000 -> 339.03482 | I5: 444 | J5: tapma | K5: =L5/$L$2*10000 -> 355.73123 | L5: 9
A6: elav | B6: =IF(ISERROR(MATCH(A6,isa!$A:$A,0)),"*",C6/LOOKUP(A6,isa!$A:$A,isa!$B:$B)) -> 1.0798323 | C6: =D6/$D$2*10000 -> 289.04228 | D6: 134 | E6: pidama | F6: =IF(ISERROR(MATCH(E6,isa!$D:$D,0)),"*",H6/LOOKUP(E6,isa!$D:$D,isa!$E:$E)) -> 1.117287 | G6: =IF(ISERROR(MATCH(E6,tütar!$D:$D,0)),"*",H6/LOOKUP(E6,tütar!$D:$D,tütar!$E:$E)) -> 0.99218866 | H6: =I6/$I$2*10000 -> 264.20281 | I6: 346 | J6: saatma | K6: =L6/$L$2*10000 -> 276.67984 | L6: 7
A7: töötav | B7: =IF(ISERROR(MATCH(A7,isa!$A:$A,0)),"*",C7/LOOKUP(A7,isa!$A:$A,isa!$B:$B)) -> 1.5056183 | C7: =D7/$D$2*10000 -> 222.17429 | D7: 103 | E7: tulema | F7: =IF(ISERROR(MATCH(E7,isa!$D:$D,0)),"*",H7/LOOKUP(E7,isa!$D:$D,isa!$E:$E)) -> 0.75047228 | G7: =IF(ISERROR(MATCH(E7,tütar!$D:$D,0)),"*",H7/LOOKUP(E7,tütar!$D:$D,tütar!$E:$E)) -> 0.74424539 | H7: =I7/$I$2*10000 -> 184.78925 | I7: 242 | J7: panema | K7: =L7/$L$2*10000 -> 237.15415 | L7: 6
A8: olev | B8: =IF(ISERROR(MATCH(A8,isa!$A:$A,0)),"*",C8/LOOKUP(A8,isa!$A:$A,isa!$B:$B)) -> 3.526915 | C8: =D8/$D$2*10000 -> 217.86022 | D8: 101 | E8: tegema | F8: =IF(ISERROR(MATCH(E8,isa!$D:$D,0)),"*",H8/LOOKUP(E8,isa!$D:$D,isa!$E:$E)) -> 1.0896844 | G8: =IF(ISERROR(MATCH(E8,tütar!$D:$D,0)),"*",H8/LOOKUP(E8,tütar!$D:$D,tütar!$E:$E)) -> 1.0899477 | H8: =I8/$I$2*10000 -> 172.57178 | I8: 226 | J8: matma | K8: =L8/$L$2*10000 -> 158.10277 | L8: 4
A9: haige | B9: =IF(ISERROR(MATCH(A9,isa!$A:$A,0)),"*",C9/LOOKUP(A9,isa!$A:$A,isa!$B:$B)) -> 2.0020771 | C9: =D9/$D$2*10000 -> 185.50475 | D9: 86 | E9: tahtma | F9: =IF(ISERROR(MATCH(E9,isa!$D:$D,0)),"*",H9/LOOKUP(E9,isa!$D:$D,isa!$E:$E)) -> 1.1875889 | G9: =IF(ISERROR(MATCH(E9,tütar!$D:$D,0)),"*",H9/LOOKUP(E9,tütar!$D:$D,tütar!$E:$E)) -> 1.2024791 | H9: =I9/$I$2*10000 -> 168.75382 | I9: 221 | J9: karistama | K9: =L9/$L$2*10000 -> 158.10277 | L9: 4
A10: kasvatav | B10: =IF(ISERROR(MATCH(A10,isa!$A:$A,0)),"*",C10/LOOKUP(A10,isa!$A:$A,isa!$B:$B)) -> 6.6784405 | C10: =D10/$D$2*10000 -> 183.34771 | D10: 85 | E10: surema | F10: =IF(ISERROR(MATCH(E10,isa!$D:$D,0)),"*",H10/LOOKUP(E10,isa!$D:$D,isa!$E:$E)) -> 0.75622932 | G10: =IF(ISERROR(MATCH(E10,tütar!$D:$D,0)),"*",H10/LOOKUP(E10,tütar!$D:$D,tütar!$E:$E)) -> 1.4854154 | H10: =I10/$I$2*10000 -> 165.69945 | I10: 217 | J10: toetama | K10: =L10/$L$2*10000 -> 158.10277 | L10: 4
A11: vana | B11: =IF(ISERROR(MATCH(A11,isa!$A:$A,0)),"*",C11/LOOKUP(A11,isa!$A:$A,isa!$B:$B)) -> 2.0496492 | C11: =D11/$D$2*10000 -> 161.77739 | D11: 75 | E11: minema | F11: =IF(ISERROR(MATCH(E11,isa!$D:$D,0)),"*",H11/LOOKUP(E11,isa!$D:$D,isa!$E:$E)) -> 0.99215191 | G11: =IF(ISERROR(MATCH(E11,tütar!$D:$D,0)),"*",H11/LOOKUP(E11,tütar!$D:$D,tütar!$E:$E)) -> 0.65533032 | H11: =I11/$I$2*10000 -> 160.35431 | I11: 210 | J11: laskma | K11: =L11/$L$2*10000 -> 158.10277 | L11: 4
A12: imetav | B12: =IF(ISERROR(MATCH(A12,isa!$A:$A,0)),"*",C12/LOOKUP(A12,isa!$A:$A,isa!$B:$B)) -> * | C12: =D12/$D$2*10000 -> 144.52114 | D12: 67 | E12: võtma | F12: =IF(ISERROR(MATCH(E12,isa!$D:$D,0)),"*",H12/LOOKUP(E12,isa!$D:$D,isa!$E:$E)) -> 1.072694 | G12: =IF(ISERROR(MATCH(E12,tütar!$D:$D,0)),"*",H12/LOOKUP(E12,tütar!$D:$D,tütar!$E:$E)) -> 1.4551008 | H12: =I12/$I$2*10000 -> 146.60965 | I12: 192 | J12: küüditama | K12: =L12/$L$2*10000 -> 118.57708 | L12: 3
A13: õnnelik | B13: =IF(ISERROR(MATCH(A13,isa!$A:$A,0)),"*",C13/LOOKUP(A13,isa!$A:$A,isa!$B:$B)) -> 0.73883263 | C13: =D13/$D$2*10000 -> 144.52114 | D13: 67 | E13: elama | F13: =IF(ISERROR(MATCH(E13,isa!$D:$D,0)),"*",H13/LOOKUP(E13,isa!$D:$D,isa!$E:$E)) -> 0.86851641 | G13: =IF(ISERROR(MATCH(E13,tütar!$D:$D,0)),"*",H13/LOOKUP(E13,tütar!$D:$D,tütar!$E:$E)) -> 0.50398022 | H13: =I13/$I$2*10000 -> 145.08247 | I13: 190 | J13: peksma | K13: =L13/$L$2*10000 -> 118.57708 | L13: 3
A14: ootav | B14: =IF(ISERROR(MATCH(A14,isa!$A:$A,0)),"*",C14/LOOKUP(A14,isa!$A:$A,isa!$B:$B)) -> 8.7998274 | C14: =D14/$D$2*10000 -> 120.79379 | D14: 56 | E14: teadma | F14: =IF(ISERROR(MATCH(E14,isa!$D:$D,0)),"*",H14/LOOKUP(E14,isa!$D:$D,isa!$E:$E)) -> 1.3549249 | G14: =IF(ISERROR(MATCH(E14,tütar!$D:$D,0)),"*",H14/LOOKUP(E14,tütar!$D:$D,tütar!$E:$E)) -> 1.5193677 | H14: =I14/$I$2*10000 -> 136.68296 | I14: 179 | J14: vahistama | K14: =L14/$L$2*10000 -> 118.57708 | L14: 3
A15: bioloogiline | B15: =IF(ISERROR(MATCH(A15,isa!$A:$A,0)),"*",C15/LOOKUP(A15,isa!$A:$A,isa!$B:$B)) -> 0.43455938 | C15: =D15/$D$2*10000 -> 120.79379 | D15: 56 | E15: käima | F15: =IF(ISERROR(MATCH(E15,isa!$D:$D,0)),"*",H15/LOOKUP(E15,isa!$D:$D,isa!$E:$E)) -> 0.92965103 | G15: =IF(ISERROR(MATCH(E15,tütar!$D:$D,0)),"*",H15/LOOKUP(E15,tütar!$D:$D,tütar!$E:$E)) -> 0.41717023 | H15: =I15/$I$2*10000 -> 132.10141 | I15: 173 | J15: tänama | K15: =L15/$L$2*10000 -> 118.57708 | L15: 3
... A98: korralik | B98: =IF(ISERROR(MATCH(A98,isa!$A:$A,0)),"*",C98/LOOKUP(A98,isa!$A:$A,isa!$B:$B)) -> 0.73331895 | C98: =D98/$D$2*10000 -> 15.099223 | D98: 7 | E98: pöörduma | F98: =IF(ISERROR(MATCH(E98,isa!$D:$D,0)),"*",H98/LOOKUP(E98,isa!$D:$D,isa!$E:$E)) -> 1.6425626 | G98: =IF(ISERROR(MATCH(E98,tütar!$D:$D,0)),"*",H98/LOOKUP(E98,tütar!$D:$D,tütar!$E:$E)) -> 1.1883323 | H98: =I98/$I$2*10000 -> 21.380574 | I98: 28 | J98: ajama | K98: =L98/$L$2*10000 -> 39.525692 | L98: 1
A99: seisev | B99: =IF(ISERROR(MATCH(A99,isa!$A:$A,0)),"*",C99/LOOKUP(A99,isa!$A:$A,isa!$B:$B)) -> * | C99: =D99/$D$2*10000 -> 12.942192 | D99: 6 | E99: tegelema | F99: =IF(ISERROR(MATCH(E99,isa!$D:$D,0)),"*",H99/LOOKUP(E99,isa!$D:$D,isa!$E:$E)) -> 0.49276878 | G99: =IF(ISERROR(MATCH(E99,tütar!$D:$D,0)),"*",H99/LOOKUP(E99,tütar!$D:$D,tütar!$E:$E)) -> 0.54015105 | H99: =I99/$I$2*10000 -> 21.380574 | I99: 28
A100: ilus | B100: =IF(ISERROR(MATCH(A100,isa!$A:$A,0)),"*",C100/LOOKUP(A100,isa!$A:$A,isa!$B:$B)) -> * | C100: =D100/$D$2*10000 -> 12.942192 | D100: 6 | E100: ajama | F100: =IF(ISERROR(MATCH(E100,isa!$D:$D,0)),"*",H100/LOOKUP(E100,isa!$D:$D,isa!$E:$E)) -> 0.90508552 | G100: =IF(ISERROR(MATCH(E100,tütar!$D:$D,0)),"*",H100/LOOKUP(E100,tütar!$D:$D,tütar!$E:$E)) -> 0.57294594 | H100: =I100/$I$2*10000 -> 20.616982 | I100: 27
A101: 70aastane | B101: =IF(ISERROR(MATCH(A101,isa!$A:$A,0)),"*",C101/LOOKUP(A101,isa!$A:$A,isa!$B:$B)) -> 0.94283865 | C101: =D101/$D$2*10000 -> 12.942192 | D101: 6 | E101: hüüdma | F101: =IF(ISERROR(MATCH(E101,isa!$D:$D,0)),"*",H101/LOOKUP(E101,isa!$D:$D,isa!$E:$E)) -> 0.73211362 | G101: =IF(ISERROR(MATCH(E101,tütar!$D:$D,0)),"*",H101/LOOKUP(E101,tütar!$D:$D,tütar!$E:$E)) -> 2.7586286 | H101: =I101/$I$2*10000 -> 19.85339 | I101: 26
A102: saatev | B102: =IF(ISERROR(MATCH(A102,isa!$A:$A,0)),"*",C102/LOOKUP(A102,isa!$A:$A,isa!$B:$B)) -> 3.7713546 | C102: =D102/$D$2*10000 -> 12.942192 | D102: 6 | E102: kuulama | F102: =IF(ISERROR(MATCH(E102,isa!$D:$D,0)),"*",H102/LOOKUP(E102,isa!$D:$D,isa!$E:$E)) -> 1.0168245 | G102: =IF(ISERROR(MATCH(E102,tütar!$D:$D,0)),"*",H102/LOOKUP(E102,tütar!$D:$D,tütar!$E:$E)) -> 0.61302858 | H102: =I102/$I$2*10000 -> 19.85339 | I102: 26
A103: 31aastane | B103: =IF(ISERROR(MATCH(A103,isa!$A:$A,0)),"*",C103/LOOKUP(A103,isa!$A:$A,isa!$B:$B)) -> 3.7713546 | C103: =D103/$D$2*10000 -> 12.942192 | D103: 6 | E103: muigama | F103: =IF(ISERROR(MATCH(E103,isa!$D:$D,0)),"*",H103/LOOKUP(E103,isa!$D:$D,isa!$E:$E)) -> 1.2201894 | G103: =IF(ISERROR(MATCH(E103,tütar!$D:$D,0)),"*",H103/LOOKUP(E103,tütar!$D:$D,tütar!$E:$E)) -> 5.5172572 | H103: =I103/$I$2*10000 -> 19.85339 | I103: 26
A104: 60aastane | B104: =IF(ISERROR(MATCH(A104,isa!$A:$A,0)),"*",C104/LOOKUP(A104,isa!$A:$A,isa!$B:$B)) -> 1.8856773 | C104: =D104/$D$2*10000 -> 12.942192 | D104: 6 | E104: viskama | F104: =IF(ISERROR(MATCH(E104,isa!$D:$D,0)),"*",H104/LOOKUP(E104,isa!$D:$D,isa!$E:$E)) -> 0.9633074 | G104: =IF(ISERROR(MATCH(E104,tütar!$D:$D,0)),"*",H104/LOOKUP(E104,tütar!$D:$D,tütar!$E:$E)) -> 5.5172572 | H104: =I104/$I$2*10000 -> 19.85339 | I104: 26
A105: 24aastane | B105: =IF(ISERROR(MATCH(A105,isa!$A:$A,0)),"*",C105/LOOKUP(A105,isa!$A:$A,isa!$B:$B)) -> 3.7713546 | C105: =D105/$D$2*10000 -> 12.942192 | D105: 6 | E105: mõistma | F105: =IF(ISERROR(MATCH(E105,isa!$D:$D,0)),"*",H105/LOOKUP(E105,isa!$D:$D,isa!$E:$E)) -> 1.0999303 | G105: =IF(ISERROR(MATCH(E105,tütar!$D:$D,0)),"*",H105/LOOKUP(E105,tütar!$D:$D,tütar!$E:$E)) -> 1.061011 | H105: =I105/$I$2*10000 -> 19.089798 | I105: 25
A106: vapper | B106: =IF(ISERROR(MATCH(A106,isa!$A:$A,0)),"*",C106/LOOKUP(A106,isa!$A:$A,isa!$B:$B)) -> 3.7713546 | C106: =D106/$D$2*10000 -> 12.942192 | D106: 6 | E106: tapma | F106: =IF(ISERROR(MATCH(E106,isa!$D:$D,0)),"*",H106/LOOKUP(E106,isa!$D:$D,isa!$E:$E)) -> 0.47564554 | G106: =IF(ISERROR(MATCH(E106,tütar!$D:$D,0)),"*",H106/LOOKUP(E106,tütar!$D:$D,tütar!$E:$E)) -> * | H106: =I106/$I$2*10000 -> 19.089798 | I106: 25
A107: närviline | B107: =IF(ISERROR(MATCH(A107,isa!$A:$A,0)),"*",C107/LOOKUP(A107,isa!$A:$A,isa!$B:$B)) -> 3.7713546 | C107: =D107/$D$2*10000 -> 12.942192 | D107: 6 | E107: avastama | F107: =IF(ISERROR(MATCH(E107,isa!$D:$D,0)),"*",H107/LOOKUP(E107,isa!$D:$D,isa!$E:$E)) -> 1.8772144 | G107: =IF(ISERROR(MATCH(E107,tütar!$D:$D,0)),"*",H107/LOOKUP(E107,tütar!$D:$D,tütar!$E:$E)) -> 5.0928528 | H107: =I107/$I$2*10000 -> 18.326206 | I107: 24
A108: rõõmus | B108: =IF(ISERROR(MATCH(A108,isa!$A:$A,0)),"*",C108/LOOKUP(A108,isa!$A:$A,isa!$B:$B)) -> 3.7713546 | C108: =D108/$D$2*10000 -> 12.942192 | D108: 6 | E108: kandma | F108: =IF(ISERROR(MATCH(E108,isa!$D:$D,0)),"*",H108/LOOKUP(E108,isa!$D:$D,isa!$E:$E)) -> 0.62573814 | G108: =IF(ISERROR(MATCH(E108,tütar!$D:$D,0)),"*",H108/LOOKUP(E108,tütar!$D:$D,tütar!$E:$E)) -> 0.50928528 | H108: =I108/$I$2*10000 -> 18.326206 | I108: 24
A109: uhke | B109: =IF(ISERROR(MATCH(A109,isa!$A:$A,0)),"*",C109/LOOKUP(A109,isa!$A:$A,isa!$B:$B)) -> 0.25142364 | C109: =D109/$D$2*10000 -> 12.942192 | D109: 6 | E109: keelama | F109: =IF(ISERROR(MATCH(E109,isa!$D:$D,0)),"*",H109/LOOKUP(E109,isa!$D:$D,isa!$E:$E)) -> 1.0559331 | G109: =IF(ISERROR(MATCH(E109,tütar!$D:$D,0)),"*",H109/LOOKUP(E109,tütar!$D:$D,tütar!$E:$E)) -> 1.6976176 | H109: =I109/$I$2*10000 -> 18.326206 | I109: 24
A110: aastane | B110: =IF(ISERROR(MATCH(A110,isa!$A:$A,0)),"*",C110/LOOKUP(A110,isa!$A:$A,isa!$B:$B)) -> 3.7713546 | C110: =D110/$D$2*10000 -> 12.942192 | D110: 6 | E110: põhjendama | F110: =IF(ISERROR(MATCH(E110,isa!$D:$D,0)),"*",H110/LOOKUP(E110,isa!$D:$D,isa!$E:$E)) -> 0.80452046 | G110: =IF(ISERROR(MATCH(E110,tütar!$D:$D,0)),"*",H110/LOOKUP(E110,tütar!$D:$D,tütar!$E:$E)) -> 5.0928528 | H110: =I110/$I$2*10000 -> 18.326206 | I110: 24
... A769: järjekordne | B769: =IF(ISERROR(MATCH(A769,isa!$A:$A,0)),"*",C769/LOOKUP(A769,isa!$A:$A,isa!$B:$B)) -> 0.6285591 | C769: =D769/$D$2*10000 -> 2.1570319 | D769: 1 | E769: moosima | F769: =IF(ISERROR(MATCH(E769,isa!$D:$D,0)),"*",H769/LOOKUP(E769,isa!$D:$D,isa!$E:$E)) -> * | G769: =IF(ISERROR(MATCH(E769,tütar!$D:$D,0)),"*",H769/LOOKUP(E769,tütar!$D:$D,tütar!$E:$E)) -> * | H769: =I769/$I$2*10000 -> 0.76359194 | I769: 1
E770: mudima | F770: =IF(ISERROR(MATCH(E770,isa!$D:$D,0)),"*",H770/LOOKUP(E770,isa!$D:$D,isa!$E:$E)) -> * | G770: =IF(ISERROR(MATCH(E770,tütar!$D:$D,0)),"*",H770/LOOKUP(E770,tütar!$D:$D,tütar!$E:$E)) -> * | H770: =I770/$I$2*10000 -> 0.76359194 | I770: 1
E771: muserdama | F771: =IF(ISERROR(MATCH(E771,isa!$D:$D,0)),"*",H771/LOOKUP(E771,isa!$D:$D,isa!$E:$E)) -> * | G771: =IF(ISERROR(MATCH(E771,tütar!$D:$D,0)),"*",H771/LOOKUP(E771,tütar!$D:$D,tütar!$E:$E)) -> * | H771: =I771/$I$2*10000 -> 0.76359194 | I771: 1
E772: musitseerima | F772: =IF(ISERROR(MATCH(E772,isa!$D:$D,0)),"*",H772/LOOKUP(E772,isa!$D:$D,isa!$E:$E)) -> 0.70395541 | G772: =IF(ISERROR(MATCH(E772,tütar!$D:$D,0)),"*",H772/LOOKUP(E772,tütar!$D:$D,tütar!$E:$E)) -> * | H772: =I772/$I$2*10000 -> 0.76359194 | I772: 1
E773: mõjuma | F773: =IF(ISERROR(MATCH(E773,isa!$D:$D,0)),"*",H773/LOOKUP(E773,isa!$D:$D,isa!$E:$E)) -> 0.70395541 | G773: =IF(ISERROR(MATCH(E773,tütar!$D:$D,0)),"*",H773/LOOKUP(E773,tütar!$D:$D,tütar!$E:$E)) -> 0.1061011 | H773: =I773/$I$2*10000 -> 0.76359194 | I773: 1
E774: mõõtma | F774: =IF(ISERROR(MATCH(E774,isa!$D:$D,0)),"*",H774/LOOKUP(E774,isa!$D:$D,isa!$E:$E)) -> 0.3519777 | G774: =IF(ISERROR(MATCH(E774,tütar!$D:$D,0)),"*",H774/LOOKUP(E774,tütar!$D:$D,tütar!$E:$E)) -> * | H774: =I774/$I$2*10000 -> 0.76359194 | I774: 1
E775: määrima | F775: =IF(ISERROR(MATCH(E775,isa!$D:$D,0)),"*",H775/LOOKUP(E775,isa!$D:$D,isa!$E:$E)) -> * | G775: =IF(ISERROR(MATCH(E775,tütar!$D:$D,0)),"*",H775/LOOKUP(E775,tütar!$D:$D,tütar!$E:$E)) -> * | H775: =I775/$I$2*10000 -> 0.76359194 | I775: 1
E776: möllama | F776: =IF(ISERROR(MATCH(E776,isa!$D:$D,0)),"*",H776/LOOKUP(E776,isa!$D:$D,isa!$E:$E)) -> * | G776: =IF(ISERROR(MATCH(E776,tütar!$D:$D,0)),"*",H776/LOOKUP(E776,tütar!$D:$D,tütar!$E:$E)) -> * | H776: =I776/$I$2*10000 -> 0.76359194 | I776: 1
E777: mühatama | F777: =IF(ISERROR(MATCH(E777,isa!$D:$D,0)),"*",H777/LOOKUP(E777,isa!$D:$D,isa!$E:$E)) -> 0.3519777 | G777: =IF(ISERROR(MATCH(E777,tütar!$D:$D,0)),"*",H777/LOOKUP(E777,tütar!$D:$D,tütar!$E:$E)) -> * | H777: =I777/$I$2*10000 -> 0.76359194 | I777: 1
E778: nabima | F778: =IF(ISERROR(MATCH(E778,isa!$D:$D,0)),"*",H778/LOOKUP(E778,isa!$D:$D,isa!$E:$E)) -> 0.70395541 | G778: =IF(ISERROR(MATCH(E778,tütar!$D:$D,0)),"*",H778/LOOKUP(E778,tütar!$D:$D,tütar!$E:$E)) -> * | H778: =I778/$I$2*10000 -> 0.76359194 | I778: 1
E779: nakitsema | F779: =IF(ISERROR(MATCH(E779,isa!$D:$D,0)),"*",H779/LOOKUP(E779,isa!$D:$D,isa!$E:$E)) -> * | G779: =IF(ISERROR(MATCH(E779,tütar!$D:$D,0)),"*",H779/LOOKUP(E779,tütar!$D:$D,tütar!$E:$E)) -> * | H779: =I779/$I$2*10000 -> 0.76359194 | I779: 1
E780: nautima | F780: =IF(ISERROR(MATCH(E780,isa!$D:$D,0)),"*",H780/LOOKUP(E780,isa!$D:$D,isa!$E:$E)) -> 0.17598885 | G780: =IF(ISERROR(MATCH(E780,tütar!$D:$D,0)),"*",H780/LOOKUP(E780,tütar!$D:$D,tütar!$E:$E)) -> * | H780: =I780/$I$2*10000 -> 0.76359194 | I780: 1
E781: needma | F781: =IF(ISERROR(MATCH(E781,isa!$D:$D,0)),"*",H781/LOOKUP(E781,isa!$D:$D,isa!$E:$E)) -> * | G781: =IF(ISERROR(MATCH(E781,tütar!$D:$D,0)),"*",H781/LOOKUP(E781,tütar!$D:$D,tütar!$E:$E)) -> 0.1061011 | H781: =I781/$I$2*10000 -> 0.76359194 | I781: 1
... E971: ytlema | F971: =IF(ISERROR(MATCH(E971,isa!$D:$D,0)),"*",H971/LOOKUP(E971,isa!$D:$D,isa!$E:$E)) -> * | G971: =IF(ISERROR(MATCH(E971,tütar!$D:$D,0)),"*",H971/LOOKUP(E971,tütar!$D:$D,tütar!$E:$E)) -> * | H971: =I971/$I$2*10000 -> 0.76359194 | I971: 1

Sheet isa
A1: Adj_modifier | C1: 2914 | D1: subject_of | F1: 9219 | G1: object_of | I1: 259
A2: 100%line | B2: =C2/$C$1*10000 -> 3.431709 | C2: 1 | D2: abielluma | E2: =F2/$F$1*10000 -> 16.270745 | F2: 15 | G2: aasima | H2: =I2/$I$1*10000 -> 38.610039 | I2: 1
A3: 114aastane | B3: =C3/$C$1*10000 -> 3.431709 | C3: 1 | D3: abistama | E3: =F3/$F$1*10000 -> 2.1694327 | F3: 2 | G3: ajama | H3: =I3/$I$1*10000 -> 77.220077 | I3: 2
A4: 17aastane | B4: =C4/$C$1*10000 -> 3.431709 | C4: 1 | D4: ahastama | E4: =F4/$F$1*10000 -> 3.254149 | F4: 3 | G4: arreteerima | H4: =I4/$I$1*10000 -> 501.9305 | I4: 13
A5: 18aastane | B5: =C5/$C$1*10000 -> 3.431709 | C5: 1 | D5: ahhetama | E5: =F5/$F$1*10000 -> 2.1694327 | F5: 2 | G5: diskrimineerima | H5: =I5/$I$1*10000 -> 38.610039 | I5: 1
A6: 20-24aastane | B6: =C6/$C$1*10000 -> 3.431709 | C6: 1 | D6: ahistama | E6: =F6/$F$1*10000 -> 3.254149 | F6: 3 | G6: diskvalifitseerima | H6: =I6/$I$1*10000 -> 77.220077 | I6: 2
A7: 20aastane | B7: =C7/$C$1*10000 -> 3.431709 | C7: 1 | D7: ahvatlema | E7: =F7/$F$1*10000 -> 1.0847163 | F7: 1 | G7: edutama | H7: =I7/$I$1*10000 -> 38.610039 | I7: 1
A8: 23aastane | B8: =C8/$C$1*10000 -> 3.431709 | C8: 1 | D8: aimama | E8: =F8/$F$1*10000 -> 1.0847163 | F8: 1 | G8: embama | H8: =I8/$I$1*10000 -> 38.610039 | I8: 1
A9: 24aastane | B9: =C9/$C$1*10000 -> 3.431709 | C9: 1 | D9: aitama | E9: =F9/$F$1*10000 -> 33.626207 | F9: 31 | G9: hindama | H9: =I9/$I$1*10000 -> 38.610039 | I9: 1
A10: 25aastane | B10: =C10/$C$1*10000 -> 3.431709 | C10: 1 | D10: ajama | E10: =F10/$F$1*10000 -> 22.779043 | F10: 21 | G10: hirmutama | H10: =I10/$I$1*10000 -> 38.610039 | I10: 1
A11: 26aastane | B11: =C11/$C$1*10000 -> 3.431709 | C11: 1 | D11: ajendama | E11: =F11/$F$1*10000 -> 1.0847163 | F11: 1 | G11: hukkama | H11: =I11/$I$1*10000 -> 308.88031 | I11: 8
A12: 27aastane | B12: =C12/$C$1*10000 -> 3.431709 | C12: 1 | D12: alustama | E12: =F12/$F$1*10000 -> 11.93188 | F12: 11 | G12: innustama | H12: =I12/$I$1*10000 -> 38.610039 | I12: 1
A13: 29aastane | B13: =C13/$C$1*10000 -> 3.431709 | C13: 1 | D13: andma | E13: =F13/$F$1*10000 -> 145.35199 | F13: 134 | G13: iseloomustama | H13: =I13/$I$1*10000 -> 77.220077 | I13: 2
... A85: arukas | B85: =C85/$C$1*10000 -> 3.431709 | C85: 1 | D85: hoomama | E85: =F85/$F$1*10000 -> 1.0847163 | F85: 1 | G85: ähvardama | H85: =I85/$I$1*10000 -> 38.610039 | I85: 1
A86: asjalik | B86: =C86/$C$1*10000 -> 3.431709 | C86: 1 | D86: hooplema | E86: =F86/$F$1*10000 -> 3.254149 | F86: 3
A87: astronoomiahuviline | B87: =C87/$C$1*10000 -> 3.431709 | C87: 1 | D87: hukkuma | E87: =F87/$F$1*10000 -> 30.372058 | F87: 28
A88: astuv | B88: =C88/$C$1*10000 -> 3.431709 | C88: 1 | D88: huvitama | E88: =F88/$F$1*10000 -> 1.0847163 | F88: 1
A89: auahne | B89: =C89/$C$1*10000 -> 6.863418 | C89: 2 | D89: hõikama | E89: =F89/$F$1*10000 -> 7.5930144 | F89: 7
A90: autokraatlik | B90: =C90/$C$1*10000 -> 3.431709 | C90: 1 | D90: hõiskama | E90: =F90/$F$1*10000 -> 1.0847163 | F90: 1
A91: autoritaarne | B91: =C91/$C$1*10000 -> 27.453672 | C91: 8 | D91: häbenema | E91: =F91/$F$1*10000 -> 1.0847163 | F91: 1
A92: autoriteetne | B92: =C92/$C$1*10000 -> 3.431709 | C92: 1 | D92: hävitama | E92: =F92/$F$1*10000 -> 1.0847163 | F92: 1
A93: auväärne | B93: =C93/$C$1*10000 -> 3.431709 | C93: 1 | D93: hääletama | E93: =F93/$F$1*10000 -> 1.0847163 | F93: 1
A94: bioloogiline | B94: =C94/$C$1*10000 -> 277.96843 | C94: 81 | D94: hülgama | E94: =F94/$F$1*10000 -> 6.5082981 | F94: 6
A95: blond | B95: =C95/$C$1*10000 -> 3.431709 | C95: 1 | D95: hüpnotiseerima | E95: =F95/$F$1*10000 -> 1.0847163 | F95: 1
A96: demokraatlik | B96: =C96/$C$1*10000 -> 6.863418 | C96: 2 | D96: hüppama | E96: =F96/$F$1*10000 -> 4.3388654 | F96: 4
A97: despootlik | B97: =C97/$C$1*10000 -> 10.295127 | C97: 3 | D97: hüüatama | E97: =F97/$F$1*10000 -> 1.0847163 | F97: 1
... A591: üüriv | B591: =C591/$C$1*10000 -> 3.431709 | C591: 1 | D591: seisma | E591: =F591/$F$1*10000 -> 27.117909 | F591: 25
D592: sekkuma | E592: =F592/$F$1*10000 -> 1.0847163 | F592: 1
D593: seletama | E593: =F593/$F$1*10000 -> 32.54149 | F593: 30
D594: selgitama | E594: =F594/$F$1*10000 -> 47.727519 | F594: 44
D595: siduma | E595: =F595/$F$1*10000 -> 3.254149 | F595: 3
D596: sigitama | E596: =F596/$F$1*10000 -> 1.0847163 | F596: 1
D597: sikutama | E597: =F597/$F$1*10000 -> 3.254149 | F597: 3
D598: silitama | E598: =F598/$F$1*10000 -> 1.0847163 | F598: 1
D599: siluma | E599: =F599/$F$1*10000 -> 1.0847163 | F599: 1
D600: sirutama | E600: =F600/$F$1*10000 -> 3.254149 | F600: 3
D601: sisenema | E601: =F601/$F$1*10000 -> 1.0847163 | F601: 1
D602: sisistama | E602: =F602/$F$1*10000 -> 2.1694327 | F602: 2
D603: siunama | E603: =F603/$F$1*10000 -> 2.1694327 | F603: 2
... D878: üürima | E878: =F878/$F$1*10000 -> 1.0847163 | F878: 1

Sheet tütar (2)
A1: Adj_modifier | B1: erinevus paarikust | C1: normaliseeritud koosesinemissagedus | D1: absoluutne koosesinemissagedus | E1: subject_of | F1: erinevus paarikust | G1: normaliseeritud koosesinemissagedus | H1: normaliseeritud koosesinemissagedus | I1: absoluutne koosesinemissagedus | J1: object_of | K1: normaliseeritud koosesinemissagedus | L1: absoluutne koosesinemissagedus
D2: 3784 | I2: 2779 | L2: 282
A3: väike | B3: =IF(ISERROR(MATCH(A3,poeg!$A:$A,0)),"*",C3/LOOKUP(A3,poeg!$A:$A,poeg!$B:$B)) -> 1.1092501 | C3: =D3/$D$2*10000 -> 605.1797 | D3: 229 | E3: sündima | F3: =IF(ISERROR(MATCH(E3,poeg!$D:$D,0)),"*",H3/LOOKUP(E3,poeg!$D:$D,poeg!$E:$E)) -> 1.1185223 | G3: =IF(ISERROR(MATCH(E3,ema!$D:$D,0)),"*",H3/LOOKUP(E3,ema!$D:$D,ema!$E:$E)) -> 108.38719 | H3: =I3/$I$2*10000 -> 662.10867 | I3: 184 | J3: saama | K3: =L3/$L$2*10000 -> 780.14184 | L3: 22
A4: kolmeaastane | B4: =IF(ISERROR(MATCH(A4,poeg!$A:$A,0)),"*",C4/LOOKUP(A4,poeg!$A:$A,poeg!$B:$B)) -> 1.6427831 | C4: =D4/$D$2*10000 -> 375.26427 | D4: 142 | E4: saama | F4: =IF(ISERROR(MATCH(E4,poeg!$D:$D,0)),"*",H4/LOOKUP(E4,poeg!$D:$D,poeg!$E:$E)) -> 0.95972948 | G4: =IF(ISERROR(MATCH(E4,ema!$D:$D,0)),"*",H4/LOOKUP(E4,ema!$D:$D,ema!$E:$E)) -> 1.62265 | H4: =I4/$I$2*10000 -> 600.93559 | I4: 167 | J4: sünnitama | K4: =L4/$L$2*10000 -> 744.68085 | L4: 21
A5: teismeline | B5: =IF(ISERROR(MATCH(A5,poeg!$A:$A,0)),"*",C5/LOOKUP(A5,poeg!$A:$A,poeg!$B:$B)) -> 1.6171663 | C5: =D5/$D$2*10000 -> 351.47992 | D5: 133 | E5: käima | F5: =IF(ISERROR(MATCH(E5,poeg!$D:$D,0)),"*",H5/LOOKUP(E5,poeg!$D:$D,poeg!$E:$E)) -> 0.95525969 | G5: =IF(ISERROR(MATCH(E5,ema!$D:$D,0)),"*",H5/LOOKUP(E5,ema!$D:$D,ema!$E:$E)) -> 2.397103 | H5: =I5/$I$2*10000 -> 316.66067 | I5: 88 | J5: tahtma | K5: =L5/$L$2*10000 -> 496.4539 | L5: 14
A6: viieaastane | B6: =IF(ISERROR(MATCH(A6,poeg!$A:$A,0)),"*",C6/LOOKUP(A6,poeg!$A:$A,poeg!$B:$B)) -> 1.4894952 | C6: =D6/$D$2*10000 -> 343.5518 | D6: 130 | E6: õppima | F6: =IF(ISERROR(MATCH(E6,poeg!$D:$D,0)),"*",H6/LOOKUP(E6,poeg!$D:$D,poeg!$E:$E)) -> 1.062455 | G6: =IF(ISERROR(MATCH(E6,ema!$D:$D,0)),"*",H6/LOOKUP(E6,ema!$D:$D,ema!$E:$E)) -> 9.9996665 | H6: =I6/$I$2*10000 -> 313.06225 | I6: 87 | J6: kasvatama | K6: =L6/$L$2*10000 -> 354.60993 | L6: 10
A7: kaheaastane | B7: =IF(ISERROR(MATCH(A7,poeg!$A:$A,0)),"*",C7/LOOKUP(A7,poeg!$A:$A,poeg!$B:$B)) -> 1.1044062 | C7: =D7/$D$2*10000 -> 301.2685 | D7: 114 | E7: ütlema | F7: =IF(ISERROR(MATCH(E7,poeg!$D:$D,0)),"*",H7/LOOKUP(E7,poeg!$D:$D,poeg!$E:$E)) -> 1.0756157 | G7: =IF(ISERROR(MATCH(E7,ema!$D:$D,0)),"*",H7/LOOKUP(E7,ema!$D:$D,ema!$E:$E)) -> 0.3879181 | H7: =I7/$I$2*10000 -> 291.47175 | I7: 81 | J7: ootama | K7: =L7/$L$2*10000 -> 319.14894 | L7: 9
A8: aastane | B8: =IF(ISERROR(MATCH(A8,poeg!$A:$A,0)),"*",C8/LOOKUP(A8,poeg!$A:$A,poeg!$B:$B)) -> 1.1599609 | C8: =D8/$D$2*10000 -> 290.69767 | D8: 110 | E8: elama | F8: =IF(ISERROR(MATCH(E8,poeg!$D:$D,0)),"*",H8/LOOKUP(E8,poeg!$D:$D,poeg!$E:$E)) -> 1.3850716 | G8: =IF(ISERROR(MATCH(E8,ema!$D:$D,0)),"*",H8/LOOKUP(E8,ema!$D:$D,ema!$E:$E)) -> 1.9842048 | H8: =I8/$I$2*10000 -> 287.87334 | I8: 80 | J8: nägema | K8: =L8/$L$2*10000 -> 283.68794 | L8: 8
A9: nelja-aastane | B9: =IF(ISERROR(MATCH(A9,poeg!$A:$A,0)),"*",C9/LOOKUP(A9,poeg!$A:$A,poeg!$B:$B)) -> 0.9945606 | C9: =D9/$D$2*10000 -> 280.12685 | D9: 106 | E9: pidama | F9: =IF(ISERROR(MATCH(E9,poeg!$D:$D,0)),"*",H9/LOOKUP(E9,poeg!$D:$D,poeg!$E:$E)) -> 1.1001533 | G9: =IF(ISERROR(MATCH(E9,ema!$D:$D,0)),"*",H9/LOOKUP(E9,ema!$D:$D,ema!$E:$E)) -> 1.0078728 | H9: =I9/$I$2*10000 -> 266.28284 | I9: 74 | J9: sundima | K9: =L9/$L$2*10000 -> 248.22695 | L9: 7
A10: elav | B10: =IF(ISERROR(MATCH(A10,poeg!$A:$A,0)),"*",C10/LOOKUP(A10,poeg!$A:$A,poeg!$B:$B)) -> 2.0852933 | C10: =D10/$D$2*10000 -> 240.48626 | D10: 91 | E10: tulema | F10: =IF(ISERROR(MATCH(E10,poeg!$D:$D,0)),"*",H10/LOOKUP(E10,poeg!$D:$D,poeg!$E:$E)) -> 0.82785364 | G10: =IF(ISERROR(MATCH(E10,ema!$D:$D,0)),"*",H10/LOOKUP(E10,ema!$D:$D,ema!$E:$E)) -> 1.3436428 | H10: =I10/$I$2*10000 -> 248.29075 | I10: 69 | J10: viima | K10: =L10/$L$2*10000 -> 248.22695 | L10: 7
A11: 11aastane | B11: =IF(ISERROR(MATCH(A11,poeg!$A:$A,0)),"*",C11/LOOKUP(A11,poeg!$A:$A,poeg!$B:$B)) -> 0.95552525 | C11: =D11/$D$2*10000 -> 224.63002 | D11: 85 | E11: minema | F11: =IF(ISERROR(MATCH(E11,poeg!$D:$D,0)),"*",H11/LOOKUP(E11,poeg!$D:$D,poeg!$E:$E)) -> 1.2401008 | G11: =IF(ISERROR(MATCH(E11,ema!$D:$D,0)),"*",H11/LOOKUP(E11,ema!$D:$D,ema!$E:$E)) -> 1.525948 | H11: =I11/$I$2*10000 -> 244.69234 | I11: 68 | J11: õppima | K11: =L11/$L$2*10000 -> 248.22695 | L11: 7
A12: 13aastane | B12: =IF(ISERROR(MATCH(A12,poeg!$A:$A,0)),"*",C12/LOOKUP(A12,poeg!$A:$A,poeg!$B:$B)) -> 1.4849122 | C12: =D12/$D$2*10000 -> 214.0592 | D12: 81 | E12: rääkima | F12: =IF(ISERROR(MATCH(E12,poeg!$D:$D,0)),"*",H12/LOOKUP(E12,poeg!$D:$D,poeg!$E:$E)) -> 2.6111747 | G12: =IF(ISERROR(MATCH(E12,ema!$D:$D,0)),"*",H12/LOOKUP(E12,ema!$D:$D,ema!$E:$E)) -> 0.66866363 | H12: =I12/$I$2*10000 -> 226.70025 | I12: 63 | J12: tapma | K12: =L12/$L$2*10000 -> 212.76596 | L12: 6
A13: ainus | B13: =IF(ISERROR(MATCH(A13,poeg!$A:$A,0)),"*",C13/LOOKUP(A13,poeg!$A:$A,poeg!$B:$B)) -> 1.08075 | C13: =D13/$D$2*10000 -> 206.13108 | D13: 78 | E13: jääma | F13: =IF(ISERROR(MATCH(E13,poeg!$D:$D,0)),"*",H13/LOOKUP(E13,poeg!$D:$D,poeg!$E:$E)) -> 0.68387909 | G13: =IF(ISERROR(MATCH(E13,ema!$D:$D,0)),"*",H13/LOOKUP(E13,ema!$D:$D,ema!$E:$E)) -> 1.6567335 | H13: =I13/$I$2*10000 -> 161.92875 | I13: 45 | J13: kutsuma | K13: =L13/$L$2*10000 -> 177.30496 | L13: 5
A14: 12aastane | B14: =IF(ISERROR(MATCH(A14,poeg!$A:$A,0)),"*",C14/LOOKUP(A14,poeg!$A:$A,poeg!$B:$B)) -> 0.89068806 | C14: =D14/$D$2*10000 -> 195.56025 | D14: 74 | E14: tegema | F14: =IF(ISERROR(MATCH(E14,poeg!$D:$D,0)),"*",H14/LOOKUP(E14,poeg!$D:$D,poeg!$E:$E)) -> 0.91183879 | G14: =IF(ISERROR(MATCH(E14,ema!$D:$D,0)),"*",H14/LOOKUP(E14,ema!$D:$D,ema!$E:$E)) -> 0.91747525 | H14: =I14/$I$2*10000 -> 158.33033 | I14: 44 | J14: leidma | K14: =L14/$L$2*10000 -> 177.30496 | L14: 5
... A99: kuuene | B99: =IF(ISERROR(MATCH(A99,poeg!$A:$A,0)),"*",C99/LOOKUP(A99,poeg!$A:$A,poeg!$B:$B)) -> 1.1915962 | C99: =D99/$D$2*10000 -> 13.213531 | D99: 5 | E99: põdema | F99: =IF(ISERROR(MATCH(E99,poeg!$D:$D,0)),"*",H99/LOOKUP(E99,poeg!$D:$D,poeg!$E:$E)) -> 2.7355164 | G99: =IF(ISERROR(MATCH(E99,ema!$D:$D,0)),"*",H99/LOOKUP(E99,ema!$D:$D,ema!$E:$E)) -> 4.7124865 | H99: =I99/$I$2*10000 -> 21.5905 | I99: 6 | J99: ärgitama | K99: =L99/$L$2*10000 -> 35.460993 | L99: 1
A100: pidav | B100: =IF(ISERROR(MATCH(A100,poeg!$A:$A,0)),"*",C100/LOOKUP(A100,poeg!$A:$A,poeg!$B:$B)) -> 1.4894952 | C100: =D100/$D$2*10000 -> 13.213531 | D100: 5 | E100: pärima | F100: =IF(ISERROR(MATCH(E100,poeg!$D:$D,0)),"*",H100/LOOKUP(E100,poeg!$D:$D,poeg!$E:$E)) -> 0.54710327 | G100: =IF(ISERROR(MATCH(E100,ema!$D:$D,0)),"*",H100/LOOKUP(E100,ema!$D:$D,ema!$E:$E)) -> 2.8274919 | H100: =I100/$I$2*10000 -> 21.5905 | I100: 6
A101: tulevane | B101: =IF(ISERROR(MATCH(A101,poeg!$A:$A,0)),"*",C101/LOOKUP(A101,poeg!$A:$A,poeg!$B:$B)) -> 1.1915962 | C101: =D101/$D$2*10000 -> 13.213531 | D101: 5 | E101: täitma | F101: =IF(ISERROR(MATCH(E101,poeg!$D:$D,0)),"*",H101/LOOKUP(E101,poeg!$D:$D,poeg!$E:$E)) -> 1.3677582 | G101: =IF(ISERROR(MATCH(E101,ema!$D:$D,0)),"*",H101/LOOKUP(E101,ema!$D:$D,ema!$E:$E)) -> 3.5343649 | H101: =I101/$I$2*10000 -> 21.5905 | I101: 6
A102: viibiv | B102: =IF(ISERROR(MATCH(A102,poeg!$A:$A,0)),"*",C102/LOOKUP(A102,poeg!$A:$A,poeg!$B:$B)) -> 1.4894952 | C102: =D102/$D$2*10000 -> 13.213531 | D102: 5 | E102: uurima | F102: =IF(ISERROR(MATCH(E102,poeg!$D:$D,0)),"*",H102/LOOKUP(E102,poeg!$D:$D,poeg!$E:$E)) -> 1.3677582 | G102: =IF(ISERROR(MATCH(E102,ema!$D:$D,0)),"*",H102/LOOKUP(E102,ema!$D:$D,ema!$E:$E)) -> 1.7671824 | H102: =I102/$I$2*10000 -> 21.5905 | I102: 6
A103: 78aastane | B103: =IF(ISERROR(MATCH(A103,poeg!$A:$A,0)),"*",C103/LOOKUP(A103,poeg!$A:$A,poeg!$B:$B)) -> * | C103: =D103/$D$2*10000 -> 10.570825 | D103: 4 | E103: veetma | F103: =IF(ISERROR(MATCH(E103,poeg!$D:$D,0)),"*",H103/LOOKUP(E103,poeg!$D:$D,poeg!$E:$E)) -> 1.6413098 | G103: =IF(ISERROR(MATCH(E103,ema!$D:$D,0)),"*",H103/LOOKUP(E103,ema!$D:$D,ema!$E:$E)) -> 14.13746 | H103: =I103/$I$2*10000 -> 21.5905 | I103: 6
A104: imearmas | B104: =IF(ISERROR(MATCH(A104,poeg!$A:$A,0)),"*",C104/LOOKUP(A104,poeg!$A:$A,poeg!$B:$B)) -> 4.7663848 | C104: =D104/$D$2*10000 -> 10.570825 | D104: 4 | E104: viima | F104: =IF(ISERROR(MATCH(E104,poeg!$D:$D,0)),"*",H104/LOOKUP(E104,poeg!$D:$D,poeg!$E:$E)) -> 0.63127301 | G104: =IF(ISERROR(MATCH(E104,ema!$D:$D,0)),"*",H104/LOOKUP(E104,ema!$D:$D,ema!$E:$E)) -> 0.23367702 | H104: =I104/$I$2*10000 -> 21.5905 | I104: 6
A105: lasteaiaealine | B105: =IF(ISERROR(MATCH(A105,poeg!$A:$A,0)),"*",C105/LOOKUP(A105,poeg!$A:$A,poeg!$B:$B)) -> 4.7663848 | C105: =D105/$D$2*10000 -> 10.570825 | D105: 4 | E105: muretsema | F105: =IF(ISERROR(MATCH(E105,poeg!$D:$D,0)),"*",H105/LOOKUP(E105,poeg!$D:$D,poeg!$E:$E)) -> 6.8387909 | G105: =IF(ISERROR(MATCH(E105,ema!$D:$D,0)),"*",H105/LOOKUP(E105,ema!$D:$D,ema!$E:$E)) -> 0.53550983 | H105: =I105/$I$2*10000 -> 17.992083 | I105: 5
A106: nimetu | B106: =IF(ISERROR(MATCH(A106,poeg!$A:$A,0)),"*",C106/LOOKUP(A106,poeg!$A:$A,poeg!$B:$B)) -> * | C106: =D106/$D$2*10000 -> 10.570825 | D106: 4 | E106: nentima | F106: =IF(ISERROR(MATCH(E106,poeg!$D:$D,0)),"*",H106/LOOKUP(E106,poeg!$D:$D,poeg!$E:$E)) -> 6.8387909 | G106: =IF(ISERROR(MATCH(E106,ema!$D:$D,0)),"*",H106/LOOKUP(E106,ema!$D:$D,ema!$E:$E)) -> 1.3860254 | H106: =I106/$I$2*10000 -> 17.992083 | I106: 5
A107: pull | B107: =IF(ISERROR(MATCH(A107,poeg!$A:$A,0)),"*",C107/LOOKUP(A107,poeg!$A:$A,poeg!$B:$B)) -> * | C107: =D107/$D$2*10000 -> 10.570825 | D107: 4 | E107: rahustama | F107: =IF(ISERROR(MATCH(E107,poeg!$D:$D,0)),"*",H107/LOOKUP(E107,poeg!$D:$D,poeg!$E:$E)) -> 6.8387909 | G107: =IF(ISERROR(MATCH(E107,ema!$D:$D,0)),"*",H107/LOOKUP(E107,ema!$D:$D,ema!$E:$E)) -> 5.8906081 | H107: =I107/$I$2*10000 -> 17.992083 | I107: 5
A108: tasakaalutu | B108: =IF(ISERROR(MATCH(A108,poeg!$A:$A,0)),"*",C108/LOOKUP(A108,poeg!$A:$A,poeg!$B:$B)) -> * | C108: =D108/$D$2*10000 -> 10.570825 | D108: 4 | E108: väärima | F108: =IF(ISERROR(MATCH(E108,poeg!$D:$D,0)),"*",H108/LOOKUP(E108,poeg!$D:$D,poeg!$E:$E)) -> * | G108: =IF(ISERROR(MATCH(E108,ema!$D:$D,0)),"*",H108/LOOKUP(E108,ema!$D:$D,ema!$E:$E)) -> 23.562433 | H108: =I108/$I$2*10000 -> 17.992083 | I108: 5
A109: vaevlev | B109: =IF(ISERROR(MATCH(A109,poeg!$A:$A,0)),"*",C109/LOOKUP(A109,poeg!$A:$A,poeg!$B:$B)) -> 4.7663848 | C109: =D109/$D$2*10000 -> 10.570825 | D109: 4 | E109: esitama | F109: =IF(ISERROR(MATCH(E109,poeg!$D:$D,0)),"*",H109/LOOKUP(E109,poeg!$D:$D,poeg!$E:$E)) -> 1.7096977 | G109: =IF(ISERROR(MATCH(E109,ema!$D:$D,0)),"*",H109/LOOKUP(E109,ema!$D:$D,ema!$E:$E)) -> 1.5708288 | H109: =I109/$I$2*10000 -> 17.992083 | I109: 5
A110: 29aastane | B110: =IF(ISERROR(MATCH(A110,poeg!$A:$A,0)),"*",C110/LOOKUP(A110,poeg!$A:$A,poeg!$B:$B)) -> 0.5957981 | C110: =D110/$D$2*10000 -> 10.570825 | D110: 4 | E110: heitma | F110: =IF(ISERROR(MATCH(E110,poeg!$D:$D,0)),"*",H110/LOOKUP(E110,poeg!$D:$D,poeg!$E:$E)) -> 1.3677582 | G110: =IF(ISERROR(MATCH(E110,ema!$D:$D,0)),"*",H110/LOOKUP(E110,ema!$D:$D,ema!$E:$E)) -> 2.9453041 | H110: =I110/$I$2*10000 -> 17.992083 | I110: 5
A111: 32aastane | B111: =IF(ISERROR(MATCH(A111,poeg!$A:$A,0)),"*",C111/LOOKUP(A111,poeg!$A:$A,poeg!$B:$B)) -> 0.47663848 | C111: =D111/$D$2*10000 -> 10.570825 | D111: 4 | E111: jagama | F111: =IF(ISERROR(MATCH(E111,poeg!$D:$D,0)),"*",H111/LOOKUP(E111,poeg!$D:$D,poeg!$E:$E)) -> 1.1397985 | G111: =IF(ISERROR(MATCH(E111,ema!$D:$D,0)),"*",H111/LOOKUP(E111,ema!$D:$D,ema!$E:$E)) -> 2.3562433 | H111: =I111/$I$2*10000 -> 17.992083 | I111: 5
... A440: kaheksaaastane | B440: =IF(ISERROR(MATCH(A440,poeg!$A:$A,0)),"*",C440/LOOKUP(A440,poeg!$A:$A,poeg!$B:$B)) -> 0.17022803 | C440: =D440/$D$2*10000 -> 2.6427061 | D440: 1 | E440: ühinema | F440: =IF(ISERROR(MATCH(E440,poeg!$D:$D,0)),"*",H440/LOOKUP(E440,poeg!$D:$D,poeg!$E:$E)) -> 0.4559194 | G440: =IF(ISERROR(MATCH(E440,ema!$D:$D,0)),"*",H440/LOOKUP(E440,ema!$D:$D,ema!$E:$E)) -> * | H440: =I440/$I$2*10000 -> 3.5984167 | I440: 1
A441: kaheksakuine | B441: =IF(ISERROR(MATCH(A441,poeg!$A:$A,0)),"*",C441/LOOKUP(A441,poeg!$A:$A,poeg!$B:$B)) -> 0.39719873 | C441: =D441/$D$2*10000 -> 2.6427061 | D441: 1 | F441: =IF(ISERROR(MATCH(E441,poeg!$D:$D,0)),"*",H441/LOOKUP(E441,poeg!$D:$D,poeg!$E:$E)) -> * | G441: =IF(ISERROR(MATCH(E441,ema!$D:$D,0)),"*",H441/LOOKUP(E441,ema!$D:$D,ema!$E:$E)) -> *
A442: kaheksanädalane | B442: =IF(ISERROR(MATCH(A442,poeg!$A:$A,0)),"*",C442/LOOKUP(A442,poeg!$A:$A,poeg!$B:$B)) -> 1.1915962 | C442: =D442/$D$2*10000 -> 2.6427061 | D442: 1 | F442: =IF(ISERROR(MATCH(E442,poeg!$D:$D,0)),"*",H442/LOOKUP(E442,poeg!$D:$D,poeg!$E:$E)) -> * | G442: =IF(ISERROR(MATCH(E442,ema!$D:$D,0)),"*",H442/LOOKUP(E442,ema!$D:$D,ema!$E:$E)) -> *
A443: kahekümneaastane | B443: =IF(ISERROR(MATCH(A443,poeg!$A:$A,0)),"*",C443/LOOKUP(A443,poeg!$A:$A,poeg!$B:$B)) -> 0.5957981 | C443: =D443/$D$2*10000 -> 2.6427061 | D443: 1 | F443: =IF(ISERROR(MATCH(E443,poeg!$D:$D,0)),"*",H443/LOOKUP(E443,poeg!$D:$D,poeg!$E:$E)) -> * | G443: =IF(ISERROR(MATCH(E443,ema!$D:$D,0)),"*",H443/LOOKUP(E443,ema!$D:$D,ema!$E:$E)) -> *
A444: kahenädalane | B444: =IF(ISERROR(MATCH(A444,poeg!$A:$A,0)),"*",C444/LOOKUP(A444,poeg!$A:$A,poeg!$B:$B)) -> 0.39719873 | C444: =D444/$D$2*10000 -> 2.6427061 | D444: 1 | F444: =IF(ISERROR(MATCH(E444,poeg!$D:$D,0)),"*",H444/LOOKUP(E444,poeg!$D:$D,poeg!$E:$E)) -> * | G444: =IF(ISERROR(MATCH(E444,ema!$D:$D,0)),"*",H444/LOOKUP(E444,ema!$D:$D,ema!$E:$E)) -> *
A445: kaheteistkümneaastane | B445: =IF(ISERROR(MATCH(A445,poeg!$A:$A,0)),"*",C445/LOOKUP(A445,poeg!$A:$A,poeg!$B:$B)) -> 1.1915962 | C445: =D445/$D$2*10000 -> 2.6427061 | D445: 1 | F445: =IF(ISERROR(MATCH(E445,poeg!$D:$D,0)),"*",H445/LOOKUP(E445,poeg!$D:$D,poeg!$E:$E)) -> * | G445: =IF(ISERROR(MATCH(E445,ema!$D:$D,0)),"*",H445/LOOKUP(E445,ema!$D:$D,ema!$E:$E)) -> *
A446: kange | B446: =IF(ISERROR(MATCH(A446,poeg!$A:$A,0)),"*",C446/LOOKUP(A446,poeg!$A:$A,poeg!$B:$B)) -> 0.085114014 | C446: =D446/$D$2*10000 -> 2.6427061 | D446: 1 | F446: =IF(ISERROR(MATCH(E446,poeg!$D:$D,0)),"*",H446/LOOKUP(E446,poeg!$D:$D,poeg!$E:$E)) -> * | G446: =IF(ISERROR(MATCH(E446,ema!$D:$D,0)),"*",H446/LOOKUP(E446,ema!$D:$D,ema!$E:$E)) -> *
A447: kangekaelne | B447: =IF(ISERROR(MATCH(A447,poeg!$A:$A,0)),"*",C447/LOOKUP(A447,poeg!$A:$A,poeg!$B:$B)) -> 1.1915962 | C447: =D447/$D$2*10000 -> 2.6427061 | D447: 1 | F447: =IF(ISERROR(MATCH(E447,poeg!$D:$D,0)),"*",H447/LOOKUP(E447,poeg!$D:$D,poeg!$E:$E)) -> * | G447: =IF(ISERROR(MATCH(E447,ema!$D:$D,0)),"*",H447/LOOKUP(E447,ema!$D:$D,ema!$E:$E)) -> *
A448: karvane | B448: =IF(ISERROR(MATCH(A448,poeg!$A:$A,0)),"*",C448/LOOKUP(A448,poeg!$A:$A,poeg!$B:$B)) -> 0.5957981 | C448: =D448/$D$2*10000 -> 2.6427061 | D448: 1 | F448: =IF(ISERROR(MATCH(E448,poeg!$D:$D,0)),"*",H448/LOOKUP(E448,poeg!$D:$D,poeg!$E:$E)) -> * | G448: =IF(ISERROR(MATCH(E448,ema!$D:$D,0)),"*",H448/LOOKUP(E448,ema!$D:$D,ema!$E:$E)) -> *
A449: kasvatav | B449: =IF(ISERROR(MATCH(A449,poeg!$A:$A,0)),"*",C449/LOOKUP(A449,poeg!$A:$A,poeg!$B:$B)) -> 1.1915962 | C449: =D449/$D$2*10000 -> 2.6427061 | D449: 1 | F449: =IF(ISERROR(MATCH(E449,poeg!$D:$D,0)),"*",H449/LOOKUP(E449,poeg!$D:$D,poeg!$E:$E)) -> * | G449: =IF(ISERROR(MATCH(E449,ema!$D:$D,0)),"*",H449/LOOKUP(E449,ema!$D:$D,ema!$E:$E)) -> *
A450: kehastatav | B450: =IF(ISERROR(MATCH(A450,poeg!$A:$A,0)),"*",C450/LOOKUP(A450,poeg!$A:$A,poeg!$B:$B)) -> 1.1915962 | C450: =D450/$D$2*10000 -> 2.6427061 | D450: 1 | F450: =IF(ISERROR(MATCH(E450,poeg!$D:$D,0)),"*",H450/LOOKUP(E450,poeg!$D:$D,poeg!$E:$E)) -> * | G450: =IF(ISERROR(MATCH(E450,ema!$D:$D,0)),"*",H450/LOOKUP(E450,ema!$D:$D,ema!$E:$E)) -> *
A451: kilogrammine | B451: =IF(ISERROR(MATCH(A451,poeg!$A:$A,0)),"*",C451/LOOKUP(A451,poeg!$A:$A,poeg!$B:$B)) -> 0.5957981 | C451: =D451/$D$2*10000 -> 2.6427061 | D451: 1 | F451: =IF(ISERROR(MATCH(E451,poeg!$D:$D,0)),"*",H451/LOOKUP(E451,poeg!$D:$D,poeg!$E:$E)) -> * | G451: =IF(ISERROR(MATCH(E451,ema!$D:$D,0)),"*",H451/LOOKUP(E451,ema!$D:$D,ema!$E:$E)) -> *
A452: kirjanduslik | B452: =IF(ISERROR(MATCH(A452,poeg!$A:$A,0)),"*",C452/LOOKUP(A452,poeg!$A:$A,poeg!$B:$B)) -> 1.1915962 | C452: =D452/$D$2*10000 -> 2.6427061 | D452: 1 | F452: =IF(ISERROR(MATCH(E452,poeg!$D:$D,0)),"*",H452/LOOKUP(E452,poeg!$D:$D,poeg!$E:$E)) -> * | G452: =IF(ISERROR(MATCH(E452,ema!$D:$D,0)),"*",H452/LOOKUP(E452,ema!$D:$D,ema!$E:$E)) -> *
... A495: üheteistkümneaastane | B495: =IF(ISERROR(MATCH(A495,poeg!$A:$A,0)),"*",C495/LOOKUP(A495,poeg!$A:$A,poeg!$B:$B)) -> 1.1915962 | C495: =D495/$D$2*10000 -> 2.6427061 | D495: 1 | F495: =IF(ISERROR(MATCH(E495,poeg!$D:$D,0)),"*",H495/LOOKUP(E495,poeg!$D:$D,poeg!$E:$E)) -> * | G495: =IF(ISERROR(MATCH(E495,ema!$D:$D,0)),"*",H495/LOOKUP(E495,ema!$D:$D,ema!$E:$E)) -> *

Sheet poeg
A1: Adj_modifier | C1: 4509 | D1: subject_of | F1: 3801 | G1: object_of | I1: 526
A2: 000kroonine | B2: =C2/$C$1*10000 -> 2.2177866 | C2: 1 | D2: abielluma | E2: =F2/$F$1*10000 -> 47.355959 | F2: 18 | G2: adopteerima | H2: =I2/$I$1*10000 -> 19.011407 | I2: 1
A3: 10aastane | B3: =C3/$C$1*10000 -> 150.80949 | C3: 68 | D3: abistama | E3: =F3/$F$1*10000 -> 2.6308866 | F3: 1 | G3: ajama | H3: =I3/$I$1*10000 -> 76.045627 | I3: 4
A4: 10kuune | B4: =C4/$C$1*10000 -> 13.30672 | C4: 6 | D4: ahhetama | E4: =F4/$F$1*10000 -> 2.6308866 | F4: 1 | G4: alahindama | H4: =I4/$I$1*10000 -> 19.011407 | I4: 1
A5: 10nädalane | B5: =C5/$C$1*10000 -> 2.2177866 | C5: 1 | D5: aimama | E5: =F5/$F$1*10000 -> 2.6308866 | F5: 1 | G5: arendama | H5: =I5/$I$1*10000 -> 19.011407 | I5: 1
A6: 11aastane | B6: =C6/$C$1*10000 -> 235.08538 | C6: 106 | D6: aitama | E6: =F6/$F$1*10000 -> 28.939753 | F6: 11 | G6: armastama | H6: =I6/$I$1*10000 -> 38.022814 | I6: 2
A7: 11kuine | B7: =C7/$C$1*10000 -> 2.2177866 | C7: 1 | D7: ajama | E7: =F7/$F$1*10000 -> 23.677979 | F7: 9 | G7: arreteerima | H7: =I7/$I$1*10000 -> 19.011407 | I7: 1
A8: 11kuune | B8: =C8/$C$1*10000 -> 19.96008 | C8: 9 | D8: alustama | E8: =F8/$F$1*10000 -> 47.355959 | F8: 18 | G8: eelistama | H8: =I8/$I$1*10000 -> 19.011407 | I8: 1
A9: 12aastane | B9: =C9/$C$1*10000 -> 219.56088 | C9: 99 | D9: andma | E9: =F9/$F$1*10000 -> 68.403052 | F9: 26 | G9: eostama | H9: =I9/$I$1*10000 -> 19.011407 | I9: 1
A10: 13aastane | B10: =C10/$C$1*10000 -> 144.15613 | C10: 65 | D10: annetama | E10: =F10/$F$1*10000 -> 2.6308866 | F10: 1 | G10: haarama | H10: =I10/$I$1*10000 -> 19.011407 | I10: 1
A11: 13kuune | B11: =C11/$C$1*10000 -> 2.2177866 | C11: 1 | D11: arenema | E11: =F11/$F$1*10000 -> 2.6308866 | F11: 1 | G11: hammustama | H11: =I11/$I$1*10000 -> 19.011407 | I11: 1
A12: 14-16aastane | B12: =C12/$C$1*10000 -> 2.2177866 | C12: 1 | D12: armastama | E12: =F12/$F$1*10000 -> 34.201526 | F12: 13 | G12: heitma | H12: =I12/$I$1*10000 -> 19.011407 | I12: 1
A13: 14aastane | B13: =C13/$C$1*10000 -> 159.68064 | C13: 72 | D13: armuma | E13: =F13/$F$1*10000 -> 7.8926598 | F13: 3 | G13: hoiatama | H13: =I13/$I$1*10000 -> 19.011407 | I13: 1
... A149: hallisuline | B149: =C149/$C$1*10000 -> 2.2177866 | C149: 1 | D149: korraldama | E149: =F149/$F$1*10000 -> 10.523546 | F149: 4 | G149: üritama | H149: =I149/$I$1*10000 -> 114.06844 | I149: 6
A150: harjutav | B150: =C150/$C$1*10000 -> 2.2177866 | C150: 1 | D150: korrutama | E150: =F150/$F$1*10000 -> 2.6308866 | F150: 1
A151: haruldane | B151: =C151/$C$1*10000 -> 2.2177866 | C151: 1 | D151: kostma | E151: =F151/$F$1*10000 -> 2.6308866 | F151: 1
A152: hea | B152: =C152/$C$1*10000 -> 84.275893 | C152: 38 | D152: kosuma | E152: =F152/$F$1*10000 -> 2.6308866 | F152: 1
A153: heatujuline | B153: =C153/$C$1*10000 -> 2.2177866 | C153: 1 | D153: kraapima | E153: =F153/$F$1*10000 -> 2.6308866 | F153: 1
A154: helde | B154: =C154/$C$1*10000 -> 2.2177866 | C154: 1 | D154: kratsima | E154: =F154/$F$1*10000 -> 2.6308866 | F154: 1
A155: heledapäine | B155: =C155/$C$1*10000 -> 2.2177866 | C155: 1 | D155: kujundama | E155: =F155/$F$1*10000 -> 2.6308866 | F155: 1
A156: hellasüdameline | B156: =C156/$C$1*10000 -> 2.2177866 | C156: 1 | D156: kukkuma | E156: =F156/$F$1*10000 -> 28.939753 | F156: 11
A157: hiiliv | B157: =C157/$C$1*10000 -> 2.2177866 | C157: 1 | D157: kulutama | E157: =F157/$F$1*10000 -> 5.2617732 | F157: 2
A158: hilisteismeline | B158: =C158/$C$1*10000 -> 2.2177866 | C158: 1 | D158: kurtma | E158: =F158/$F$1*10000 -> 10.523546 | F158: 4
A159: hingevaakuv | B159: =C159/$C$1*10000 -> 2.2177866 | C159: 1 | D159: kutsuma | E159: =F159/$F$1*10000 -> 18.416206 | F159: 7
A160: hoidev | B160: =C160/$C$1*10000 -> 2.2177866 | C160: 1 | D160: kuulama | E160: =F160/$F$1*10000 -> 7.8926598 | F160: 3
A161: hoitav | B161: =C161/$C$1*10000 -> 4.4355733 | C161: 2 | D161: kuulma | E161: =F161/$F$1*10000 -> 7.8926598 | F161: 3
... A537: ukerdav | B537: =C537/$C$1*10000 -> 2.2177866 | C537: 1 | D537: üürima | E537: =F537/$F$1*10000 -> 2.6308866 | F537: 1
A538: ulakas | B538: =C538/$C$1*10000 -> 2.2177866 | C538: 1
A539: unustamatu | B539: =C539/$C$1*10000 -> 4.4355733 | C539: 2
A540: uskmatu | B540: =C540/$C$1*10000 -> 2.2177866 | C540: 1
A541: ustav | B541: =C541/$C$1*10000 -> 15.524507 | C541: 7
A542: vaene | B542: =C542/$C$1*10000 -> 2.2177866 | C542: 1
A543: vaevlev | B543: =C543/$C$1*10000 -> 2.2177866 | C543: 1
A544: vahva | B544: =C544/$C$1*10000 -> 6.6533599 | C544: 3
A545: vaimne | B545: =C545/$C$1*10000 -> 2.2177866 | C545: 1
A546: vaimulik | B546: =C546/$C$1*10000 -> 8.8711466 | C546: 4
A547: valgepäine | B547: =C547/$C$1*10000 -> 2.2177866 | C547: 1
A548: valjuhäälne | B548: =C548/$C$1*10000 -> 2.2177866 | C548: 1
A549: vallaline | B549: =C549/$C$1*10000 -> 2.2177866 | C549: 1
... A618: üritav | B618: =C618/$C$1*10000 -> 2.2177866 | C618: 1

Sheet poeg (2)
A1: Adj_modifier | B1: erinevus paarikust | C1: normaliseeritud koosesinemissagedus | D1: absoluutne koosesinemissagedus | E1: subject_of | F1: erinevus paarikust | G1: normaliseeritud koosesinemissagedus | H1: absoluutne koosesinemissagedus | I1: object_of | J1: normaliseeritud koosesinemissagedus | K1: absoluutne koosesinemissagedus
D2: 4509 | H2: 3801 | K2: 526
A3: väike | B3: =IF(ISERROR(MATCH(A3,tütar!$A:$A,0)),"*",C3/LOOKUP(A3,tütar!$A:$A,tütar!$B:$B)) -> 0.90150994 | C3: =D3/$D$2*10000 -> 545.57552 | D3: 246 | E3: saama | F3: =IF(ISERROR(MATCH(E3,tütar!$D:$D,0)),"*",G3/LOOKUP(E3,tütar!$D:$D,tütar!$E:$E)) -> 1.0419603 | G3: =H3/$H$2*10000 -> 626.15101 | H3: 238 | I3: sünnitama | J3: =K3/$K$2*10000 -> 741.44487 | K3: 39 | M3: =SUM(H3:H32) -> 2016
A4: nelja-aastane | B4: =IF(ISERROR(MATCH(A4,tütar!$A:$A,0)),"*",C4/LOOKUP(A4,tütar!$A:$A,tütar!$B:$B)) -> 1.0054691 | C4: =D4/$D$2*10000 -> 281.6589 | D4: 127 | E4: sündima | F4: =IF(ISERROR(MATCH(E4,tütar!$D:$D,0)),"*",G4/LOOKUP(E4,tütar!$D:$D,tütar!$E:$E)) -> 0.89403675 | G4: =H4/$H$2*10000 -> 591.94949 | H4: 225 | I4: kasvatama | J4: =K4/$K$2*10000 -> 608.36502 | K4: 32
A5: kaheaastane | B5: =IF(ISERROR(MATCH(A5,tütar!$A:$A,0)),"*",C5/LOOKUP(A5,tütar!$A:$A,tütar!$B:$B)) -> 0.90546393 | C5: =D5/$D$2*10000 -> 272.78776 | D5: 123 | E5: käima | F5: =IF(ISERROR(MATCH(E5,tütar!$D:$D,0)),"*",G5/LOOKUP(E5,tütar!$D:$D,tütar!$E:$E)) -> 1.0468358 | G5: =H5/$H$2*10000 -> 331.49171 | H5: 126 | I5: saama | J5: =K5/$K$2*10000 -> 380.22814 | K5: 20
A6: aastane | B6: =IF(ISERROR(MATCH(A6,tütar!$A:$A,0)),"*",C6/LOOKUP(A6,tütar!$A:$A,tütar!$B:$B)) -> 0.86209803 | C6: =D6/$D$2*10000 -> 250.60989 | D6: 113 | E6: tulema | F6: =IF(ISERROR(MATCH(E6,tütar!$D:$D,0)),"*",G6/LOOKUP(E6,tütar!$D:$D,tütar!$E:$E)) -> 1.207943 | G6: =H6/$H$2*10000 -> 299.92107 | H6: 114 | I6: tapma | J6: =K6/$K$2*10000 -> 323.19392 | K6: 17
A7: 11aastane | B7: =IF(ISERROR(MATCH(A7,tütar!$A:$A,0)),"*",C7/LOOKUP(A7,tütar!$A:$A,tütar!$B:$B)) -> 1.0465448 | C7: =D7/$D$2*10000 -> 235.08538 | D7: 106 | E7: õppima | F7: =IF(ISERROR(MATCH(E7,tütar!$D:$D,0)),"*",G7/LOOKUP(E7,tütar!$D:$D,tütar!$E:$E)) -> 0.94121632 | G7: =H7/$H$2*10000 -> 294.6593 | H7: 112 | I7: viima | J7: =K7/$K$2*10000 -> 323.19392 | K7: 17
A8: viieaastane | B8: =IF(ISERROR(MATCH(A8,tütar!$A:$A,0)),"*",C8/LOOKUP(A8,tütar!$A:$A,tütar!$B:$B)) -> 0.67136837 | C8: =D8/$D$2*10000 -> 230.64981 | D8: 104 | E8: ütlema | F8: =IF(ISERROR(MATCH(E8,tütar!$D:$D,0)),"*",G8/LOOKUP(E8,tütar!$D:$D,tütar!$E:$E)) -> 0.92970011 | G8: =H8/$H$2*10000 -> 270.98132 | H8: 103 | I8: tahtma | J8: =K8/$K$2*10000 -> 285.1711 | K8: 15
A9: kolmeaastane | B9: =IF(ISERROR(MATCH(A9,tütar!$A:$A,0)),"*",C9/LOOKUP(A9,tütar!$A:$A,tütar!$B:$B)) -> 0.60872309 | C9: =D9/$D$2*10000 -> 228.43202 | D9: 103 | E9: pidama | F9: =IF(ISERROR(MATCH(E9,tütar!$D:$D,0)),"*",G9/LOOKUP(E9,tütar!$D:$D,tütar!$E:$E)) -> 0.90896421 | G9: =H9/$H$2*10000 -> 242.04157 | H9: 92 | I9: nägema | J9: =K9/$K$2*10000 -> 285.1711 | K9: 15
A10: kuueaastane | B10: =IF(ISERROR(MATCH(A10,tütar!$A:$A,0)),"*",C10/LOOKUP(A10,tütar!$A:$A,tütar!$B:$B)) -> 1.1496034 | C10: =D10/$D$2*10000 -> 221.77866 | D10: 100 | E10: jääma | F10: =IF(ISERROR(MATCH(E10,tütar!$D:$D,0)),"*",G10/LOOKUP(E10,tütar!$D:$D,tütar!$E:$E)) -> 1.4622468 | G10: =H10/$H$2*10000 -> 236.77979 | H10: 90 | I10: ootama | J10: =K10/$K$2*10000 -> 247.14829 | K10: 13
A11: 12aastane | B11: =IF(ISERROR(MATCH(A11,tütar!$A:$A,0)),"*",C11/LOOKUP(A11,tütar!$A:$A,tütar!$B:$B)) -> 1.1227275 | C11: =D11/$D$2*10000 -> 219.56088 | D11: 99 | E11: elama | F11: =IF(ISERROR(MATCH(E11,tütar!$D:$D,0)),"*",G11/LOOKUP(E11,tütar!$D:$D,tütar!$E:$E)) -> 0.72198435 | G11: =H11/$H$2*10000 -> 207.84004 | H11: 79 | I11: õpetama | J11: =K11/$K$2*10000 -> 228.13688 | K11: 12
A12: teismeline | B12: =IF(ISERROR(MATCH(A12,tütar!$A:$A,0)),"*",C12/LOOKUP(A12,tütar!$A:$A,tütar!$B:$B)) -> 0.61836561 | C12: =D12/$D$2*10000 -> 217.34309 | D12: 98 | E12: minema | F12: =IF(ISERROR(MATCH(E12,tütar!$D:$D,0)),"*",G12/LOOKUP(E12,tütar!$D:$D,tütar!$E:$E)) -> 0.80638609 | G12: =H12/$H$2*10000 -> 197.3165 | H12: 75 | I12: õppima | J12: =K12/$K$2*10000 -> 209.12548 | K12: 11
A13: ainus | B13: =IF(ISERROR(MATCH(A13,tütar!$A:$A,0)),"*",C13/LOOKUP(A13,tütar!$A:$A,tütar!$B:$B)) -> 0.92528334 | C13: =D13/$D$2*10000 -> 190.72965 | D13: 86 | E13: tegema | F13: =IF(ISERROR(MATCH(E13,tütar!$D:$D,0)),"*",G13/LOOKUP(E13,tütar!$D:$D,tütar!$E:$E)) -> 1.0966851 | G13: =H13/$H$2*10000 -> 173.63852 | H13: 66 | I13: võtma | J13: =K13/$K$2*10000 -> 209.12548 | K13: 11
A14: kaheksa-aastane | B14: =IF(ISERROR(MATCH(A14,tütar!$A:$A,0)),"*",C14/LOOKUP(A14,tütar!$A:$A,tütar!$B:$B)) -> 1.3462335 | C14: =D14/$D$2*10000 -> 170.76957 | D14: 77 | E14: tahtma | F14: =IF(ISERROR(MATCH(E14,tütar!$D:$D,0)),"*",G14/LOOKUP(E14,tütar!$D:$D,tütar!$E:$E)) -> 0.93733768 | G14: =H14/$H$2*10000 -> 131.54433 | H14: 50 | I14: pidama | J14: =K14/$K$2*10000 -> 190.11407 | K14: 10
A15: 14aastane | B15: =IF(ISERROR(MATCH(A15,tütar!$A:$A,0)),"*",C15/LOOKUP(A15,tütar!$A:$A,tütar!$B:$B)) -> 0.9905435 | C15: =D15/$D$2*10000 -> 159.68064 | D15: 72 | E15: võima | F15: =IF(ISERROR(MATCH(E15,tütar!$D:$D,0)),"*",G15/LOOKUP(E15,tütar!$D:$D,tütar!$E:$E)) -> 1.7912523 | G15: =H15/$H$2*10000 -> 128.91344 | H15: 49 | I15: peksma | J15: =K15/$K$2*10000 -> 152.09125 | K15: 8
... A150: pidav | B150: =IF(ISERROR(MATCH(A150,tütar!$A:$A,0)),"*",C150/LOOKUP(A150,tütar!$A:$A,tütar!$B:$B)) -> 0.67136837 | C150: =D150/$D$2*10000 -> 8.8711466 | D150: 4 | E150: ehitama | F150: =IF(ISERROR(MATCH(E150,tütar!$D:$D,0)),"*",G150/LOOKUP(E150,tütar!$D:$D,tütar!$E:$E)) -> * | G150: =H150/$H$2*10000 -> 10.523546 | H150: 4 | I150: tõstma | J150: =K150/$K$2*10000 -> 19.011407 | K150: 1
A151: vaimulik | B151: =IF(ISERROR(MATCH(A151,tütar!$A:$A,0)),"*",C151/LOOKUP(A151,tütar!$A:$A,tütar!$B:$B)) -> 3.3568419 | C151: =D151/$D$2*10000 -> 8.8711466 | D151: 4 | E151: korraldama | F151: =IF(ISERROR(MATCH(E151,tütar!$D:$D,0)),"*",G151/LOOKUP(E151,tütar!$D:$D,tütar!$E:$E)) -> * | G151: =H151/$H$2*10000 -> 10.523546 | H151: 4
A152: viibiv | B152: =IF(ISERROR(MATCH(A152,tütar!$A:$A,0)),"*",C152/LOOKUP(A152,tütar!$A:$A,tütar!$B:$B)) -> 0.67136837 | C152: =D152/$D$2*10000 -> 8.8711466 | D152: 4 | E152: maksma | F152: =IF(ISERROR(MATCH(E152,tütar!$D:$D,0)),"*",G152/LOOKUP(E152,tütar!$D:$D,tütar!$E:$E)) -> * | G152: =H152/$H$2*10000 -> 10.523546 | H152: 4
A153: väidetav | B153: =IF(ISERROR(MATCH(A153,tütar!$A:$A,0)),"*",C153/LOOKUP(A153,tütar!$A:$A,tütar!$B:$B)) -> 1.6784209 | C153: =D153/$D$2*10000 -> 8.8711466 | D153: 4 | E153: torisema | F153: =IF(ISERROR(MATCH(E153,tütar!$D:$D,0)),"*",G153/LOOKUP(E153,tütar!$D:$D,tütar!$E:$E)) -> 2.9244936 | G153: =H153/$H$2*10000 -> 10.523546 | H153: 4
A154: rikas | B154: =IF(ISERROR(MATCH(A154,tütar!$A:$A,0)),"*",C154/LOOKUP(A154,tütar!$A:$A,tütar!$B:$B)) -> 3.3568419 | C154: =D154/$D$2*10000 -> 8.8711466 | D154: 4 | E154: pussitama | F154: =IF(ISERROR(MATCH(E154,tütar!$D:$D,0)),"*",G154/LOOKUP(E154,tütar!$D:$D,tütar!$E:$E)) -> 2.9244936 | G154: =H154/$H$2*10000 -> 10.523546 | H154: 4
A155: ilus | B155: =IF(ISERROR(MATCH(A155,tütar!$A:$A,0)),"*",C155/LOOKUP(A155,tütar!$A:$A,tütar!$B:$B)) -> 0.14594965 | C155: =D155/$D$2*10000 -> 8.8711466 | D155: 4 | E155: sarnanema | F155: =IF(ISERROR(MATCH(E155,tütar!$D:$D,0)),"*",G155/LOOKUP(E155,tütar!$D:$D,tütar!$E:$E)) -> 2.9244936 | G155: =H155/$H$2*10000 -> 10.523546 | H155: 4
A156: pooleteise-aastane | B156: =IF(ISERROR(MATCH(A156,tütar!$A:$A,0)),"*",C156/LOOKUP(A156,tütar!$A:$A,tütar!$B:$B)) -> * | C156: =D156/$D$2*10000 -> 6.6533599 | D156: 3 | E156: suhtlema | F156: =IF(ISERROR(MATCH(E156,tütar!$D:$D,0)),"*",G156/LOOKUP(E156,tütar!$D:$D,tütar!$E:$E)) -> 0.73112339 | G156: =H156/$H$2*10000 -> 10.523546 | H156: 4
A157: neljakilone | B157: =IF(ISERROR(MATCH(A157,tütar!$A:$A,0)),"*",C157/LOOKUP(A157,tütar!$A:$A,tütar!$B:$B)) -> * | C157: =D157/$D$2*10000 -> 6.6533599 | D157: 3 | E157: naerma | F157: =IF(ISERROR(MATCH(E157,tütar!$D:$D,0)),"*",G157/LOOKUP(E157,tütar!$D:$D,tütar!$E:$E)) -> 0.29244936 | G157: =H157/$H$2*10000 -> 10.523546 | H157: 4
A158: kooliskäiv | B158: =IF(ISERROR(MATCH(A158,tütar!$A:$A,0)),"*",C158/LOOKUP(A158,tütar!$A:$A,tütar!$B:$B)) -> * | C158: =D158/$D$2*10000 -> 6.6533599 | D158: 3 | E158: kurtma | F158: =IF(ISERROR(MATCH(E158,tütar!$D:$D,0)),"*",G158/LOOKUP(E158,tütar!$D:$D,tütar!$E:$E)) -> 0.97483118 | G158: =H158/$H$2*10000 -> 10.523546 | H158: 4
A159: toibuv | B159: =IF(ISERROR(MATCH(A159,tütar!$A:$A,0)),"*",C159/LOOKUP(A159,tütar!$A:$A,tütar!$B:$B)) -> * | C159: =D159/$D$2*10000 -> 6.6533599 | D159: 3 | E159: keelduma | F159: =IF(ISERROR(MATCH(E159,tütar!$D:$D,0)),"*",G159/LOOKUP(E159,tütar!$D:$D,tütar!$E:$E)) -> 0.58489871 | G159: =H159/$H$2*10000 -> 10.523546 | H159: 4
A160: paaripäevane | B160: =IF(ISERROR(MATCH(A160,tütar!$A:$A,0)),"*",C160/LOOKUP(A160,tütar!$A:$A,tütar!$B:$B)) -> * | C160: =D160/$D$2*10000 -> 6.6533599 | D160: 3 | E160: suhtuma | F160: =IF(ISERROR(MATCH(E160,tütar!$D:$D,0)),"*",G160/LOOKUP(E160,tütar!$D:$D,tütar!$E:$E)) -> 0.73112339 | G160: =H160/$H$2*10000 -> 10.523546 | H160: 4
A161: 61aastane | B161: =IF(ISERROR(MATCH(A161,tütar!$A:$A,0)),"*",C161/LOOKUP(A161,tütar!$A:$A,tütar!$B:$B)) -> * | C161: =D161/$D$2*10000 -> 6.6533599 | D161: 3 | E161: käituma | F161: =IF(ISERROR(MATCH(E161,tütar!$D:$D,0)),"*",G161/LOOKUP(E161,tütar!$D:$D,tütar!$E:$E)) -> 0.97483118 | G161: =H161/$H$2*10000 -> 10.523546 | H161: 4
A162: kilone | B162: =IF(ISERROR(MATCH(A162,tütar!$A:$A,0)),"*",C162/LOOKUP(A162,tütar!$A:$A,tütar!$B:$B)) -> * | C162: =D162/$D$2*10000 -> 6.6533599 | D162: 3 | E162: varjama | F162: =IF(ISERROR(MATCH(E162,tütar!$D:$D,0)),"*",G162/LOOKUP(E162,tütar!$D:$D,tütar!$E:$E)) -> 2.9244936 | G162: =H162/$H$2*10000 -> 10.523546 | H162: 4
... A538: pruun | B538: =IF(ISERROR(MATCH(A538,tütar!$A:$A,0)),"*",C538/LOOKUP(A538,tütar!$A:$A,tütar!$B:$B)) -> * | C538: =D538/$D$2*10000 -> 2.2177866 | D538: 1 | E538: lööma | F538: =IF(ISERROR(MATCH(E538,tütar!$D:$D,0)),"*",G538/LOOKUP(E538,tütar!$D:$D,tütar!$E:$E)) -> 0.2437078 | G538: =H538/$H$2*10000 -> 2.6308866 | H538: 1
A539: võetav | B539: =IF(ISERROR(MATCH(A539,tütar!$A:$A,0)),"*",C539/LOOKUP(A539,tütar!$A:$A,tütar!$B:$B)) -> * | C539: =D539/$D$2*10000 -> 2.2177866 | D539: 1 | F539: =IF(ISERROR(MATCH(E539,tütar!$D:$D,0)),"*",G539/LOOKUP(E539,tütar!$D:$D,tütar!$E:$E)) -> *
A540: igavene | B540: =IF(ISERROR(MATCH(A540,tütar!$A:$A,0)),"*",C540/LOOKUP(A540,tütar!$A:$A,tütar!$B:$B)) -> * | C540: =D540/$D$2*10000 -> 2.2177866 | D540: 1 | F540: =IF(ISERROR(MATCH(E540,tütar!$D:$D,0)),"*",G540/LOOKUP(E540,tütar!$D:$D,tütar!$E:$E)) -> *
A541: legendaarne | B541: =IF(ISERROR(MATCH(A541,tütar!$A:$A,0)),"*",C541/LOOKUP(A541,tütar!$A:$A,tütar!$B:$B)) -> * | C541: =D541/$D$2*10000 -> 2.2177866 | D541: 1 | F541: =IF(ISERROR(MATCH(E541,tütar!$D:$D,0)),"*",G541/LOOKUP(E541,tütar!$D:$D,tütar!$E:$E)) -> *
A542: väärtuslik | B542: =IF(ISERROR(MATCH(A542,tütar!$A:$A,0)),"*",C542/LOOKUP(A542,tütar!$A:$A,tütar!$B:$B)) -> * | C542: =D542/$D$2*10000 -> 2.2177866 | D542: 1 | F542: =IF(ISERROR(MATCH(E542,tütar!$D:$D,0)),"*",G542/LOOKUP(E542,tütar!$D:$D,tütar!$E:$E)) -> *
A543: mõõdukas | B543: =IF(ISERROR(MATCH(A543,tütar!$A:$A,0)),"*",C543/LOOKUP(A543,tütar!$A:$A,tütar!$B:$B)) -> * | C543: =D543/$D$2*10000 -> 2.2177866 | D543: 1 | F543: =IF(ISERROR(MATCH(E543,tütar!$D:$D,0)),"*",G543/LOOKUP(E543,tütar!$D:$D,tütar!$E:$E)) -> *
A544: omav | B544: =IF(ISERROR(MATCH(A544,tütar!$A:$A,0)),"*",C544/LOOKUP(A544,tütar!$A:$A,tütar!$B:$B)) -> * | C544: =D544/$D$2*10000 -> 2.2177866 | D544: 1 | F544: =IF(ISERROR(MATCH(E544,tütar!$D:$D,0)),"*",G544/LOOKUP(E544,tütar!$D:$D,tütar!$E:$E)) -> *
A545: paljas | B545: =IF(ISERROR(MATCH(A545,tütar!$A:$A,0)),"*",C545/LOOKUP(A545,tütar!$A:$A,tütar!$B:$B)) -> * | C545: =D545/$D$2*10000 -> 2.2177866 | D545: 1 | F545: =IF(ISERROR(MATCH(E545,tütar!$D:$D,0)),"*",G545/LOOKUP(E545,tütar!$D:$D,tütar!$E:$E)) -> *
A546: arvestatav | B546: =IF(ISERROR(MATCH(A546,tütar!$A:$A,0)),"*",C546/LOOKUP(A546,tütar!$A:$A,tütar!$B:$B)) -> * | C546: =D546/$D$2*10000 -> 2.2177866 | D546: 1 | F546: =IF(ISERROR(MATCH(E546,tütar!$D:$D,0)),"*",G546/LOOKUP(E546,tütar!$D:$D,tütar!$E:$E)) -> *
A547: alluv | B547: =IF(ISERROR(MATCH(A547,tütar!$A:$A,0)),"*",C547/LOOKUP(A547,tütar!$A:$A,tütar!$B:$B)) -> * | C547: =D547/$D$2*10000 -> 2.2177866 | D547: 1 | F547: =IF(ISERROR(MATCH(E547,tütar!$D:$D,0)),"*",G547/LOOKUP(E547,tütar!$D:$D,tütar!$E:$E)) -> *
A548: haruldane | B548: =IF(ISERROR(MATCH(A548,tütar!$A:$A,0)),"*",C548/LOOKUP(A548,tütar!$A:$A,tütar!$B:$B)) -> * | C548: =D548/$D$2*10000 -> 2.2177866 | D548: 1 | F548: =IF(ISERROR(MATCH(E548,tütar!$D:$D,0)),"*",G548/LOOKUP(E548,tütar!$D:$D,tütar!$E:$E)) -> *
A549: rumal | B549: =IF(ISERROR(MATCH(A549,tütar!$A:$A,0)),"*",C549/LOOKUP(A549,tütar!$A:$A,tütar!$B:$B)) -> * | C549: =D549/$D$2*10000 -> 2.2177866 | D549: 1 | F549: =IF(ISERROR(MATCH(E549,tütar!$D:$D,0)),"*",G549/LOOKUP(E549,tütar!$D:$D,tütar!$E:$E)) -> *
A550: seaduslik | B550: =IF(ISERROR(MATCH(A550,tütar!$A:$A,0)),"*",C550/LOOKUP(A550,tütar!$A:$A,tütar!$B:$B)) -> * | C550: =D550/$D$2*10000 -> 2.2177866 | D550: 1 | F550: =IF(ISERROR(MATCH(E550,tütar!$D:$D,0)),"*",G550/LOOKUP(E550,tütar!$D:$D,tütar!$E:$E)) -> *
... A619: siinne | B619: =IF(ISERROR(MATCH(A619,tütar!$A:$A,0)),"*",C619/LOOKUP(A619,tütar!$A:$A,tütar!$B:$B)) -> 0.83921047 | C619: =D619/$D$2*10000 -> 2.2177866 | D619: 1 | F619: =IF(ISERROR(MATCH(E619,tütar!$D:$D,0)),"*",G619/LOOKUP(E619,tütar!$D:$D,tütar!$E:$E)) -> *

Sheet tütar
A1: Adj_modifier | C1: 3784 | D1: subject_of | F1: 2779 | G1: object_of | I1: 282
A2: 10aastane | B2: =C2/$C$1*10000 -> 187.63214 | C2: 71 | D2: abielluma | E2: =F2/$F$1*10000 -> 75.566751 | F2: 21 | G2: aitama | H2: =I2/$I$1*10000 -> 70.921986 | I2: 2
A3: 10kuine | B3: =C3/$C$1*10000 -> 2.6427061 | C3: 1 | D3: ahistama | E3: =F3/$F$1*10000 -> 3.5984167 | F3: 1 | G3: armastama | H3: =I3/$I$1*10000 -> 35.460993 | I3: 1
A4: 10kuune | B4: =C4/$C$1*10000 -> 15.856237 | C4: 6 | D4: aitama | E4: =F4/$F$1*10000 -> 39.582584 | F4: 11 | G4: asendama | H4: =I4/$I$1*10000 -> 35.460993 | I4: 1
A5: 11-12aastane | B5: =C5/$C$1*10000 -> 2.6427061 | C5: 1 | D5: ajama | E5: =F5/$F$1*10000 -> 35.984167 | F5: 10 | G5: eostama | H5: =I5/$I$1*10000 -> 35.460993 | I5: 1
A6: 11aastane | B6: =C6/$C$1*10000 -> 224.63002 | C6: 85 | D6: alistuma | E6: =F6/$F$1*10000 -> 3.5984167 | F6: 1 | G6: hammustama | H6: =I6/$I$1*10000 -> 35.460993 | I6: 1
A7: 11kuune | B7: =C7/$C$1*10000 -> 21.141649 | C7: 8 | D7: alustama | E7: =F7/$F$1*10000 -> 28.787334 | F7: 8 | G7: helistama | H7: =I7/$I$1*10000 -> 70.921986 | I7: 2
A8: 12aastane | B8: =C8/$C$1*10000 -> 195.56025 | C8: 74 | D8: andma | E8: =F8/$F$1*10000 -> 61.173084 | F8: 17 | G8: hirmutama | H8: =I8/$I$1*10000 -> 35.460993 | I8: 1
A9: 13aastane | B9: =C9/$C$1*10000 -> 214.0592 | C9: 81 | D9: annetama | E9: =F9/$F$1*10000 -> 3.5984167 | F9: 1 | G9: hoidma | H9: =I9/$I$1*10000 -> 106.38298 | I9: 3
A10: 14aastane | B10: =C10/$C$1*10000 -> 161.20507 | C10: 61 | D10: arenema | E10: =F10/$F$1*10000 -> 7.1968334 | F10: 2 | G10: huvitama | H10: =I10/$I$1*10000 -> 35.460993 | I10: 1
A11: 14päevane | B11: =C11/$C$1*10000 -> 2.6427061 | C11: 1 | D11: armastama | E11: =F11/$F$1*10000 -> 21.5905 | F11: 6 | G11: hüüdma | H11: =I11/$I$1*10000 -> 35.460993 | I11: 1
A12: 15aastane | B12: =C12/$C$1*10000 -> 116.27907 | C12: 44 | D12: armuma | E12: =F12/$F$1*10000 -> 3.5984167 | F12: 1 | G12: igatsema | H12: =I12/$I$1*10000 -> 35.460993 | I12: 1
A13: 15kuine | B13: =C13/$C$1*10000 -> 2.6427061 | C13: 1 | D13: arutlema | E13: =F13/$F$1*10000 -> 7.1968334 | F13: 2 | G13: juhendama | H13: =I13/$I$1*10000 -> 70.921986 | I13: 2
... A98: ainuke | B98: =C98/$C$1*10000 -> 63.424947 | C98: 24 | D98: kasvatama | E98: =F98/$F$1*10000 -> 25.188917 | F98: 7 | G98: ärgitama | H98: =I98/$I$1*10000 -> 35.460993 | I98: 1
A99: ainus | B99: =C99/$C$1*10000 -> 206.13108 | C99: 78 | D99: katma | E99: =F99/$F$1*10000 -> 3.5984167 | F99: 1
A100: ajav | B100: =C100/$C$1*10000 -> 2.6427061 | C100: 1 | D100: katsuma | E100: =F100/$F$1*10000 -> 3.5984167 | F100: 1
A101: akadeemiline | B101: =C101/$C$1*10000 -> 2.6427061 | C101: 1 | D101: kauplema | E101: =F101/$F$1*10000 -> 3.5984167 | F101: 1
A102: akontaktne | B102: =C102/$C$1*10000 -> 2.6427061 | C102: 1 | D102: kavatsema | E102: =F102/$F$1*10000 -> 35.984167 | F102: 10
A103: alaealine | B103: =C103/$C$1*10000 -> 76.638478 | C103: 29 | D103: keelama | E103: =F103/$F$1*10000 -> 10.79525 | F103: 3
A104: alaeline | B104: =C104/$C$1*10000 -> 2.6427061 | C104: 1 | D104: keelduma | E104: =F104/$F$1*10000 -> 17.992083 | F104: 5
A105: algkooliealine | B105: =C105/$C$1*10000 -> 5.2854123 | C105: 2 | D105: kehitama | E105: =F105/$F$1*10000 -> 3.5984167 | F105: 1
A106: alustav | B106: =C106/$C$1*10000 -> 2.6427061 | C106: 1 | D106: kergitama | E106: =F106/$F$1*10000 -> 3.5984167 | F106: 1
A107: ambitsioonikas | B107: =C107/$C$1*10000 -> 2.6427061 | C107: 1 | D107: kibelema | E107: =F107/$F$1*10000 -> 3.5984167 | F107: 1
A108: andekas | B108: =C108/$C$1*10000 -> 21.141649 | C108: 8 | D108: kihutama | E108: =F108/$F$1*10000 -> 3.5984167 | F108: 1
A109: andev | B109: =C109/$C$1*10000 -> 2.6427061 | C109: 1 | D109: kiirustama | E109: =F109/$F$1*10000 -> 3.5984167 | F109: 1
A110: arenev | B110: =C110/$C$1*10000 -> 2.6427061 | C110: 1 | D110: kiitma | E110: =F110/$F$1*10000 -> 14.393667 | F110: 4
... A439: vaatav | B439: =C439/$C$1*10000 -> 2.6427061 | C439: 1 | D439: ütlema | E439: =F439/$F$1*10000 -> 291.47175 | F439: 81
A440: vaene | B440: =C440/$C$1*10000 -> 2.6427061 | C440: 1
A441: vaevlev | B441: =C441/$C$1*10000 -> 10.570825 | C441: 4
A442: vahva | B442: =C442/$C$1*10000 -> 2.6427061 | C442: 1
A443: vaimulik | B443: =C443/$C$1*10000 -> 2.6427061 | C443: 1
A444: vallaline | B444: =C444/$C$1*10000 -> 5.2854123 | C444: 2
A445: vallatu | B445: =C445/$C$1*10000 -> 2.6427061 | C445: 1
A446: valmistuv | B446: =C446/$C$1*10000 -> 2.6427061 | C446: 1
A447: vana | B447: =C447/$C$1*10000 -> 23.784355 | C447: 9
A448: vananev | B448: =C448/$C$1*10000 -> 2.6427061 | C448: 1
A449: vanune | B449: =C449/$C$1*10000 -> 55.496829 | C449: 21
A450: vapper | B450: =C450/$C$1*10000 -> 2.6427061 | C450: 1
A451: varakas | B451: =C451/$C$1*10000 -> 2.6427061 | C451: 1
... A494: x22-aastane | B494: =C494/$C$1*10000 -> 2.6427061 | C494: 1

Sheet inimene (2)
A1: Adj_modifier | B1: erinevus paarikust | C1: normaliseeritud koosesinemissagedus | D1: absoluutne koosesinemissagedus | E1: subject_of | F1: erinevus paarikust | H1: normaliseeritud koosesinemissagedus | I1: normaliseeritud koosesinemissagedus | J1: absoluutne koosesinemissagedus | K1: object_of | L1: normaliseeritud koosesinemissagedus | M1: absoluutne koosesinemissagedus
D2: 73346 | J2: 61801 | M2: 10798 | O2: =IF(ISERROR(MATCH(E2,laps!$D:$D,0)),-1,I2/LOOKUP(E2,laps!$D:$D,laps!$E:$E)) -> -1
A3: noor | B3: =IF(ISERROR(MATCH(A3,laps!$A:$A,0)),"*",C3/LOOKUP(A3,laps!$A:$A,laps!$B:$B)) -> 28.461245 | C3: =D3/$D$2*10000 -> 619.66569 | D3: 4545 | E3: saama | F3: =IF(ISERROR(MATCH(E3,laps!$D:$D,0)),"*",I3/LOOKUP(E3,laps!$D:$D,laps!$E:$E)) -> 0.67028874 | G3: =IF(ISERROR(MATCH(E3,mees!$D:$D,0)),"*",I3/LOOKUP(E3,mees!$D:$D,mees!$E:$E)) -> 2.1077178 | H3: =IF(ISERROR(MATCH(E3,naine!$D:$D,0)),"*",I3/LOOKUP(E3,naine!$D:$D,naine!$E:$E)) -> 1.7200875 | I3: =J3/$J$2*10000 -> 879.11199 | J3: 5433 | K3: leiduma | L3: =M3/$M$2*10000 -> 297.27727 | M3: 321 | O3: =IF(ISERROR(MATCH(E3,laps!$D:$D,0)),"ainuesin.",I3/LOOKUP(E3,laps!$D:$D,laps!$E:$E)) -> 0.67028874
A4: elav | B4: =IF(ISERROR(MATCH(A4,laps!$A:$A,0)),"*",C4/LOOKUP(A4,laps!$A:$A,laps!$B:$B)) -> 2.1260104 | C4: =D4/$D$2*10000 -> 317.53606 | D4: 2329 | E4: pidama | F4: =IF(ISERROR(MATCH(E4,laps!$D:$D,0)),"*",I4/LOOKUP(E4,laps!$D:$D,laps!$E:$E)) -> 1.3921737 | G4: =IF(ISERROR(MATCH(E4,mees!$D:$D,0)),"*",I4/LOOKUP(E4,mees!$D:$D,mees!$E:$E)) -> 2.073139 | H4: =IF(ISERROR(MATCH(E4,naine!$D:$D,0)),"*",I4/LOOKUP(E4,naine!$D:$D,naine!$E:$E)) -> 1.7303483 | I4: =J4/$J$2*10000 -> 602.57925 | J4: 3724 | K4: kutsuma | L4: =M4/$M$2*10000 -> 249.12021 | M4: 269 | O4: =IF(ISERROR(MATCH(E4,laps!$D:$D,0)),"ainuesin.",I4/LOOKUP(E4,laps!$D:$D,laps!$E:$E)) -> 1.3921737
A5: tavaline | B5: =IF(ISERROR(MATCH(A5,laps!$A:$A,0)),"*",C5/LOOKUP(A5,laps!$A:$A,laps!$B:$B)) -> 6.6887488 | C5: =D5/$D$2*10000 -> 265.04513 | D5: 1944 | E5: võima | F5: =IF(ISERROR(MATCH(E5,laps!$D:$D,0)),"*",I5/LOOKUP(E5,laps!$D:$D,laps!$E:$E)) -> 1.2198354 | G5: =IF(ISERROR(MATCH(E5,mees!$D:$D,0)),"*",I5/LOOKUP(E5,mees!$D:$D,mees!$E:$E)) -> 2.3565768 | H5: =IF(ISERROR(MATCH(E5,naine!$D:$D,0)),"*",I5/LOOKUP(E5,naine!$D:$D,naine!$E:$E)) -> 1.8716962 | I5: =J5/$J$2*10000 -> 329.12089 | J5: 2034 | K5: sundima | L5: =M5/$M$2*10000 -> 220.41119 | M5: 238 | O5: =IF(ISERROR(MATCH(E5,laps!$D:$D,0)),"ainuesin.",I5/LOOKUP(E5,laps!$D:$D,laps!$E:$E)) -> 1.2198354
A6: uus | B6: =IF(ISERROR(MATCH(A6,laps!$A:$A,0)),"*",C6/LOOKUP(A6,laps!$A:$A,laps!$B:$B)) -> 2.2082935 | C6: =D6/$D$2*10000 -> 200.01091 | D6: 1467 | E6: tulema | F6: =IF(ISERROR(MATCH(E6,laps!$D:$D,0)),"*",I6/LOOKUP(E6,laps!$D:$D,laps!$E:$E)) -> 0.91922298 | G6: =IF(ISERROR(MATCH(E6,mees!$D:$D,0)),"*",I6/LOOKUP(E6,mees!$D:$D,mees!$E:$E)) -> 1.0768698 | H6: =IF(ISERROR(MATCH(E6,naine!$D:$D,0)),"*",I6/LOOKUP(E6,naine!$D:$D,naine!$E:$E)) -> 1.4985368 | I6: =J6/$J$2*10000 -> 256.63015 | J6: 1586 | K6: leidma | L6: =M6/$M$2*10000 -> 210.22412 | M6: 227 | O6: =IF(ISERROR(MATCH(E6,laps!$D:$D,0)),"ainuesin.",I6/LOOKUP(E6,laps!$D:$D,laps!$E:$E)) -> 0.91922298
A7: töötav | B7: =IF(ISERROR(MATCH(A7,laps!$A:$A,0)),"*",C7/LOOKUP(A7,laps!$A:$A,laps!$B:$B)) -> 22.794045 | C7: =D7/$D$2*10000 -> 198.51117 | D7: 1456 | E7: tahtma | F7: =IF(ISERROR(MATCH(E7,laps!$D:$D,0)),"*",I7/LOOKUP(E7,laps!$D:$D,laps!$E:$E)) -> 1.3998168 | G7: =IF(ISERROR(MATCH(E7,mees!$D:$D,0)),"*",I7/LOOKUP(E7,mees!$D:$D,mees!$E:$E)) -> 1.9697616 | H7: =IF(ISERROR(MATCH(E7,naine!$D:$D,0)),"*",I7/LOOKUP(E7,naine!$D:$D,naine!$E:$E)) -> 1.456466 | I7: =J7/$J$2*10000 -> 253.87939 | J7: 1569 | K7: viima | L7: =M7/$M$2*10000 -> 197.25875 | M7: 213 | O7: =IF(ISERROR(MATCH(E7,laps!$D:$D,0)),"ainuesin.",I7/LOOKUP(E7,laps!$D:$D,laps!$E:$E)) -> 1.3998168
A8: hea | B8: =IF(ISERROR(MATCH(A8,laps!$A:$A,0)),"*",C8/LOOKUP(A8,laps!$A:$A,laps!$B:$B)) -> 0.80704072 | C8: =D8/$D$2*10000 -> 197.14777 | D8: 1446 | E8: elama | F8: =IF(ISERROR(MATCH(E8,laps!$D:$D,0)),"*",I8/LOOKUP(E8,laps!$D:$D,laps!$E:$E)) -> 1.6109297 | G8: =IF(ISERROR(MATCH(E8,mees!$D:$D,0)),"*",I8/LOOKUP(E8,mees!$D:$D,mees!$E:$E)) -> 3.1007233 | H8: =IF(ISERROR(MATCH(E8,naine!$D:$D,0)),"*",I8/LOOKUP(E8,naine!$D:$D,naine!$E:$E)) -> 2.6455883 | I8: =J8/$J$2*10000 -> 250.805 | J8: 1550 | K8: aitama | L8: =M8/$M$2*10000 -> 194.48046 | M8: 210 | O8: =IF(ISERROR(MATCH(E8,laps!$D:$D,0)),"ainuesin.",I8/LOOKUP(E8,laps!$D:$D,laps!$E:$E)) -> 1.6109297
A9: olev | B9: =IF(ISERROR(MATCH(A9,laps!$A:$A,0)),"*",C9/LOOKUP(A9,laps!$A:$A,laps!$B:$B)) -> 1.3752063 | C9: =D9/$D$2*10000 -> 183.24108 | D9: 1344 | E9: teadma | F9: =IF(ISERROR(MATCH(E9,laps!$D:$D,0)),"*",I9/LOOKUP(E9,laps!$D:$D,laps!$E:$E)) -> 1.5265554 | G9: =IF(ISERROR(MATCH(E9,mees!$D:$D,0)),"*",I9/LOOKUP(E9,mees!$D:$D,mees!$E:$E)) -> 2.3562755 | H9: =IF(ISERROR(MATCH(E9,naine!$D:$D,0)),"*",I9/LOOKUP(E9,naine!$D:$D,naine!$E:$E)) -> 2.1010781 | I9: =J9/$J$2*10000 -> 220.87021 | J9: 1365 | K9: panema | L9: =M9/$M$2*10000 -> 188.92387 | M9: 204 | O9: =IF(ISERROR(MATCH(E9,laps!$D:$D,0)),"ainuesin.",I9/LOOKUP(E9,laps!$D:$D,laps!$E:$E)) -> 1.5265554
A10: kohalik | B10: =IF(ISERROR(MATCH(A10,laps!$A:$A,0)),"*",C10/LOOKUP(A10,laps!$A:$A,laps!$B:$B)) -> 4.3755434 | C10: =D10/$D$2*10000 -> 150.51946 | D10: 1104 | E10: tegema | F10: =IF(ISERROR(MATCH(E10,laps!$D:$D,0)),"*",I10/LOOKUP(E10,laps!$D:$D,laps!$E:$E)) -> 1.3400574 | G10: =IF(ISERROR(MATCH(E10,mees!$D:$D,0)),"*",I10/LOOKUP(E10,mees!$D:$D,mees!$E:$E)) -> 0.95675766 | H10: =IF(ISERROR(MATCH(E10,naine!$D:$D,0)),"*",I10/LOOKUP(E10,naine!$D:$D,naine!$E:$E)) -> 1.1578858 | I10: =J10/$J$2*10000 -> 212.45611 | J10: 1313 | K10: tapma | L10: =M10/$M$2*10000 -> 187.07168 | M10: 202 | O10: =IF(ISERROR(MATCH(E10,laps!$D:$D,0)),"ainuesin.",I10/LOOKUP(E10,laps!$D:$D,laps!$E:$E)) -> 1.3400574
A11: normaalne | B11: =IF(ISERROR(MATCH(A11,laps!$A:$A,0)),"*",C11/LOOKUP(A11,laps!$A:$A,laps!$B:$B)) -> 4.4617464 | C11: =D11/$D$2*10000 -> 147.65631 | D11: 1083 | E11: tundma | F11: =IF(ISERROR(MATCH(E11,laps!$D:$D,0)),"*",I11/LOOKUP(E11,laps!$D:$D,laps!$E:$E)) -> 1.4772986 | G11: =IF(ISERROR(MATCH(E11,mees!$D:$D,0)),"*",I11/LOOKUP(E11,mees!$D:$D,mees!$E:$E)) -> 2.8628425 | H11: =IF(ISERROR(MATCH(E11,naine!$D:$D,0)),"*",I11/LOOKUP(E11,naine!$D:$D,naine!$E:$E)) -> 2.7013447 | I11: =J11/$J$2*10000 -> 192.06809 | J11: 1187 | K11: nägema | L11: =M11/$M$2*10000 -> 185.21949 | M11: 200 | O11: =IF(ISERROR(MATCH(E11,laps!$D:$D,0)),"ainuesin.",I11/LOOKUP(E11,laps!$D:$D,laps!$E:$E)) -> 1.4772986
A12: vana | B12: =IF(ISERROR(MATCH(A12,laps!$A:$A,0)),"*",C12/LOOKUP(A12,laps!$A:$A,laps!$B:$B)) -> 7.1431631 | C12: =D12/$D$2*10000 -> 133.74963 | D12: 981 | E12: hakkama | F12: =IF(ISERROR(MATCH(E12,laps!$D:$D,0)),"*",I12/LOOKUP(E12,laps!$D:$D,laps!$E:$E)) -> 1.1745493 | G12: =IF(ISERROR(MATCH(E12,mees!$D:$D,0)),"*",I12/LOOKUP(E12,mees!$D:$D,mees!$E:$E)) -> 1.8899448 | H12: =IF(ISERROR(MATCH(E12,naine!$D:$D,0)),"*",I12/LOOKUP(E12,naine!$D:$D,naine!$E:$E)) -> 1.8981575 | I12: =J12/$J$2*10000 -> 184.30122 | J12: 1139 | K12: otsima | L12: =M12/$M$2*10000 -> 163.91924 | M12: 177 | O12: =IF(ISERROR(MATCH(E12,laps!$D:$D,0)),"ainuesin.",I12/LOOKUP(E12,laps!$D:$D,laps!$E:$E)) -> 1.1745493
A13: lihtne | B13: =IF(ISERROR(MATCH(A13,laps!$A:$A,0)),"*",C13/LOOKUP(A13,laps!$A:$A,laps!$B:$B)) -> * | C13: =D13/$D$2*10000 -> 120.93366 | D13: 887 | E13: minema | F13: =IF(ISERROR(MATCH(E13,laps!$D:$D,0)),"*",I13/LOOKUP(E13,laps!$D:$D,laps!$E:$E)) -> 0.70337521 | G13: =IF(ISERROR(MATCH(E13,mees!$D:$D,0)),"*",I13/LOOKUP(E13,mees!$D:$D,mees!$E:$E)) -> 0.78470444 | H13: =IF(ISERROR(MATCH(E13,naine!$D:$D,0)),"*",I13/LOOKUP(E13,naine!$D:$D,naine!$E:$E)) -> 0.95719776 | I13: =J13/$J$2*10000 -> 145.62871 | J13: 900 | K13: võtma | L13: =M13/$M$2*10000 -> 134.28413 | M13: 145 | O13: =IF(ISERROR(MATCH(E13,laps!$D:$D,0)),"ainuesin.",I13/LOOKUP(E13,laps!$D:$D,laps!$E:$E)) -> 0.70337521
A14: erinev | B14: =IF(ISERROR(MATCH(A14,laps!$A:$A,0)),"*",C14/LOOKUP(A14,laps!$A:$A,laps!$B:$B)) -> 11.93883 | C14: =D14/$D$2*10000 -> 119.57026 | D14: 877 | E14: jääma | F14: =IF(ISERROR(MATCH(E14,laps!$D:$D,0)),"*",I14/LOOKUP(E14,laps!$D:$D,laps!$E:$E)) -> 0.54834803 | G14: =IF(ISERROR(MATCH(E14,mees!$D:$D,0)),"*",I14/LOOKUP(E14,mees!$D:$D,mees!$E:$E)) -> 0.93223694 | H14: =IF(ISERROR(MATCH(E14,naine!$D:$D,0)),"*",I14/LOOKUP(E14,naine!$D:$D,naine!$E:$E)) -> 0.94949433 | I14: =J14/$J$2*10000 -> 144.81966 | J14: 895 | K14: pidama | L14: =M14/$M$2*10000 -> 131.50583 | M14: 142 | O14: =IF(ISERROR(MATCH(E14,laps!$D:$D,0)),"ainuesin.",I14/LOOKUP(E14,laps!$D:$D,laps!$E:$E)) -> 0.54834803
... A820: kohusetruu | B820: =IF(ISERROR(MATCH(A820,laps!$A:$A,0)),"*",C820/LOOKUP(A820,laps!$A:$A,laps!$B:$B)) -> * | C820: =D820/$D$2*10000 -> 0.95438061 | D820: 7 | E820: riidlema | F820: =IF(ISERROR(MATCH(E820,laps!$D:$D,0)),"*",I820/LOOKUP(E820,laps!$D:$D,laps!$E:$E)) -> 1.1910487 | G820: =IF(ISERROR(MATCH(E820,mees!$D:$D,0)),"*",I820/LOOKUP(E820,mees!$D:$D,mees!$E:$E)) -> 0.6421498 | H820: =IF(ISERROR(MATCH(E820,naine!$D:$D,0)),"*",I820/LOOKUP(E820,naine!$D:$D,naine!$E:$E)) -> 0.25397647 | I820: =J820/$J$2*10000 -> 0.48542904 | J820: 3 | K820: jooksma | L820: =M820/$M$2*10000 -> 0.92609743 | M820: 1 | O820: =IF(ISERROR(MATCH(E820,laps!$D:$D,0)),"ainuesin.",I820/LOOKUP(E820,laps!$D:$D,laps!$E:$E)) -> 1.1910487
A821: kõrvalseisev | B821: =IF(ISERROR(MATCH(A821,laps!$A:$A,0)),"*",C821/LOOKUP(A821,laps!$A:$A,laps!$B:$B)) -> * | C821: =D821/$D$2*10000 -> 0.95438061 | D821: 7 | E821: kisendama | F821: =IF(ISERROR(MATCH(E821,laps!$D:$D,0)),"*",I821/LOOKUP(E821,laps!$D:$D,laps!$E:$E)) -> 0.29776217 | G821: =IF(ISERROR(MATCH(E821,mees!$D:$D,0)),"*",I821/LOOKUP(E821,mees!$D:$D,mees!$E:$E)) -> 0.6421498 | H821: =IF(ISERROR(MATCH(E821,naine!$D:$D,0)),"*",I821/LOOKUP(E821,naine!$D:$D,naine!$E:$E)) -> * | I821: =J821/$J$2*10000 -> 0.48542904 | J821: 3 | O821: =IF(ISERROR(MATCH(E821,laps!$D:$D,0)),"ainuesin.",I821/LOOKUP(E821,laps!$D:$D,laps!$E:$E)) -> 0.29776217
A822: 40-50aastane | B822: =IF(ISERROR(MATCH(A822,laps!$A:$A,0)),"*",C822/LOOKUP(A822,laps!$A:$A,laps!$B:$B)) -> * | C822: =D822/$D$2*10000 -> 0.95438061 | D822: 7 | E822: kiljuma | F822: =IF(ISERROR(MATCH(E822,laps!$D:$D,0)),"*",I822/LOOKUP(E822,laps!$D:$D,laps!$E:$E)) -> 0.17014981 | G822: =IF(ISERROR(MATCH(E822,mees!$D:$D,0)),"*",I822/LOOKUP(E822,mees!$D:$D,mees!$E:$E)) -> * | H822: =IF(ISERROR(MATCH(E822,naine!$D:$D,0)),"*",I822/LOOKUP(E822,naine!$D:$D,naine!$E:$E)) -> 0.04703268 | I822: =J822/$J$2*10000 -> 0.48542904 | J822: 3 | O822: =IF(ISERROR(MATCH(E822,laps!$D:$D,0)),"ainuesin.",I822/LOOKUP(E822,laps!$D:$D,laps!$E:$E)) -> 0.17014981
A823: ebalojaalne | B823: =IF(ISERROR(MATCH(A823,laps!$A:$A,0)),"*",C823/LOOKUP(A823,laps!$A:$A,laps!$B:$B)) -> * | C823: =D823/$D$2*10000 -> 0.95438061 | D823: 7 | E823: oksendama | F823: =IF(ISERROR(MATCH(E823,laps!$D:$D,0)),"*",I823/LOOKUP(E823,laps!$D:$D,laps!$E:$E)) -> 0.19850811 | G823: =IF(ISERROR(MATCH(E823,mees!$D:$D,0)),"*",I823/LOOKUP(E823,mees!$D:$D,mees!$E:$E)) -> 0.85619974 | H823: =IF(ISERROR(MATCH(E823,naine!$D:$D,0)),"*",I823/LOOKUP(E823,naine!$D:$D,naine!$E:$E)) -> 0.63494118 | I823: =J823/$J$2*10000 -> 0.48542904 | J823: 3 | O823: =IF(ISERROR(MATCH(E823,laps!$D:$D,0)),"ainuesin.",I823/LOOKUP(E823,laps!$D:$D,laps!$E:$E)) -> 0.19850811
A824: võimuahne | B824: =IF(ISERROR(MATCH(A824,laps!$A:$A,0)),"*",C824/LOOKUP(A824,laps!$A:$A,laps!$B:$B)) -> * | C824: =D824/$D$2*10000 -> 0.95438061 | D824: 7 | E824: tikkuma | F824: =IF(ISERROR(MATCH(E824,laps!$D:$D,0)),"*",I824/LOOKUP(E824,laps!$D:$D,laps!$E:$E)) -> 0.29776217 | G824: =IF(ISERROR(MATCH(E824,mees!$D:$D,0)),"*",I824/LOOKUP(E824,mees!$D:$D,mees!$E:$E)) -> 0.21404993 | H824: =IF(ISERROR(MATCH(E824,naine!$D:$D,0)),"*",I824/LOOKUP(E824,naine!$D:$D,naine!$E:$E)) -> * | I824: =J824/$J$2*10000 -> 0.48542904 | J824: 3 | O824: =IF(ISERROR(MATCH(E824,laps!$D:$D,0)),"ainuesin.",I824/LOOKUP(E824,laps!$D:$D,laps!$E:$E)) -> 0.29776217
A825: plaaniv | B825: =IF(ISERROR(MATCH(A825,laps!$A:$A,0)),"*",C825/LOOKUP(A825,laps!$A:$A,laps!$B:$B)) -> * | C825: =D825/$D$2*10000 -> 0.95438061 | D825: 7 | E825: kiikama | F825: =IF(ISERROR(MATCH(E825,laps!$D:$D,0)),"*",I825/LOOKUP(E825,laps!$D:$D,laps!$E:$E)) -> 1.1910487 | G825: =IF(ISERROR(MATCH(E825,mees!$D:$D,0)),"*",I825/LOOKUP(E825,mees!$D:$D,mees!$E:$E)) -> 0.3210749 | H825: =IF(ISERROR(MATCH(E825,naine!$D:$D,0)),"*",I825/LOOKUP(E825,naine!$D:$D,naine!$E:$E)) -> * | I825: =J825/$J$2*10000 -> 0.48542904 | J825: 3 | O825: =IF(ISERROR(MATCH(E825,laps!$D:$D,0)),"ainuesin.",I825/LOOKUP(E825,laps!$D:$D,laps!$E:$E)) -> 1.1910487
A826: 20-30aastane | B826: =IF(ISERROR(MATCH(A826,laps!$A:$A,0)),"*",C826/LOOKUP(A826,laps!$A:$A,laps!$B:$B)) -> * | C826: =D826/$D$2*10000 -> 0.95438061 | D826: 7 | E826: võpatama | F826: =IF(ISERROR(MATCH(E826,laps!$D:$D,0)),"*",I826/LOOKUP(E826,laps!$D:$D,laps!$E:$E)) -> 0.39701623 | G826: =IF(ISERROR(MATCH(E826,mees!$D:$D,0)),"*",I826/LOOKUP(E826,mees!$D:$D,mees!$E:$E)) -> 0.23350902 | H826: =IF(ISERROR(MATCH(E826,naine!$D:$D,0)),"*",I826/LOOKUP(E826,naine!$D:$D,naine!$E:$E)) -> 0.18141177 | I826: =J826/$J$2*10000 -> 0.48542904 | J826: 3 | O826: =IF(ISERROR(MATCH(E826,laps!$D:$D,0)),"ainuesin.",I826/LOOKUP(E826,laps!$D:$D,laps!$E:$E)) -> 0.39701623
A827: armastusväärne | B827: =IF(ISERROR(MATCH(A827,laps!$A:$A,0)),"*",C827/LOOKUP(A827,laps!$A:$A,laps!$B:$B)) -> * | C827: =D827/$D$2*10000 -> 0.95438061 | D827: 7 | E827: uinuma | F827: =IF(ISERROR(MATCH(E827,laps!$D:$D,0)),"*",I827/LOOKUP(E827,laps!$D:$D,laps!$E:$E)) -> 0.23820974 | G827: =IF(ISERROR(MATCH(E827,mees!$D:$D,0)),"*",I827/LOOKUP(E827,mees!$D:$D,mees!$E:$E)) -> 0.6421498 | H827: =IF(ISERROR(MATCH(E827,naine!$D:$D,0)),"*",I827/LOOKUP(E827,naine!$D:$D,naine!$E:$E)) -> * | I827: =J827/$J$2*10000 -> 0.48542904 | J827: 3 | O827: =IF(ISERROR(MATCH(E827,laps!$D:$D,0)),"ainuesin.",I827/LOOKUP(E827,laps!$D:$D,laps!$E:$E)) -> 0.23820974
A828: läänemaine | B828: =IF(ISERROR(MATCH(A828,laps!$A:$A,0)),"*",C828/LOOKUP(A828,laps!$A:$A,laps!$B:$B)) -> * | C828: =D828/$D$2*10000 -> 0.95438061 | D828: 7 | E828: varjuma | F828: =IF(ISERROR(MATCH(E828,laps!$D:$D,0)),"*",I828/LOOKUP(E828,laps!$D:$D,laps!$E:$E)) -> 1.1910487 | G828: =IF(ISERROR(MATCH(E828,mees!$D:$D,0)),"*",I828/LOOKUP(E828,mees!$D:$D,mees!$E:$E)) -> 0.6421498 | H828: =IF(ISERROR(MATCH(E828,naine!$D:$D,0)),"*",I828/LOOKUP(E828,naine!$D:$D,naine!$E:$E)) -> * | I828: =J828/$J$2*10000 -> 0.48542904 | J828: 3 | O828: =IF(ISERROR(MATCH(E828,laps!$D:$D,0)),"ainuesin.",I828/LOOKUP(E828,laps!$D:$D,laps!$E:$E)) -> 1.1910487
A829: hääletav | B829: =IF(ISERROR(MATCH(A829,laps!$A:$A,0)),"*",C829/LOOKUP(A829,laps!$A:$A,laps!$B:$B)) -> * | C829: =D829/$D$2*10000 -> 0.95438061 | D829: 7 | E829: heitlema | F829: =IF(ISERROR(MATCH(E829,laps!$D:$D,0)),"*",I829/LOOKUP(E829,laps!$D:$D,laps!$E:$E)) -> 1.1910487 | G829: =IF(ISERROR(MATCH(E829,mees!$D:$D,0)),"*",I829/LOOKUP(E829,mees!$D:$D,mees!$E:$E)) -> 0.36694274 | H829: =IF(ISERROR(MATCH(E829,naine!$D:$D,0)),"*",I829/LOOKUP(E829,naine!$D:$D,naine!$E:$E)) -> 0.63494118 | I829: =J829/$J$2*10000 -> 0.48542904 | J829: 3 | O829: =IF(ISERROR(MATCH(E829,laps!$D:$D,0)),"ainuesin.",I829/LOOKUP(E829,laps!$D:$D,laps!$E:$E)) -> 1.1910487
A830: imetore | B830: =IF(ISERROR(MATCH(A830,laps!$A:$A,0)),"*",C830/LOOKUP(A830,laps!$A:$A,laps!$B:$B)) -> * | C830: =D830/$D$2*10000 -> 0.95438061 | D830: 7 | E830: rühkima | F830: =IF(ISERROR(MATCH(E830,laps!$D:$D,0)),"*",I830/LOOKUP(E830,laps!$D:$D,laps!$E:$E)) -> 1.1910487 | G830: =IF(ISERROR(MATCH(E830,mees!$D:$D,0)),"*",I830/LOOKUP(E830,mees!$D:$D,mees!$E:$E)) -> 0.42809987 | H830: =IF(ISERROR(MATCH(E830,naine!$D:$D,0)),"*",I830/LOOKUP(E830,naine!$D:$D,naine!$E:$E)) -> * | I830: =J830/$J$2*10000 -> 0.48542904 | J830: 3 | O830: =IF(ISERROR(MATCH(E830,laps!$D:$D,0)),"ainuesin.",I830/LOOKUP(E830,laps!$D:$D,laps!$E:$E)) -> 1.1910487
A831: naerev | B831: =IF(ISERROR(MATCH(A831,laps!$A:$A,0)),"*",C831/LOOKUP(A831,laps!$A:$A,laps!$B:$B)) -> * | C831: =D831/$D$2*10000 -> 0.95438061 | D831: 7 | E831: eristuma | F831: =IF(ISERROR(MATCH(E831,laps!$D:$D,0)),"*",I831/LOOKUP(E831,laps!$D:$D,laps!$E:$E)) -> 0.59552434 | G831: =IF(ISERROR(MATCH(E831,mees!$D:$D,0)),"*",I831/LOOKUP(E831,mees!$D:$D,mees!$E:$E)) -> * | H831: =IF(ISERROR(MATCH(E831,naine!$D:$D,0)),"*",I831/LOOKUP(E831,naine!$D:$D,naine!$E:$E)) -> * | I831: =J831/$J$2*10000 -> 0.48542904 | J831: 3 | O831: =IF(ISERROR(MATCH(E831,laps!$D:$D,0)),"ainuesin.",I831/LOOKUP(E831,laps!$D:$D,laps!$E:$E)) -> 0.59552434
A832: protestiv | B832: =IF(ISERROR(MATCH(A832,laps!$A:$A,0)),"*",C832/LOOKUP(A832,laps!$A:$A,laps!$B:$B)) -> * | C832: =D832/$D$2*10000 -> 0.95438061 | D832: 7 | E832: irvitama | F832: =IF(ISERROR(MATCH(E832,laps!$D:$D,0)),"*",I832/LOOKUP(E832,laps!$D:$D,laps!$E:$E)) -> 1.1910487 | G832: =IF(ISERROR(MATCH(E832,mees!$D:$D,0)),"*",I832/LOOKUP(E832,mees!$D:$D,mees!$E:$E)) -> 0.23350902 | H832: =IF(ISERROR(MATCH(E832,naine!$D:$D,0)),"*",I832/LOOKUP(E832,naine!$D:$D,naine!$E:$E)) -> * | I832: =J832/$J$2*10000 -> 0.48542904 | J832: 3 | O832: =IF(ISERROR(MATCH(E832,laps!$D:$D,0)),"ainuesin.",I832/LOOKUP(E832,laps!$D:$D,laps!$E:$E)) -> 1.1910487
... A973: samaealine | B973: =IF(ISERROR(MATCH(A973,laps!$A:$A,0)),"*",C973/LOOKUP(A973,laps!$A:$A,laps!$B:$B)) -> 0.14451 | C973: =D973/$D$2*10000 -> 0.81804052 | D973: 6 | E973: mõmisema | F973: =IF(ISERROR(MATCH(E973,laps!$D:$D,0)),"*",I973/LOOKUP(E973,laps!$D:$D,laps!$E:$E)) -> 0.79403246 | G973: =IF(ISERROR(MATCH(E973,mees!$D:$D,0)),"*",I973/LOOKUP(E973,mees!$D:$D,mees!$E:$E)) -> 0.28539991 | H973: =IF(ISERROR(MATCH(E973,naine!$D:$D,0)),"*",I973/LOOKUP(E973,naine!$D:$D,naine!$E:$E)) -> * | I973: =J973/$J$2*10000 -> 0.32361936 | J973: 2 | O973: =IF(ISERROR(MATCH(E973,laps!$D:$D,0)),"ainuesin.",I973/LOOKUP(E973,laps!$D:$D,laps!$E:$E)) -> 0.79403246
A974: tantsiv | B974: =IF(ISERROR(MATCH(A974,laps!$A:$A,0)),"*",C974/LOOKUP(A974,laps!$A:$A,laps!$B:$B)) -> 0.62621002 | C974: =D974/$D$2*10000 -> 0.81804052 | D974: 6 | E974: kihistama | F974: =IF(ISERROR(MATCH(E974,laps!$D:$D,0)),"*",I974/LOOKUP(E974,laps!$D:$D,laps!$E:$E)) -> 0.79403246 | G974: =IF(ISERROR(MATCH(E974,mees!$D:$D,0)),"*",I974/LOOKUP(E974,mees!$D:$D,mees!$E:$E)) -> * | H974: =IF(ISERROR(MATCH(E974,naine!$D:$D,0)),"*",I974/LOOKUP(E974,naine!$D:$D,naine!$E:$E)) -> 0.21164706 | I974: =J974/$J$2*10000 -> 0.32361936 | J974: 2 | O974: =IF(ISERROR(MATCH(E974,laps!$D:$D,0)),-1,I974/LOOKUP(E974,laps!$D:$D,laps!$E:$E)) -> 0.79403246
A975: valgenahaline | B975: =IF(ISERROR(MATCH(A975,laps!$A:$A,0)),"*",C975/LOOKUP(A975,laps!$A:$A,laps!$B:$B)) -> 0.62621002 | C975: =D975/$D$2*10000 -> 0.81804052 | D975: 6 | E975: konutama | F975: =IF(ISERROR(MATCH(E975,laps!$D:$D,0)),"*",I975/LOOKUP(E975,laps!$D:$D,laps!$E:$E)) -> 0.26467749 | G975: =IF(ISERROR(MATCH(E975,mees!$D:$D,0)),"*",I975/LOOKUP(E975,mees!$D:$D,mees!$E:$E)) -> 0.28539991 | H975: =IF(ISERROR(MATCH(E975,naine!$D:$D,0)),"*",I975/LOOKUP(E975,naine!$D:$D,naine!$E:$E)) -> * | I975: =J975/$J$2*10000 -> 0.32361936 | J975: 2 | O975: =IF(ISERROR(MATCH(E975,laps!$D:$D,0)),-1,I975/LOOKUP(E975,laps!$D:$D,laps!$E:$E)) -> 0.26467749
A976: vagur | B976: =IF(ISERROR(MATCH(A976,laps!$A:$A,0)),"*",C976/LOOKUP(A976,laps!$A:$A,laps!$B:$B)) -> 0.62621002 | C976: =D976/$D$2*10000 -> 0.81804052 | D976: 6 | E976: surfama | F976: =IF(ISERROR(MATCH(E976,laps!$D:$D,0)),"*",I976/LOOKUP(E976,laps!$D:$D,laps!$E:$E)) -> 0.26467749 | G976: =IF(ISERROR(MATCH(E976,mees!$D:$D,0)),"*",I976/LOOKUP(E976,mees!$D:$D,mees!$E:$E)) -> * | H976: =IF(ISERROR(MATCH(E976,naine!$D:$D,0)),"*",I976/LOOKUP(E976,naine!$D:$D,naine!$E:$E)) -> * | I976: =J976/$J$2*10000 -> 0.32361936 | J976: 2 | O976: =IF(ISERROR(MATCH(E976,laps!$D:$D,0)),-1,I976/LOOKUP(E976,laps!$D:$D,laps!$E:$E)) -> 0.26467749
A977: tõbine | B977: =IF(ISERROR(MATCH(A977,laps!$A:$A,0)),"*",C977/LOOKUP(A977,laps!$A:$A,laps!$B:$B)) -> 0.26837572 | C977: =D977/$D$2*10000 -> 0.81804052 | D977: 6 | E977: suvitama | F977: =IF(ISERROR(MATCH(E977,laps!$D:$D,0)),"*",I977/LOOKUP(E977,laps!$D:$D,laps!$E:$E)) -> 0.26467749 | G977: =IF(ISERROR(MATCH(E977,mees!$D:$D,0)),"*",I977/LOOKUP(E977,mees!$D:$D,mees!$E:$E)) -> * | H977: =IF(ISERROR(MATCH(E977,naine!$D:$D,0)),"*",I977/LOOKUP(E977,naine!$D:$D,naine!$E:$E)) -> * | I977: =J977/$J$2*10000 -> 0.32361936 | J977: 2 | O977: =IF(ISERROR(MATCH(E977,laps!$D:$D,0)),-1,I977/LOOKUP(E977,laps!$D:$D,laps!$E:$E)) -> 0.26467749
A978: südamehaige | B978: =IF(ISERROR(MATCH(A978,laps!$A:$A,0)),"*",C978/LOOKUP(A978,laps!$A:$A,laps!$B:$B)) -> 0.20873667 | C978: =D978/$D$2*10000 -> 0.81804052 | D978: 6 | E978: narrima | F978: =IF(ISERROR(MATCH(E978,laps!$D:$D,0)),"*",I978/LOOKUP(E978,laps!$D:$D,laps!$E:$E)) -> 0.19850811 | G978: =IF(ISERROR(MATCH(E978,mees!$D:$D,0)),"*",I978/LOOKUP(E978,mees!$D:$D,mees!$E:$E)) -> * | H978: =IF(ISERROR(MATCH(E978,naine!$D:$D,0)),"*",I978/LOOKUP(E978,naine!$D:$D,naine!$E:$E)) -> * | I978: =J978/$J$2*10000 -> 0.32361936 | J978: 2 | O978: =IF(ISERROR(MATCH(E978,laps!$D:$D,0)),-1,I978/LOOKUP(E978,laps!$D:$D,laps!$E:$E)) -> 0.19850811
A979: isepäine | B979: =IF(ISERROR(MATCH(A979,laps!$A:$A,0)),"*",C979/LOOKUP(A979,laps!$A:$A,laps!$B:$B)) -> 0.93931503 | C979: =D979/$D$2*10000 -> 0.81804052 | D979: 6 | E979: himustama | F979: =IF(ISERROR(MATCH(E979,laps!$D:$D,0)),"*",I979/LOOKUP(E979,laps!$D:$D,laps!$E:$E)) -> 0.39701623 | G979: =IF(ISERROR(MATCH(E979,mees!$D:$D,0)),"*",I979/LOOKUP(E979,mees!$D:$D,mees!$E:$E)) -> 0.57079983 | H979: =IF(ISERROR(MATCH(E979,naine!$D:$D,0)),"*",I979/LOOKUP(E979,naine!$D:$D,naine!$E:$E)) -> * | I979: =J979/$J$2*10000 -> 0.32361936 | J979: 2
A980: moekas | B980: =IF(ISERROR(MATCH(A980,laps!$A:$A,0)),"*",C980/LOOKUP(A980,laps!$A:$A,laps!$B:$B)) -> 0.93931503 | C980: =D980/$D$2*10000 -> 0.81804052 | D980: 6 | E980: asetuma | F980: =IF(ISERROR(MATCH(E980,laps!$D:$D,0)),"*",I980/LOOKUP(E980,laps!$D:$D,laps!$E:$E)) -> 0.26467749 | G980: =IF(ISERROR(MATCH(E980,mees!$D:$D,0)),"*",I980/LOOKUP(E980,mees!$D:$D,mees!$E:$E)) -> * | H980: =IF(ISERROR(MATCH(E980,naine!$D:$D,0)),"*",I980/LOOKUP(E980,naine!$D:$D,naine!$E:$E)) -> * | I980: =J980/$J$2*10000 -> 0.32361936 | J980: 2
A981: kakskeelne | B981: =IF(ISERROR(MATCH(A981,laps!$A:$A,0)),"*",C981/LOOKUP(A981,laps!$A:$A,laps!$B:$B)) -> 0.37572601 | C981: =D981/$D$2*10000 -> 0.81804052 | D981: 6 | E981: luusima | F981: =IF(ISERROR(MATCH(E981,laps!$D:$D,0)),"*",I981/LOOKUP(E981,laps!$D:$D,laps!$E:$E)) -> 0.26467749 | G981: =IF(ISERROR(MATCH(E981,mees!$D:$D,0)),"*",I981/LOOKUP(E981,mees!$D:$D,mees!$E:$E)) -> * | H981: =IF(ISERROR(MATCH(E981,naine!$D:$D,0)),"*",I981/LOOKUP(E981,naine!$D:$D,naine!$E:$E)) -> * | I981: =J981/$J$2*10000 -> 0.32361936 | J981: 2
A982: lõpetav | B982: =IF(ISERROR(MATCH(A982,laps!$A:$A,0)),"*",C982/LOOKUP(A982,laps!$A:$A,laps!$B:$B)) -> 0.31310501 | C982: =D982/$D$2*10000 -> 0.81804052 | D982: 6 | E982: libastuma | F982: =IF(ISERROR(MATCH(E982,laps!$D:$D,0)),"*",I982/LOOKUP(E982,laps!$D:$D,laps!$E:$E)) -> 0.79403246 | G982: =IF(ISERROR(MATCH(E982,mees!$D:$D,0)),"*",I982/LOOKUP(E982,mees!$D:$D,mees!$E:$E)) -> 0.2446285 | H982: =IF(ISERROR(MATCH(E982,naine!$D:$D,0)),"*",I982/LOOKUP(E982,naine!$D:$D,naine!$E:$E)) -> 0.28219608 | I982: =J982/$J$2*10000 -> 0.32361936 | J982: 2
A983: segav | B983: =IF(ISERROR(MATCH(A983,laps!$A:$A,0)),"*",C983/LOOKUP(A983,laps!$A:$A,laps!$B:$B)) -> 0.62621002 | C983: =D983/$D$2*10000 -> 0.81804052 | D983: 6 | E983: ülehindama | F983: =IF(ISERROR(MATCH(E983,laps!$D:$D,0)),"*",I983/LOOKUP(E983,laps!$D:$D,laps!$E:$E)) -> 0.79403246 | G983: =IF(ISERROR(MATCH(E983,mees!$D:$D,0)),"*",I983/LOOKUP(E983,mees!$D:$D,mees!$E:$E)) -> * | H983: =IF(ISERROR(MATCH(E983,naine!$D:$D,0)),"*",I983/LOOKUP(E983,naine!$D:$D,naine!$E:$E)) -> * | I983: =J983/$J$2*10000 -> 0.32361936 | J983: 2
A984: erisugune | B984: =IF(ISERROR(MATCH(A984,laps!$A:$A,0)),"*",C984/LOOKUP(A984,laps!$A:$A,laps!$B:$B)) -> 0.93931503 | C984: =D984/$D$2*10000 -> 0.81804052 | D984: 6 | E984: lohisema | F984: =IF(ISERROR(MATCH(E984,laps!$D:$D,0)),"*",I984/LOOKUP(E984,laps!$D:$D,laps!$E:$E)) -> 0.79403246 | G984: =IF(ISERROR(MATCH(E984,mees!$D:$D,0)),"*",I984/LOOKUP(E984,mees!$D:$D,mees!$E:$E)) -> * | H984: =IF(ISERROR(MATCH(E984,naine!$D:$D,0)),"*",I984/LOOKUP(E984,naine!$D:$D,naine!$E:$E)) -> * | I984: =J984/$J$2*10000 -> 0.32361936 | J984: 2
A985: sündiv | B985: =IF(ISERROR(MATCH(A985,laps!$A:$A,0)),"*",C985/LOOKUP(A985,laps!$A:$A,laps!$B:$B)) -> 0.0066382687 | C985: =D985/$D$2*10000 -> 0.81804052 | D985: 6 | E985: voolima | F985: =IF(ISERROR(MATCH(E985,laps!$D:$D,0)),"*",I985/LOOKUP(E985,laps!$D:$D,laps!$E:$E)) -> 0.19850811 | G985: =IF(ISERROR(MATCH(E985,mees!$D:$D,0)),"*",I985/LOOKUP(E985,mees!$D:$D,mees!$E:$E)) -> * | H985: =IF(ISERROR(MATCH(E985,naine!$D:$D,0)),"*",I985/LOOKUP(E985,naine!$D:$D,naine!$E:$E)) -> * | I985: =J985/$J$2*10000 -> 0.32361936 | J985: 2
A986: hulkuv | B986: =IF(ISERROR(MATCH(A986,laps!$A:$A,0)),"*",C986/LOOKUP(A986,laps!$A:$A,laps!$B:$B)) -> 0.049437633 | C986: =D986/$D$2*10000 -> 0.81804052 | D986: 6 | E986: naelutama | F986: =IF(ISERROR(MATCH(E986,laps!$D:$D,0)),"*",I986/LOOKUP(E986,laps!$D:$D,laps!$E:$E)) -> 0.39701623 | G986: =IF(ISERROR(MATCH(E986,mees!$D:$D,0)),"*",I986/LOOKUP(E986,mees!$D:$D,mees!$E:$E)) -> * | H986: =IF(ISERROR(MATCH(E986,naine!$D:$D,0)),"*",I986/LOOKUP(E986,naine!$D:$D,naine!$E:$E)) -> * | I986: =J986/$J$2*10000 -> 0.32361936 | J986: 2
A987: 26aastane | B987: =IF(ISERROR(MATCH(A987,laps!$A:$A,0)),"*",C987/LOOKUP(A987,laps!$A:$A,laps!$B:$B)) -> 0.46965751 | C987: =D987/$D$2*10000 -> 0.81804052 | D987: 6 | E987: sportima | F987: =IF(ISERROR(MATCH(E987,laps!$D:$D,0)),"*",I987/LOOKUP(E987,laps!$D:$D,laps!$E:$E)) -> 0.26467749 | G987: =IF(ISERROR(MATCH(E987,mees!$D:$D,0)),"*",I987/LOOKUP(E987,mees!$D:$D,mees!$E:$E)) -> * | H987: =IF(ISERROR(MATCH(E987,naine!$D:$D,0)),"*",I987/LOOKUP(E987,naine!$D:$D,naine!$E:$E)) -> * | I987: =J987/$J$2*10000 -> 0.32361936 | J987: 2
A988: arenev | B988: =IF(ISERROR(MATCH(A988,laps!$A:$A,0)),"*",C988/LOOKUP(A988,laps!$A:$A,laps!$B:$B)) -> 0.26837572 | C988: =D988/$D$2*10000 -> 0.81804052 | D988: 6 | E988: sulanduma | F988: =IF(ISERROR(MATCH(E988,laps!$D:$D,0)),"*",I988/LOOKUP(E988,laps!$D:$D,laps!$E:$E)) -> 0.79403246 | G988: =IF(ISERROR(MATCH(E988,mees!$D:$D,0)),"*",I988/LOOKUP(E988,mees!$D:$D,mees!$E:$E)) -> * | H988: =IF(ISERROR(MATCH(E988,naine!$D:$D,0)),"*",I988/LOOKUP(E988,naine!$D:$D,naine!$E:$E)) -> * | I988: =J988/$J$2*10000 -> 0.32361936 | J988: 2
A989: tüüpiline | B989: =IF(ISERROR(MATCH(A989,laps!$A:$A,0)),"*",C989/LOOKUP(A989,laps!$A:$A,laps!$B:$B)) -> 0.62621002 | C989: =D989/$D$2*10000 -> 0.81804052 | D989: 6 | E989: kisama | F989: =IF(ISERROR(MATCH(E989,laps!$D:$D,0)),"*",I989/LOOKUP(E989,laps!$D:$D,laps!$E:$E)) -> 0.056716604 | G989: =IF(ISERROR(MATCH(E989,mees!$D:$D,0)),"*",I989/LOOKUP(E989,mees!$D:$D,mees!$E:$E)) -> * | H989: =IF(ISERROR(MATCH(E989,naine!$D:$D,0)),"*",I989/LOOKUP(E989,naine!$D:$D,naine!$E:$E)) -> 0.21164706 | I989: =J989/$J$2*10000 -> 0.32361936 | J989: 2
A990: sisemine | B990: =IF(ISERROR(MATCH(A990,laps!$A:$A,0)),"*",C990/LOOKUP(A990,laps!$A:$A,laps!$B:$B)) -> 0.37572601 | C990: =D990/$D$2*10000 -> 0.81804052 | D990: 6 | E990: lõbutsema | F990: =IF(ISERROR(MATCH(E990,laps!$D:$D,0)),"*",I990/LOOKUP(E990,laps!$D:$D,laps!$E:$E)) -> 0.26467749 | G990: =IF(ISERROR(MATCH(E990,mees!$D:$D,0)),"*",I990/LOOKUP(E990,mees!$D:$D,mees!$E:$E)) -> * | H990: =IF(ISERROR(MATCH(E990,naine!$D:$D,0)),"*",I990/LOOKUP(E990,naine!$D:$D,naine!$E:$E)) -> * | I990: =J990/$J$2*10000 -> 0.32361936 | J990: 2
... A1001: mittekõnelev | B1001: =IF(ISERROR(MATCH(A1001,laps!$A:$A,0)),"*",C1001/LOOKUP(A1001,laps!$A:$A,laps!$B:$B)) -> 0.78276252 | C1001: =D1001/$D$2*10000 -> 0.68170043 | D1001: 5 | E1001: kuduma | F1001: =IF(ISERROR(MATCH(E1001,laps!$D:$D,0)),"*",I1001/LOOKUP(E1001,laps!$D:$D,laps!$E:$E)) -> 0.39701623 | G1001: =IF(ISERROR(MATCH(E1001,mees!$D:$D,0)),"*",I1001/LOOKUP(E1001,mees!$D:$D,mees!$E:$E)) -> * | H1001: =IF(ISERROR(MATCH(E1001,naine!$D:$D,0)),"*",I1001/LOOKUP(E1001,naine!$D:$D,naine!$E:$E)) -> 0.060470589 | I1001: =J1001/$J$2*10000 -> 0.32361936 | J1001: 2

Sheet laps
A1: Adj_modifier | C1: 22965 | D1: subject_of | F1: 24536 | G1: object_of | I1: 5594
A2: 0-15aastane | B2: =C2/$C$1*10000 -> 0.87089049 | C2: 2 | D2: abistama | E2: =F2/$F$1*10000 -> 0.81512879 | F2: 2 | G2: abistama | H2: =I2/$I$1*10000 -> 17.876296 | I2: 10
A3: 0-18aastane | B3: =C3/$C$1*10000 -> 0.43544524 | C3: 1 | D3: adapteeruma | E3: =F3/$F$1*10000 -> 0.4075644 | F3: 1 | G3: adopteerima | H3: =I3/$I$1*10000 -> 37.540222 | I3: 21
A4: 0-3aastane | B4: =C4/$C$1*10000 -> 1.3063357 | C4: 3 | D4: aduma | E4: =F4/$F$1*10000 -> 1.2226932 | F4: 3 | G4: ahistama | H4: =I4/$I$1*10000 -> 17.876296 | I4: 10
A5: 0-4aastane | B5: =C5/$C$1*10000 -> 0.87089049 | C5: 2 | D5: aelema | E5: =F5/$F$1*10000 -> 0.4075644 | F5: 1 | G5: ahvatlema | H5: =I5/$I$1*10000 -> 7.1505184 | I5: 4
A6: 10-11aastane | B6: =C6/$C$1*10000 -> 3.4835619 | C6: 8 | D6: aerutama | E6: =F6/$F$1*10000 -> 0.4075644 | F6: 1 | G6: aidati-koolitama | H6: =I6/$I$1*10000 -> 1.7876296 | I6: 1
A7: 10-12aastane | B7: =C7/$C$1*10000 -> 11.321576 | C7: 26 | D7: aevastama | E7: =F7/$F$1*10000 -> 0.4075644 | F7: 1 | G7: aitama | H7: =I7/$I$1*10000 -> 103.68252 | I7: 58
A8: 10-13aastane | B8: =C8/$C$1*10000 -> 2.1772262 | C8: 5 | D8: ahhetama | E8: =F8/$F$1*10000 -> 0.4075644 | F8: 1 | G8: ajama | H8: =I8/$I$1*10000 -> 33.964962 | I8: 19
A9: 10-14aastane | B9: =C9/$C$1*10000 -> 6.0962334 | C9: 14 | D9: ahmima | E9: =F9/$F$1*10000 -> 1.6302576 | F9: 4 | G9: ajendama | H9: =I9/$I$1*10000 -> 1.7876296 | I9: 1
A10: 10-15aastane | B10: =C10/$C$1*10000 -> 10.015241 | C10: 23 | D10: aimama | E10: =F10/$F$1*10000 -> 1.2226932 | F10: 3 | G10: aktiviseerima | H10: =I10/$I$1*10000 -> 3.5752592 | I10: 2
A11: 10-16aastane | B11: =C11/$C$1*10000 -> 3.0481167 | C11: 7 | D11: aitama | E11: =F11/$F$1*10000 -> 19.970655 | F11: 49 | G11: alahindama | H11: =I11/$I$1*10000 -> 5.3628888 | I11: 3
A12: 10aastane | B12: =C12/$C$1*10000 -> 74.461137 | C12: 171 | D12: ajama | E12: =F12/$F$1*10000 -> 13.857189 | F12: 34 | G12: alandama | H12: =I12/$I$1*10000 -> 1.7876296 | I12: 1
A13: 10kuine | B13: =C13/$C$1*10000 -> 0.87089049 | C13: 2 | D13: aktsepteerima | E13: =F13/$F$1*10000 -> 1.2226932 | F13: 3 | G13: alavääristama | H13: =I13/$I$1*10000 -> 1.7876296 | I13: 1
... A545: mittetundev | B545: =C545/$C$1*10000 -> 0.87089049 | C545: 2 | D545: osalema | E545: =F545/$F$1*10000 -> 18.340398 | F545: 45 | G545: üritama | H545: =I545/$I$1*10000 -> 12.513407 | I545: 7
A546: mittetäitev | B546: =C546/$C$1*10000 -> 4.7898977 | C546: 11 | D546: osatama | E546: =F546/$F$1*10000 -> 0.4075644 | F546: 1
A547: mitteõppiv | B547: =C547/$C$1*10000 -> 2.1772262 | C547: 5 | D547: oskama | E547: =F547/$F$1*10000 -> 87.218781 | F547: 214
A548: moekas | B548: =C548/$C$1*10000 -> 0.87089049 | C548: 2 | D548: ostma | E548: =F548/$F$1*10000 -> 11.004239 | F548: 27
A549: murdeealine | B549: =C549/$C$1*10000 -> 4.7898977 | C549: 11 | D549: osutama | E549: =F549/$F$1*10000 -> 0.81512879 | F549: 2
A550: musikaalne | B550: =C550/$C$1*10000 -> 3.9190072 | C550: 9 | D550: osutuma | E550: =F550/$F$1*10000 -> 5.2983371 | F550: 13
A551: must | B551: =C551/$C$1*10000 -> 3.0481167 | C551: 7 | D551: otsima | E551: =F551/$F$1*10000 -> 20.37822 | F551: 50
A552: mustanahaline | B552: =C552/$C$1*10000 -> 7.8380144 | C552: 18 | D552: otsustama | E552: =F552/$F$1*10000 -> 11.004239 | F552: 27
A553: muukeelne | B553: =C553/$C$1*10000 -> 37.883736 | C553: 87 | D553: paastuma | E553: =F553/$F$1*10000 -> 0.4075644 | F553: 1
A554: muusikahuviline | B554: =C554/$C$1*10000 -> 0.87089049 | C554: 2 | D554: pabistama | E554: =F554/$F$1*10000 -> 0.81512879 | F554: 2
A555: muutuv | B555: =C555/$C$1*10000 -> 1.741781 | C555: 4 | D555: pagema | E555: =F555/$F$1*10000 -> 0.81512879 | F555: 2
A556: mõistlik | B556: =C556/$C$1*10000 -> 1.3063357 | C556: 3 | D556: pahandama | E556: =F556/$F$1*10000 -> 0.81512879 | F556: 2
A557: mõistmatu | B557: =C557/$C$1*10000 -> 3.9190072 | C557: 9 | D557: pahvatama | E557: =F557/$F$1*10000 -> 0.4075644 | F557: 1
... A1000: ümberkaudne | B1000: =C1000/$C$1*10000 -> 10.886131 | C1000: 25 | D1000: ütlema | E1000: =F1000/$F$1*10000 -> 63.98761 | F1000: 157

Sheet laps (2)
A1: Adj_modifier | B1: erinevus paarikust | C1: normaliseeritud koosesinemissagedus | D1: absoluutne koosesinemissagedus | E1: subject_of | F1: erinevus paarikust | H1: normaliseeritud koosesinemissagedus | I1: absoluutne koosesinemissagedus | J1: object_of | K1: normaliseeritud koosesinemissagedus | L1: absoluutne koosesinemissagedus
D2: 22965 | G2: võrdlus poisiga | I2: 24536 | J2: object_of | L2: 5594
A3: väike | B3: =IF(ISERROR(MATCH(A3,inimene!$A:$A,0)),"*",C3/LOOKUP(A3,inimene!$A:$A,inimene!$B:$B)) -> 14.473245 | C3: =D3/$D$2*10000 -> 1247.1152 | D3: 2864 | E3: saama | F3: =IF(ISERROR(MATCH(E3,inimene!$D:$D,0)),"*",H3/LOOKUP(E3,inimene!$D:$D,inimene!$E:$E)) -> 1.4918944 | G3: =IF(ISERROR(MATCH(E3,poiss!$D:$D,0)),"*",H3/LOOKUP(E3,poiss!$D:$D,poiss!$E:$E)) -> 2.1144668 | H3: =I3/$I$2*10000 -> 1311.5422 | I3: 3218 | J3: ootama | K3: =L3/$L$2*10000 -> 564.89095 | L3: 316
A4: alaealine | B4: =IF(ISERROR(MATCH(A4,inimene!$A:$A,0)),"*",C4/LOOKUP(A4,inimene!$A:$A,inimene!$B:$B)) -> * | C4: =D4/$D$2*10000 -> 265.6216 | D4: 610 | E4: pidama | F4: =IF(ISERROR(MATCH(E4,inimene!$D:$D,0)),"*",H4/LOOKUP(E4,inimene!$D:$D,inimene!$E:$E)) -> 0.71830119 | G4: =IF(ISERROR(MATCH(E4,poiss!$D:$D,0)),"*",H4/LOOKUP(E4,poiss!$D:$D,poiss!$E:$E)) -> 1.672737 | H4: =I4/$I$2*10000 -> 432.83339 | I4: 1062 | J4: saama | K4: =L4/$L$2*10000 -> 504.11155 | L4: 282
A5: hea | B5: =IF(ISERROR(MATCH(A5,inimene!$A:$A,0)),"*",C5/LOOKUP(A5,inimene!$A:$A,inimene!$B:$B)) -> 1.2390949 | C5: =D5/$D$2*10000 -> 244.28478 | D5: 561 | E5: sündima | F5: =IF(ISERROR(MATCH(E5,inimene!$D:$D,0)),"*",H5/LOOKUP(E5,inimene!$D:$D,inimene!$E:$E)) -> 19.234387 | G5: =IF(ISERROR(MATCH(E5,poiss!$D:$D,0)),"*",H5/LOOKUP(E5,poiss!$D:$D,poiss!$E:$E)) -> 4.0273632 | H5: =I5/$I$2*10000 -> 342.35409 | I5: 840 | J5: kasvatama | K5: =L5/$L$2*10000 -> 425.45585 | L5: 238
A6: aastane | B6: =IF(ISERROR(MATCH(A6,inimene!$A:$A,0)),"*",C6/LOOKUP(A6,inimene!$A:$A,inimene!$B:$B)) -> 33.535075 | C6: =D6/$D$2*10000 -> 201.1757 | D6: 462 | E6: käima | F6: =IF(ISERROR(MATCH(E6,inimene!$D:$D,0)),"*",H6/LOOKUP(E6,inimene!$D:$D,inimene!$E:$E)) -> 2.302451 | G6: =IF(ISERROR(MATCH(E6,poiss!$D:$D,0)),"*",H6/LOOKUP(E6,poiss!$D:$D,poiss!$E:$E)) -> 1.6668809 | H6: =I6/$I$2*10000 -> 303.63547 | I6: 745 | J6: õpetama | K6: =L6/$L$2*10000 -> 348.58777 | L6: 195
A7: haige | B7: =IF(ISERROR(MATCH(A7,inimene!$A:$A,0)),"*",C7/LOOKUP(A7,inimene!$A:$A,inimene!$B:$B)) -> 2.3094618 | C7: =D7/$D$2*10000 -> 178.53255 | D7: 410 | E7: õppima | F7: =IF(ISERROR(MATCH(E7,inimene!$D:$D,0)),"*",H7/LOOKUP(E7,inimene!$D:$D,inimene!$E:$E)) -> 5.1968984 | G7: =IF(ISERROR(MATCH(E7,poiss!$D:$D,0)),"*",H7/LOOKUP(E7,poiss!$D:$D,poiss!$E:$E)) -> 2.9886391 | H7: =I7/$I$2*10000 -> 279.18161 | I7: 685 | J7: viima | K7: =L7/$L$2*10000 -> 321.77333 | L7: 180
A8: kolmeaastane | B8: =IF(ISERROR(MATCH(A8,inimene!$A:$A,0)),"*",C8/LOOKUP(A8,inimene!$A:$A,inimene!$B:$B)) -> * | C8: =D8/$D$2*10000 -> 173.74265 | D8: 399 | E8: tulema | F8: =IF(ISERROR(MATCH(E8,inimene!$D:$D,0)),"*",H8/LOOKUP(E8,inimene!$D:$D,inimene!$E:$E)) -> 1.0878753 | G8: =IF(ISERROR(MATCH(E8,poiss!$D:$D,0)),"*",H8/LOOKUP(E8,poiss!$D:$D,poiss!$E:$E)) -> 1.1069034 | H8: =I8/$I$2*10000 -> 279.18161 | I8: 685 | J8: tahtma | K8: =L8/$L$2*10000 -> 260.99392 | L8: 146
A9: elav | B9: =IF(ISERROR(MATCH(A9,inimene!$A:$A,0)),"*",C9/LOOKUP(A9,inimene!$A:$A,inimene!$B:$B)) -> 0.47036459 | C9: =D9/$D$2*10000 -> 149.35772 | D9: 343 | E9: võima | F9: =IF(ISERROR(MATCH(E9,inimene!$D:$D,0)),"*",H9/LOOKUP(E9,inimene!$D:$D,inimene!$E:$E)) -> 0.81978276 | G9: =IF(ISERROR(MATCH(E9,poiss!$D:$D,0)),"*",H9/LOOKUP(E9,poiss!$D:$D,poiss!$E:$E)) -> 2.7248025 | H9: =I9/$I$2*10000 -> 269.80763 | I9: 662 | J9: hoidma | K9: =L9/$L$2*10000 -> 228.81659 | L9: 128
A10: terve | B10: =IF(ISERROR(MATCH(A10,inimene!$A:$A,0)),"*",C10/LOOKUP(A10,inimene!$A:$A,inimene!$B:$B)) -> 1.4714061 | C10: =D10/$D$2*10000 -> 148.05138 | D10: 340 | E10: jääma | F10: =IF(ISERROR(MATCH(E10,inimene!$D:$D,0)),"*",H10/LOOKUP(E10,inimene!$D:$D,inimene!$E:$E)) -> 1.8236593 | G10: =IF(ISERROR(MATCH(E10,poiss!$D:$D,0)),"*",H10/LOOKUP(E10,poiss!$D:$D,poiss!$E:$E)) -> 1.4065716 | H10: =I10/$I$2*10000 -> 264.10173 | I10: 648 | J10: toimetama | K10: =L10/$L$2*10000 -> 210.94029 | L10: 118
A11: olev | B11: =IF(ISERROR(MATCH(A11,inimene!$A:$A,0)),"*",C11/LOOKUP(A11,inimene!$A:$A,inimene!$B:$B)) -> 0.72716362 | C11: =D11/$D$2*10000 -> 133.24624 | D11: 306 | E11: minema | F11: =IF(ISERROR(MATCH(E11,inimene!$D:$D,0)),"*",H11/LOOKUP(E11,inimene!$D:$D,inimene!$E:$E)) -> 1.4217163 | G11: =IF(ISERROR(MATCH(E11,poiss!$D:$D,0)),"*",H11/LOOKUP(E11,poiss!$D:$D,poiss!$E:$E)) -> 0.93125724 | H11: =I11/$I$2*10000 -> 207.04271 | I11: 508 | J11: lööma | K11: =L11/$L$2*10000 -> 209.15266 | L11: 117
A12: 14aastane | B12: =IF(ISERROR(MATCH(A12,inimene!$A:$A,0)),"*",C12/LOOKUP(A12,inimene!$A:$A,inimene!$B:$B)) -> * | C12: =D12/$D$2*10000 -> 129.76268 | D12: 298 | E12: vajama | F12: =IF(ISERROR(MATCH(E12,inimene!$D:$D,0)),"*",H12/LOOKUP(E12,inimene!$D:$D,inimene!$E:$E)) -> 1.327666 | G12: =IF(ISERROR(MATCH(E12,poiss!$D:$D,0)),"*",H12/LOOKUP(E12,poiss!$D:$D,poiss!$E:$E)) -> 4.9847011 | H12: =I12/$I$2*10000 -> 186.25693 | I12: 457 | J12: panema | K12: =L12/$L$2*10000 -> 191.27637 | L12: 107
A13: sündiv | B13: =IF(ISERROR(MATCH(A13,inimene!$A:$A,0)),"*",C13/LOOKUP(A13,inimene!$A:$A,inimene!$B:$B)) -> 150.64169 | C13: =D13/$D$2*10000 -> 123.231 | D13: 283 | E13: tahtma | F13: =IF(ISERROR(MATCH(E13,inimene!$D:$D,0)),"*",H13/LOOKUP(E13,inimene!$D:$D,inimene!$E:$E)) -> 0.71437921 | G13: =IF(ISERROR(MATCH(E13,poiss!$D:$D,0)),"*",H13/LOOKUP(E13,poiss!$D:$D,poiss!$E:$E)) -> 1.0494728 | H13: =I13/$I$2*10000 -> 181.36616 | I13: 445 | J13: võtma | K13: =L13/$L$2*10000 -> 191.27637 | L13: 107
A14: käiv | B14: =IF(ISERROR(MATCH(A14,inimene!$A:$A,0)),"*",C14/LOOKUP(A14,inimene!$A:$A,inimene!$B:$B)) -> 7.3906502 | C14: =D14/$D$2*10000 -> 121.92467 | D14: 280 | E14: tegema | F14: =IF(ISERROR(MATCH(E14,inimene!$D:$D,0)),"*",H14/LOOKUP(E14,inimene!$D:$D,inimene!$E:$E)) -> 0.74623672 | G14: =IF(ISERROR(MATCH(E14,poiss!$D:$D,0)),"*",H14/LOOKUP(E14,poiss!$D:$D,poiss!$E:$E)) -> 0.58930486 | H14: =I14/$I$2*10000 -> 158.54255 | I14: 389 | J14: sünnitama | K14: =L14/$L$2*10000 -> 182.33822 | L14: 102
... A190: kerjav | B190: =IF(ISERROR(MATCH(A190,inimene!$A:$A,0)),"*",C190/LOOKUP(A190,inimene!$A:$A,inimene!$B:$B)) -> * | C190: =D190/$D$2*10000 -> 6.0962334 | D190: 14 | E190: jäljendama | F190: =IF(ISERROR(MATCH(E190,inimene!$D:$D,0)),"*",H190/LOOKUP(E190,inimene!$D:$D,inimene!$E:$E)) -> * | G190: =IF(ISERROR(MATCH(E190,poiss!$D:$D,0)),"*",H190/LOOKUP(E190,poiss!$D:$D,poiss!$E:$E)) -> 2.1814884 | H190: =I190/$I$2*10000 -> 6.1134659 | I190: 15 | J190: takistama | K190: =L190/$L$2*10000 -> 7.1505184 | L190: 4
A191: 10-14aastane | B191: =IF(ISERROR(MATCH(A191,inimene!$A:$A,0)),"*",C191/LOOKUP(A191,inimene!$A:$A,inimene!$B:$B)) -> * | C191: =D191/$D$2*10000 -> 6.0962334 | D191: 14 | E191: igatsema | G191: =IF(ISERROR(MATCH(E191,poiss!$D:$D,0)),"*",H191/LOOKUP(E191,poiss!$D:$D,poiss!$E:$E)) -> 0.93492361 | H191: =I191/$I$2*10000 -> 6.1134659 | I191: 15 | J191: tunnustama | K191: =L191/$L$2*10000 -> 7.1505184 | L191: 4
A192: väikene | B192: =IF(ISERROR(MATCH(A192,inimene!$A:$A,0)),"*",C192/LOOKUP(A192,inimene!$A:$A,inimene!$B:$B)) -> * | C192: =D192/$D$2*10000 -> 6.0962334 | D192: 14 | E192: häbenema | G192: =IF(ISERROR(MATCH(E192,poiss!$D:$D,0)),"*",H192/LOOKUP(E192,poiss!$D:$D,poiss!$E:$E)) -> 1.0907442 | H192: =I192/$I$2*10000 -> 6.1134659 | I192: 15 | J192: suruma | K192: =L192/$L$2*10000 -> 7.1505184 | L192: 4
A193: sooviv | B193: =IF(ISERROR(MATCH(A193,inimene!$A:$A,0)),"*",C193/LOOKUP(A193,inimene!$A:$A,inimene!$B:$B)) -> 0.24567821 | C193: =D193/$D$2*10000 -> 6.0962334 | D193: 14 | E193: reisima | G193: =IF(ISERROR(MATCH(E193,poiss!$D:$D,0)),"*",H193/LOOKUP(E193,poiss!$D:$D,poiss!$E:$E)) -> 3.2722326 | H193: =I193/$I$2*10000 -> 6.1134659 | I193: 15 | J193: eraldama | K193: =L193/$L$2*10000 -> 7.1505184 | L193: 4
A194: tundlik | B194: =IF(ISERROR(MATCH(A194,inimene!$A:$A,0)),"*",C194/LOOKUP(A194,inimene!$A:$A,inimene!$B:$B)) -> 0.48601558 | C194: =D194/$D$2*10000 -> 6.0962334 | D194: 14 | E194: kalduma | G194: =IF(ISERROR(MATCH(E194,poiss!$D:$D,0)),"*",H194/LOOKUP(E194,poiss!$D:$D,poiss!$E:$E)) -> 1.6361163 | H194: =I194/$I$2*10000 -> 6.1134659 | I194: 15 | J194: rikkuma | K194: =L194/$L$2*10000 -> 7.1505184 | L194: 4
A195: särav | B195: =IF(ISERROR(MATCH(A195,inimene!$A:$A,0)),"*",C195/LOOKUP(A195,inimene!$A:$A,inimene!$B:$B)) -> 2.630202 | C195: =D195/$D$2*10000 -> 6.0962334 | D195: 14 | E195: harjutama | G195: =IF(ISERROR(MATCH(E195,poiss!$D:$D,0)),"*",H195/LOOKUP(E195,poiss!$D:$D,poiss!$E:$E)) -> 0.38496855 | H195: =I195/$I$2*10000 -> 6.1134659 | I195: 15 | J195: istuma | K195: =L195/$L$2*10000 -> 7.1505184 | L195: 4
A196: jooksev | B196: =IF(ISERROR(MATCH(A196,inimene!$A:$A,0)),"*",C196/LOOKUP(A196,inimene!$A:$A,inimene!$B:$B)) -> 2.1292111 | C196: =D196/$D$2*10000 -> 6.0962334 | D196: 14 | E196: rõõmustama | G196: =IF(ISERROR(MATCH(E196,poiss!$D:$D,0)),"*",H196/LOOKUP(E196,poiss!$D:$D,poiss!$E:$E)) -> 0.81805816 | H196: =I196/$I$2*10000 -> 6.1134659 | I196: 15 | J196: jätkuma | K196: =L196/$L$2*10000 -> 7.1505184 | L196: 4
A197: kandev | B197: =IF(ISERROR(MATCH(A197,inimene!$A:$A,0)),"*",C197/LOOKUP(A197,inimene!$A:$A,inimene!$B:$B)) -> 0.41021499 | C197: =D197/$D$2*10000 -> 6.0962334 | D197: 14 | E197: haarama | G197: =IF(ISERROR(MATCH(E197,poiss!$D:$D,0)),"*",H197/LOOKUP(E197,poiss!$D:$D,poiss!$E:$E)) -> 0.2337309 | H197: =I197/$I$2*10000 -> 6.1134659 | I197: 15 | J197: paluma | K197: =L197/$L$2*10000 -> 7.1505184 | L197: 4
A198: tegelev | B198: =IF(ISERROR(MATCH(A198,inimene!$A:$A,0)),"*",C198/LOOKUP(A198,inimene!$A:$A,inimene!$B:$B)) -> 0.13268081 | C198: =D198/$D$2*10000 -> 6.0962334 | D198: 14 | E198: koguma | G198: =IF(ISERROR(MATCH(E198,poiss!$D:$D,0)),"*",H198/LOOKUP(E198,poiss!$D:$D,poiss!$E:$E)) -> 0.65444653 | H198: =I198/$I$2*10000 -> 6.1134659 | I198: 15 | J198: drillima | K198: =L198/$L$2*10000 -> 5.3628888 | L198: 3
A199: kena | B199: =IF(ISERROR(MATCH(A199,inimene!$A:$A,0)),"*",C199/LOOKUP(A199,inimene!$A:$A,inimene!$B:$B)) -> 0.11040354 | C199: =D199/$D$2*10000 -> 6.0962334 | D199: 14 | E199: puuduma | G199: =IF(ISERROR(MATCH(E199,poiss!$D:$D,0)),"*",H199/LOOKUP(E199,poiss!$D:$D,poiss!$E:$E)) -> 0.93492361 | H199: =I199/$I$2*10000 -> 6.1134659 | I199: 15 | J199: kiigutama | K199: =L199/$L$2*10000 -> 5.3628888 | L199: 3
A200: pikkune | B200: =IF(ISERROR(MATCH(A200,inimene!$A:$A,0)),"*",C200/LOOKUP(A200,inimene!$A:$A,inimene!$B:$B)) -> 2.2356717 | C200: =D200/$D$2*10000 -> 6.0962334 | D200: 14 | E200: võitma | G200: =IF(ISERROR(MATCH(E200,poiss!$D:$D,0)),"*",H200/LOOKUP(E200,poiss!$D:$D,poiss!$E:$E)) -> 0.19248427 | H200: =I200/$I$2*10000 -> 6.1134659 | I200: 15 | J200: sandistama | K200: =L200/$L$2*10000 -> 5.3628888 | L200: 3
A201: valge | B201: =IF(ISERROR(MATCH(A201,inimene!$A:$A,0)),"*",C201/LOOKUP(A201,inimene!$A:$A,inimene!$B:$B)) -> 0.1201974 | C201: =D201/$D$2*10000 -> 6.0962334 | D201: 14 | E201: põlvnema | F201: =IF(ISERROR(MATCH(E201,inimene!$D:$D,0)),"*",H201/LOOKUP(E201,inimene!$D:$D,inimene!$E:$E)) -> 4.4078803 | G201: =IF(ISERROR(MATCH(E201,poiss!$D:$D,0)),"*",H201/LOOKUP(E201,poiss!$D:$D,poiss!$E:$E)) -> * | H201: =I201/$I$2*10000 -> 5.7059015 | I201: 14 | J201: võõrutama | K201: =L201/$L$2*10000 -> 5.3628888 | L201: 3
A202: õige | B202: =IF(ISERROR(MATCH(A202,inimene!$A:$A,0)),"*",C202/LOOKUP(A202,inimene!$A:$A,inimene!$B:$B)) -> 0.070414856 | C202: =D202/$D$2*10000 -> 6.0962334 | D202: 14 | E202: kisama | F202: =IF(ISERROR(MATCH(E202,inimene!$D:$D,0)),"*",H202/LOOKUP(E202,inimene!$D:$D,inimene!$E:$E)) -> 17.631521 | G202: =IF(ISERROR(MATCH(E202,poiss!$D:$D,0)),"*",H202/LOOKUP(E202,poiss!$D:$D,poiss!$E:$E)) -> 1.5270419 | H202: =I202/$I$2*10000 -> 5.7059015 | I202: 14 | J202: narrima | K202: =L202/$L$2*10000 -> 5.3628888 | L202: 3
A203: 3-7aastane | B203: =IF(ISERROR(MATCH(A203,inimene!$A:$A,0)),"*",C203/LOOKUP(A203,inimene!$A:$A,inimene!$B:$B)) -> * | C203: =D203/$D$2*10000 -> 5.6607882 | D203: 13 | E203: rippuma | F203: =IF(ISERROR(MATCH(E203,inimene!$D:$D,0)),"*",H203/LOOKUP(E203,inimene!$D:$D,inimene!$E:$E)) -> 7.0526084 | G203: =IF(ISERROR(MATCH(E203,poiss!$D:$D,0)),"*",H203/LOOKUP(E203,poiss!$D:$D,poiss!$E:$E)) -> 3.0540838 | H203: =I203/$I$2*10000 -> 5.7059015 | I203: 14 | J203: kägistama | K203: =L203/$L$2*10000 -> 5.3628888 | L203: 3
A204: 8-12aastane | B204: =IF(ISERROR(MATCH(A204,inimene!$A:$A,0)),"*",C204/LOOKUP(A204,inimene!$A:$A,inimene!$B:$B)) -> * | C204: =D204/$D$2*10000 -> 5.6607882 | D204: 13 | E204: lõhkuma | F204: =IF(ISERROR(MATCH(E204,inimene!$D:$D,0)),"*",H204/LOOKUP(E204,inimene!$D:$D,inimene!$E:$E)) -> 5.0375774 | G204: =IF(ISERROR(MATCH(E204,poiss!$D:$D,0)),"*",H204/LOOKUP(E204,poiss!$D:$D,poiss!$E:$E)) -> 0.30540838 | H204: =I204/$I$2*10000 -> 5.7059015 | I204: 14 | J204: kostitama | K204: =L204/$L$2*10000 -> 5.3628888 | L204: 3
A205: 2-3aastane | B205: =IF(ISERROR(MATCH(A205,inimene!$A:$A,0)),"*",C205/LOOKUP(A205,inimene!$A:$A,inimene!$B:$B)) -> * | C205: =D205/$D$2*10000 -> 5.6607882 | D205: 13 | E205: sundima | F205: =IF(ISERROR(MATCH(E205,inimene!$D:$D,0)),"*",H205/LOOKUP(E205,inimene!$D:$D,inimene!$E:$E)) -> 4.4078803 | G205: =IF(ISERROR(MATCH(E205,poiss!$D:$D,0)),"*",H205/LOOKUP(E205,poiss!$D:$D,poiss!$E:$E)) -> 1.0180279 | H205: =I205/$I$2*10000 -> 5.7059015 | I205: 14 | J205: paeluma | K205: =L205/$L$2*10000 -> 5.3628888 | L205: 3
A206: 3-4aastane | B206: =IF(ISERROR(MATCH(A206,inimene!$A:$A,0)),"*",C206/LOOKUP(A206,inimene!$A:$A,inimene!$B:$B)) -> * | C206: =D206/$D$2*10000 -> 5.6607882 | D206: 13 | E206: taipama | G206: =IF(ISERROR(MATCH(E206,poiss!$D:$D,0)),"*",H206/LOOKUP(E206,poiss!$D:$D,poiss!$E:$E)) -> 0.33934264 | H206: =I206/$I$2*10000 -> 5.7059015 | I206: 14 | J206: elustama | K206: =L206/$L$2*10000 -> 5.3628888 | L206: 3
A207: 11-12aastane | B207: =IF(ISERROR(MATCH(A207,inimene!$A:$A,0)),"*",C207/LOOKUP(A207,inimene!$A:$A,inimene!$B:$B)) -> * | C207: =D207/$D$2*10000 -> 5.6607882 | D207: 13 | E207: imestama | G207: =IF(ISERROR(MATCH(E207,poiss!$D:$D,0)),"*",H207/LOOKUP(E207,poiss!$D:$D,poiss!$E:$E)) -> 0.43629769 | H207: =I207/$I$2*10000 -> 5.7059015 | I207: 14 | J207: õnnistama | K207: =L207/$L$2*10000 -> 5.3628888 | L207: 3
